BEGIN:VCALENDAR
VERSION:2.0
PRODID:-//UCSF - Universidad Católica de Santa Fe - ECPv5.14.2.1//NONSGML v1.0//EN
CALSCALE:GREGORIAN
METHOD:PUBLISH
X-WR-CALNAME:UCSF - Universidad Católica de Santa Fe
X-ORIGINAL-URL:https://www.ucsf.edu.ar
X-WR-CALDESC:Events for UCSF - Universidad Católica de Santa Fe
REFRESH-INTERVAL;VALUE=DURATION:PT1H
X-Robots-Tag:noindex
X-PUBLISHED-TTL:PT1H
BEGIN:VTIMEZONE
TZID:America/Argentina/Buenos_Aires
BEGIN:STANDARD
TZOFFSETFROM:-0300
TZOFFSETTO:-0300
TZNAME:-03
DTSTART:20240101T000000
END:STANDARD
END:VTIMEZONE
BEGIN:VEVENT
DTSTART;VALUE=DATE:20240610
DTEND;VALUE=DATE:20240611
DTSTAMP:20260420T160401
CREATED:20240528T205348Z
LAST-MODIFIED:20240610T140728Z
UID:72302-1717977600-1718063999@www.ucsf.edu.ar
SUMMARY:Compartimos un chocolate: 67° Aniversario de la UCSF
DESCRIPTION:El lunes 10 de junio celebramos un nuevo aniversario de nuestra Universidad.\n¡Te invitamos a acercarte a tu sede para compartir un chocolate! \n\nSanta Fe: 10 y 16 hs.\nReconquista: 10 y 18 hs.\nPosadas: 9 y 16 hs.\nRosario: 10.30 y 17 hs.\nRafaela: 17 hs.\nGualeguaychú: 19 hs.
URL:https://www.ucsf.edu.ar/evento/compartimos-un-chocolate-67-aniversario-de-la-ucsf/
LOCATION:UCSF\, Echagüe 7151\, Santa Fe Capital\, Santa Fe\, 3000\, Argentina
CATEGORIES:Arquitectura y Diseño,Home principal,Facultades,Ciencias Agropecuarias,Santa Fe,Alumnos,Docentes,Ciencias de la Salud,Carreras de Grado,Rosario,Posadas,Personal UCSF,Ciencias Económicas,Reconquista,Derecho y Ciencia Política,Carreras de Posgrado,Rafaela,LA UCSF,Filosofía y Humanidades,Gualeguaychú,Comunidad,Psicología,Posgrados,Bienestar universitario,Sedes
ATTACH;FMTTYPE=image/jpeg:https://www.ucsf.edu.ar/wp-content/uploads/2024/05/Chocolate-2024_todas-las-sedes.jpg
ORGANIZER;CN="Bienestar%20Universitario":MAILTO:debora@furman.com.ar
END:VEVENT
END:VCALENDAR