BEGIN:VCALENDAR
VERSION:2.0
PRODID:-//UCSF - Universidad Católica de Santa Fe - ECPv5.14.2.1//NONSGML v1.0//EN
CALSCALE:GREGORIAN
METHOD:PUBLISH
X-WR-CALNAME:UCSF - Universidad Católica de Santa Fe
X-ORIGINAL-URL:https://www.ucsf.edu.ar
X-WR-CALDESC:Events for UCSF - Universidad Católica de Santa Fe
REFRESH-INTERVAL;VALUE=DURATION:PT1H
X-Robots-Tag:noindex
X-PUBLISHED-TTL:PT1H
BEGIN:VTIMEZONE
TZID:America/Argentina/Buenos_Aires
BEGIN:STANDARD
TZOFFSETFROM:-0300
TZOFFSETTO:-0300
TZNAME:-03
DTSTART:20240101T000000
END:STANDARD
END:VTIMEZONE
BEGIN:VEVENT
DTSTART;TZID=America/Argentina/Buenos_Aires:20241023T190000
DTEND;TZID=America/Argentina/Buenos_Aires:20241023T210000
DTSTAMP:20260420T094038
CREATED:20241017T200341Z
LAST-MODIFIED:20241018T212539Z
UID:77304-1729710000-1729717200@www.ucsf.edu.ar
SUMMARY:Webinar: Clones sintéticos e identidad digital
DESCRIPTION:Comentarios sobre el bien jurídico protegido en la regulación del deepfake\nDisertación a cargo del Dr. Raúl Madrid Ramírez\, profesor titular de Filosofía del Derecho en la Pontificia Universidad Católica de Chile y Director del Programa de Derecho\, Ciencia y Tecnología \nOrganiza: Instituto de Filosofía del Derecho y Derechos Humanos de la FDCP \nModalidad virtual a través de la plataforma Zoom \nInscripciones ➨➨➨ https://forms.office.com/r/zT3SGqhuYi \n \n 
URL:https://www.ucsf.edu.ar/evento/webinar-clones-sinteticos-e-identidad-digital/
LOCATION:UCSF Santa Fe\, Echagüe 7151\, Santa Fe\, Santa Fe\, Argentina
CATEGORIES:Abogacía,Santa Fe,Alumnos,Docentes,Derecho y Ciencia Política,Notariado,Procuración
GEO:-31.6069451;-60.6709418
X-APPLE-STRUCTURED-LOCATION;VALUE=URI;X-ADDRESS=UCSF Santa Fe Echagüe 7151 Santa Fe Santa Fe Argentina;X-APPLE-RADIUS=500;X-TITLE=Echagüe 7151:geo:-60.6709418,-31.6069451
END:VEVENT
END:VCALENDAR