BEGIN:VCALENDAR
VERSION:2.0
PRODID:-//UCSF - Universidad Católica de Santa Fe - ECPv5.14.2.1//NONSGML v1.0//EN
CALSCALE:GREGORIAN
METHOD:PUBLISH
X-WR-CALNAME:UCSF - Universidad Católica de Santa Fe
X-ORIGINAL-URL:https://www.ucsf.edu.ar
X-WR-CALDESC:Events for UCSF - Universidad Católica de Santa Fe
REFRESH-INTERVAL;VALUE=DURATION:PT1H
X-Robots-Tag:noindex
X-PUBLISHED-TTL:PT1H
BEGIN:VTIMEZONE
TZID:America/Argentina/Buenos_Aires
BEGIN:STANDARD
TZOFFSETFROM:-0300
TZOFFSETTO:-0300
TZNAME:-03
DTSTART:20240101T000000
END:STANDARD
END:VTIMEZONE
BEGIN:VEVENT
DTSTART;TZID=America/Argentina/Buenos_Aires:20240405T180000
DTEND;TZID=America/Argentina/Buenos_Aires:20240405T180000
DTSTAMP:20260420T223811
CREATED:20240325T200832Z
LAST-MODIFIED:20240325T200832Z
UID:70107-1712340000-1712340000@www.ucsf.edu.ar
SUMMARY:Acto de Colación – Egresados 2023 – Sede Virgen de Guadalupe
DESCRIPTION:El viernes 5 de abril a las 18 h. será el Acto de Colación de los egresados 2023 de las Facultades de Derecho y Ciencia Política\, Filosofía y Humanidades y el Departamento Posgrado en la Sede “Virgen de Guadalupe” en Santa Fe. \nPor informes o confirmación de asistencia\, comunicarse vía mail a graduados@ucsf.edu.ar o al teléfono 0342 4603030 int. 170
URL:https://www.ucsf.edu.ar/evento/acto-de-colacion-egresados-2023-sede-virgen-de-guadalupe/
LOCATION:UCSF Santa Fe\, Echagüe 7151\, Santa Fe\, Santa Fe\, Argentina
CATEGORIES:Facultades,Derecho y Ciencia Política,Filosofía y Humanidades,Posgrados
ATTACH;FMTTYPE=image/png:https://www.ucsf.edu.ar/wp-content/uploads/2024/03/Colacion-SFE-FCE-y-FCS-26.png
GEO:-31.6069451;-60.6709418
X-APPLE-STRUCTURED-LOCATION;VALUE=URI;X-ADDRESS=UCSF Santa Fe Echagüe 7151 Santa Fe Santa Fe Argentina;X-APPLE-RADIUS=500;X-TITLE=Echagüe 7151:geo:-60.6709418,-31.6069451
END:VEVENT
END:VCALENDAR