BEGIN:VCALENDAR
VERSION:2.0
PRODID:-//UCSF - Universidad Católica de Santa Fe - ECPv5.14.2.1//NONSGML v1.0//EN
CALSCALE:GREGORIAN
METHOD:PUBLISH
X-WR-CALNAME:UCSF - Universidad Católica de Santa Fe
X-ORIGINAL-URL:https://www.ucsf.edu.ar
X-WR-CALDESC:Events for UCSF - Universidad Católica de Santa Fe
REFRESH-INTERVAL;VALUE=DURATION:PT1H
X-Robots-Tag:noindex
X-PUBLISHED-TTL:PT1H
BEGIN:VTIMEZONE
TZID:America/Argentina/Buenos_Aires
BEGIN:STANDARD
TZOFFSETFROM:-0300
TZOFFSETTO:-0300
TZNAME:-03
DTSTART:20240101T000000
END:STANDARD
END:VTIMEZONE
BEGIN:VEVENT
DTSTART;TZID=America/Argentina/Buenos_Aires:20240517T153000
DTEND;TZID=America/Argentina/Buenos_Aires:20240517T193000
DTSTAMP:20260421T001900
CREATED:20240410T210439Z
LAST-MODIFIED:20240430T110911Z
UID:70448-1715959800-1715974200@www.ucsf.edu.ar
SUMMARY:Jornadas Interdisciplinarias de Actualidad en el Derecho Laboral
DESCRIPTION:Las Jornadas Interdisciplinarias de Actualidad en el Derecho Laboral reunirán a especialistas y profesionales con experticia para discutir y/o intercambiar temas relevantes y compartir conocimientos; convirtiéndose en una excelente oportunidad para aportar información significativa que conecte a los profesionales del derecho y los contadores con el mundo empresarial y gremial en sus realidades actuales\, buscando dar respuesta a las necesidades\, problemas\, novedades con la incorporación de la Inteligencia Artificial que interpela al mundo laboral en todas sus dimensiones. \nLas mismas están dirigidas a los profesionales de la abogacía y contadores del ámbito local\, alumnos y graduados de las Facultades de Derecho y Ciencia Política y de Ciencias Económicas\, extendiéndolo tanto a las empresas agroindustriales productoras y exportadoras de la Región Norte de Santa Fe\, como a las entidades gremiales representantes de los trabajadores para instalar en el escenario local la necesidad de cambio en la legislación laboral atravesada por el uso de las nuevas tecnologías. \nDisertantes: Dr. Aníbal Cuadrado\, Dr. Ramiro Ruiz Fernández\, Dr. Diego Guirado\, Dr. Marcelo Giuliani. \nFecha y hora: 17 y 18 de mayo desde las 15:30 hs \nLugar: sede San Jerónimo (Reconquista) de la Universidad Católica de Santa Fe\, Ludueña 612
URL:https://www.ucsf.edu.ar/evento/jornadas-interdisciplinarias-de-actualidad-en-el-derecho-laboral/
LOCATION:UCSF Sede Reconquista\, Ludueña 612\, Reconquista\, Santa Fe\, Argentina
CATEGORIES:Abogacía,Santa Fe,Alumnos,Docentes,Reconquista,Derecho y Ciencia Política,Martillero Público y Corredor Inmobiliario,Notariado
ATTACH;FMTTYPE=image/jpeg:https://www.ucsf.edu.ar/wp-content/uploads/2024/04/WhatsApp-Image-2024-04-10-at-16.27.11.jpeg
GEO:-29.1437691;-59.641047
X-APPLE-STRUCTURED-LOCATION;VALUE=URI;X-ADDRESS=UCSF Sede Reconquista Ludueña 612 Reconquista Santa Fe Argentina;X-APPLE-RADIUS=500;X-TITLE=Ludueña 612:geo:-59.641047,-29.1437691
END:VEVENT
END:VCALENDAR