BEGIN:VCALENDAR
VERSION:2.0
PRODID:-//UCSF - Universidad Católica de Santa Fe - ECPv5.14.2.1//NONSGML v1.0//EN
CALSCALE:GREGORIAN
METHOD:PUBLISH
X-WR-CALNAME:UCSF - Universidad Católica de Santa Fe
X-ORIGINAL-URL:https://www.ucsf.edu.ar
X-WR-CALDESC:Events for UCSF - Universidad Católica de Santa Fe
REFRESH-INTERVAL;VALUE=DURATION:PT1H
X-Robots-Tag:noindex
X-PUBLISHED-TTL:PT1H
BEGIN:VTIMEZONE
TZID:America/Argentina/Buenos_Aires
BEGIN:STANDARD
TZOFFSETFROM:-0300
TZOFFSETTO:-0300
TZNAME:-03
DTSTART:20240101T000000
END:STANDARD
END:VTIMEZONE
BEGIN:VEVENT
DTSTART;TZID=America/Argentina/Buenos_Aires:20241003T180000
DTEND;TZID=America/Argentina/Buenos_Aires:20241003T200000
DTSTAMP:20260420T130256
CREATED:20240906T151544Z
LAST-MODIFIED:20241001T202819Z
UID:75971-1727978400-1727985600@www.ucsf.edu.ar
SUMMARY:Encuentro de Diálogo Perspectivas Federales: Modelo Productivo Argentina 2050
DESCRIPTION:🗣️CPN Juan Schiaretti\nEx gobernador de la Provincia de Córdoba.\n🗣️ Dr. Facundo Manes\nMédico\, científico\, docente y diputado nacional.\n+ Perspectivas Locales\n📆 3 de Octubre\n🕜 18:00 hs.\n📌Echagüe 7151 – Sede UCSF \nOrganizan e invitan\nUniversidad Católica de Santa Fe\nAgencia para el Desarrollo de Santa Fe y su Región \nInscripciones\nhttps://forms.gle/TzXTKyq6TDi6Sp5a8
URL:https://www.ucsf.edu.ar/evento/perspectiva-y-dialogo-hacia-una-vision-nacional/
LOCATION:UCSF Santa Fe\, Echagüe 7151\, Santa Fe\, Santa Fe\, Argentina
CATEGORIES:Abogacía,Santa Fe,Derecho y Ciencia Política,Comunidad,Licenciatura en Relaciones Internacionales,Martillero Público y Corredor Inmobiliario,Notariado,Procuración,OPI - Observatorio de Política Internacional
ATTACH;FMTTYPE=image/jpeg:https://www.ucsf.edu.ar/wp-content/uploads/2024/09/WhatsApp-Image-2024-09-06-at-11.57.05.jpeg
GEO:-31.6069451;-60.6709418
X-APPLE-STRUCTURED-LOCATION;VALUE=URI;X-ADDRESS=UCSF Santa Fe Echagüe 7151 Santa Fe Santa Fe Argentina;X-APPLE-RADIUS=500;X-TITLE=Echagüe 7151:geo:-60.6709418,-31.6069451
END:VEVENT
END:VCALENDAR