BEGIN:VCALENDAR
VERSION:2.0
PRODID:-//UCSF - Universidad Católica de Santa Fe - ECPv5.14.2.1//NONSGML v1.0//EN
CALSCALE:GREGORIAN
METHOD:PUBLISH
X-WR-CALNAME:UCSF - Universidad Católica de Santa Fe
X-ORIGINAL-URL:https://www.ucsf.edu.ar
X-WR-CALDESC:Events for UCSF - Universidad Católica de Santa Fe
REFRESH-INTERVAL;VALUE=DURATION:PT1H
X-Robots-Tag:noindex
X-PUBLISHED-TTL:PT1H
BEGIN:VTIMEZONE
TZID:America/Argentina/Buenos_Aires
BEGIN:STANDARD
TZOFFSETFROM:-0300
TZOFFSETTO:-0300
TZNAME:-03
DTSTART:20260101T000000
END:STANDARD
END:VTIMEZONE
BEGIN:VEVENT
DTSTART;VALUE=DATE:20260917
DTEND;VALUE=DATE:20260918
DTSTAMP:20260419T132744
CREATED:20260123T121547Z
LAST-MODIFIED:20260130T112245Z
UID:91142-1789603200-1789689599@www.ucsf.edu.ar
SUMMARY:Día del Docente UCSF
DESCRIPTION:Sin actividad académica; solo actividades administrativas en las sedes UCSF.
URL:https://www.ucsf.edu.ar/evento/dia-del-docente-ucsf-3/
LOCATION:UCSF\, Echagüe 7151\, Santa Fe Capital\, Santa Fe\, 3000\, Argentina
CATEGORIES:Home principal
END:VEVENT
BEGIN:VEVENT
DTSTART;VALUE=DATE:20260921
DTEND;VALUE=DATE:20260922
DTSTAMP:20260419T132744
CREATED:20260123T121758Z
LAST-MODIFIED:20260130T112242Z
UID:91144-1789948800-1790035199@www.ucsf.edu.ar
SUMMARY:Día del Estudiante y el Personal UCSF
DESCRIPTION:Sin actividades admnistrativas ni académicas.
URL:https://www.ucsf.edu.ar/evento/dia-del-estudiante-y-el-personal-ucsf/
LOCATION:UCSF\, Echagüe 7151\, Santa Fe Capital\, Santa Fe\, 3000\, Argentina
CATEGORIES:Home principal
END:VEVENT
BEGIN:VEVENT
DTSTART;VALUE=DATE:20260929
DTEND;VALUE=DATE:20260930
DTSTAMP:20260419T132744
CREATED:20260123T125229Z
LAST-MODIFIED:20260123T125246Z
UID:91164-1790640000-1790726399@www.ucsf.edu.ar
SUMMARY:Solemnidad de San Miguel Arcángel\, Patrono provincia de Entre Ríos - Feriado provincial
DESCRIPTION:La sede UCSF Gualeguaychú permanecerá cerrada.
URL:https://www.ucsf.edu.ar/evento/solemnidad-de-san-miguel-arcangel-patrono-provincia-de-entre-rios-feriado-provincial/
LOCATION:UCSF Sede Gualeguaychú\, Primera Junta 75\, Gualeguaychú\, Entre Ríos\, Argentina
CATEGORIES:Home principal
END:VEVENT
BEGIN:VEVENT
DTSTART;VALUE=DATE:20260930
DTEND;VALUE=DATE:20261001
DTSTAMP:20260419T132744
CREATED:20260123T123241Z
LAST-MODIFIED:20260123T123241Z
UID:91154-1790726400-1790812799@www.ucsf.edu.ar
SUMMARY:Día de San Jerónimo - Feriado provincial para Santa Fe
DESCRIPTION:La sede UCSF Virgen de Guadalupe (Santa Fe) permanecerá cerrada.
URL:https://www.ucsf.edu.ar/evento/dia-de-san-jeronimo-feriado-provincial-para-santa-fe/
LOCATION:UCSF Santa Fe\, Echagüe 7151\, Santa Fe\, Santa Fe\, Argentina
CATEGORIES:Home principal
GEO:-31.6069451;-60.6709418
X-APPLE-STRUCTURED-LOCATION;VALUE=URI;X-ADDRESS=UCSF Santa Fe Echagüe 7151 Santa Fe Santa Fe Argentina;X-APPLE-RADIUS=500;X-TITLE=Echagüe 7151:geo:-60.6709418,-31.6069451
END:VEVENT
END:VCALENDAR