BEGIN:VCALENDAR
VERSION:2.0
PRODID:-//UCSF - Universidad Católica de Santa Fe - ECPv5.14.2.1//NONSGML v1.0//EN
CALSCALE:GREGORIAN
METHOD:PUBLISH
X-WR-CALNAME:UCSF - Universidad Católica de Santa Fe
X-ORIGINAL-URL:https://www.ucsf.edu.ar
X-WR-CALDESC:Events for UCSF - Universidad Católica de Santa Fe
REFRESH-INTERVAL;VALUE=DURATION:PT1H
X-Robots-Tag:noindex
X-PUBLISHED-TTL:PT1H
BEGIN:VTIMEZONE
TZID:America/Argentina/Buenos_Aires
BEGIN:STANDARD
TZOFFSETFROM:-0300
TZOFFSETTO:-0300
TZNAME:-03
DTSTART:20260101T000000
END:STANDARD
END:VTIMEZONE
BEGIN:VEVENT
DTSTART;VALUE=DATE:20261007
DTEND;VALUE=DATE:20261008
DTSTAMP:20260420T032934
CREATED:20260123T125012Z
LAST-MODIFIED:20260123T125012Z
UID:91162-1791331200-1791417599@www.ucsf.edu.ar
SUMMARY:Día de la Virgen del Rosario\, Patrona de la ciudad de Rosario - Feriado provincial para Santa Fe
DESCRIPTION:La sede UCSF Rosario permanecerá cerrada.
URL:https://www.ucsf.edu.ar/evento/dia-de-la-virgen-del-rosario-patrona-de-la-ciudad-de-rosario-feriado-provincial-para-santa-fe/
LOCATION:UCSF Sede Rosario\, Moreno 1056\, Rosario\, Santa Fe\, 2000\, Argentina
CATEGORIES:Home principal
GEO:-32.9491666;-60.6519119
X-APPLE-STRUCTURED-LOCATION;VALUE=URI;X-ADDRESS=UCSF Sede Rosario Moreno 1056 Rosario Santa Fe 2000 Argentina;X-APPLE-RADIUS=500;X-TITLE=Moreno 1056:geo:-60.6519119,-32.9491666
END:VEVENT
BEGIN:VEVENT
DTSTART;VALUE=DATE:20261007
DTEND;VALUE=DATE:20261008
DTSTAMP:20260420T032934
CREATED:20260123T125434Z
LAST-MODIFIED:20260123T125434Z
UID:91167-1791331200-1791417599@www.ucsf.edu.ar
SUMMARY:Día de la Virgen del Rosario\, Patrona de Gualeguaychú - Feriado provincial de Entre Ríos
DESCRIPTION:La sede UCSF Gualeguaychú permanecerá cerrada.
URL:https://www.ucsf.edu.ar/evento/dia-de-la-virgen-del-rosario-patrona-de-gualeguaychu-feriado-provincial-de-entre-rios/
LOCATION:UCSF Sede Gualeguaychú\, Primera Junta 75\, Gualeguaychú\, Entre Ríos\, Argentina
CATEGORIES:Home principal
END:VEVENT
END:VCALENDAR