BEGIN:VCALENDAR
VERSION:2.0
PRODID:-//UCSF - Universidad Católica de Santa Fe - ECPv5.14.2.1//NONSGML v1.0//EN
CALSCALE:GREGORIAN
METHOD:PUBLISH
X-WR-CALNAME:UCSF - Universidad Católica de Santa Fe
X-ORIGINAL-URL:https://www.ucsf.edu.ar
X-WR-CALDESC:Events for UCSF - Universidad Católica de Santa Fe
REFRESH-INTERVAL;VALUE=DURATION:PT1H
X-Robots-Tag:noindex
X-PUBLISHED-TTL:PT1H
BEGIN:VTIMEZONE
TZID:America/Argentina/Buenos_Aires
BEGIN:STANDARD
TZOFFSETFROM:-0300
TZOFFSETTO:-0300
TZNAME:-03
DTSTART:20260101T000000
END:STANDARD
END:VTIMEZONE
BEGIN:VEVENT
DTSTART;VALUE=DATE:20261024
DTEND;VALUE=DATE:20261025
DTSTAMP:20260420T050516
CREATED:20260123T123857Z
LAST-MODIFIED:20260123T123857Z
UID:91160-1792800000-1792886399@www.ucsf.edu.ar
SUMMARY:Fundación de la ciudad de Rafaela - Feriado provincial para Santa Fe
DESCRIPTION:La sede UCSF San José (Rafaela) permanecerá cerrada.
URL:https://www.ucsf.edu.ar/evento/fundacion-de-la-ciudad-de-rafaela-feriado-provincial-para-santa-fe/
LOCATION:UCSF Sede Rafaela\, Saavedra 472\, Rafaela\, Santa Fe\, Argentina
CATEGORIES:Home principal
END:VEVENT
END:VCALENDAR