BEGIN:VCALENDAR
VERSION:2.0
PRODID:-//UCSF - Universidad Católica de Santa Fe - ECPv5.14.2.1//NONSGML v1.0//EN
CALSCALE:GREGORIAN
METHOD:PUBLISH
X-WR-CALNAME:UCSF - Universidad Católica de Santa Fe
X-ORIGINAL-URL:https://www.ucsf.edu.ar
X-WR-CALDESC:Events for UCSF - Universidad Católica de Santa Fe
REFRESH-INTERVAL;VALUE=DURATION:PT1H
X-Robots-Tag:noindex
X-PUBLISHED-TTL:PT1H
BEGIN:VTIMEZONE
TZID:America/Argentina/Buenos_Aires
BEGIN:STANDARD
TZOFFSETFROM:-0300
TZOFFSETTO:-0300
TZNAME:-03
DTSTART:20240101T000000
END:STANDARD
END:VTIMEZONE
BEGIN:VEVENT
DTSTART;TZID=America/Argentina/Buenos_Aires:20240828T190000
DTEND;TZID=America/Argentina/Buenos_Aires:20240828T203000
DTSTAMP:20260421T224833
CREATED:20240808T215049Z
LAST-MODIFIED:20240808T220419Z
UID:74958-1724871600-1724877000@www.ucsf.edu.ar
SUMMARY:La filosofía del teólogo Tomás de Aquino\, su vigencia ante algunos problemas actuales
DESCRIPTION:En conmemoración del 800 aniversario del nacimiento de Santo Tomás de Aquino\, la Universidad Católica de Santa Fe\, a través del Dpto. de Filosofía y Teología se propone celebrar la relevancia perdurable de las enseñanzas de Aquino en el mundo contemporáneo. \nA tales efectos\, invita a la conferencia que llevará a cabo el Dr. Juan Carlos Pablo Ballesteros\, quien explorará cómo la filosofía de Aquino puede proporcionar una perspectiva única y valiosa sobre cuestiones contemporáneas como los límites del lenguaje y la naturaleza de Dios; el tomismo y el liberalismo político: la naturaleza humana\, la propiedad y su función social\, el bien común; los conflictos interculturales; el tomismo y los derechos humanos\, entre otros. \nEsperamos que este evento sirva no solo para honrar la memoria y el legado de Santo Tomás de Aquino\, sino también para inspirar a las nuevas generaciones a conocer y revalorizar su pensamiento en nuestro mundo actual. \n+Info e Inscripción: mballabeni@ucsf.edu.ar
URL:https://www.ucsf.edu.ar/evento/la-filosofia-del-teologo-tomas-de-aquino-su-vigencia-ante-algunos-problemas-actuales/
LOCATION:UCSF Santa Fe\, Echagüe 7151\, Santa Fe\, Santa Fe\, Argentina
CATEGORIES:Pastoral,Cultura: coros y teatro,Santa Fe,Alumnos,Rosario,Docentes,Posadas,Personal UCSF,Ciclos de complementación,Reconquista,Rafaela,Gualeguaychú,Vicerrectorado de Formación,Comunidad,Licenciatura en Medios Digitales (CCC),Bienestar universitario,Sedes,Licenciatura en Negocios Digitales (CCC),Licenciatura en Psicomotricidad (CCC),Licenciatura en Seguridad Alimentaria (CCC),Profesorado en Historia (CCC),IF Instituto de Filosofía,Profesorado en Lengua y Literatura (CCC)
ATTACH;FMTTYPE=image/png:https://www.ucsf.edu.ar/wp-content/uploads/2024/08/La-filosofia-del-teologo-Tomas-de-Aquino_FLYER.png
ORGANIZER;CN="Departamento%20de%20Filosof%C3%ADa%20y%20Teolog%C3%ADa":MAILTO:mballabeni@ucsf.edu.ar
GEO:-31.6069451;-60.6709418
X-APPLE-STRUCTURED-LOCATION;VALUE=URI;X-ADDRESS=UCSF Santa Fe Echagüe 7151 Santa Fe Santa Fe Argentina;X-APPLE-RADIUS=500;X-TITLE=Echagüe 7151:geo:-60.6709418,-31.6069451
END:VEVENT
BEGIN:VEVENT
DTSTART;TZID=America/Argentina/Buenos_Aires:20250808T170000
DTEND;TZID=America/Argentina/Buenos_Aires:20250808T193000
DTSTAMP:20260421T224833
CREATED:20250704T190334Z
LAST-MODIFIED:20250704T190334Z
UID:84076-1754672400-1754681400@www.ucsf.edu.ar
SUMMARY:Conversatorio en ocasión de cumplirse los 1700 años del Concilio de Nicea
DESCRIPTION:El Concilio de Nicea\, celebrado en el año 325 d.C.\, fue un evento crucial en la historia del cristianismo. En este concilio\, se establecieron definiciones dogmáticas fundamentales sobre la naturaleza de Jesucristo\, afirmando su plena divinidad y humanidad. Estas definiciones\, contenidas en el Credo Niceno\, han sido pilares de la fe cristiana y han influido profundamente en la Teología y la doctrina de la Iglesia. \nEn nuestra cultura contemporánea\, caracterizada por la diversidad de creencias y la búsqueda de sentido en un mundo cada vez más secularizado\, es esencial reflexionar sobre el impacto y la relevancia de estas definiciones dogmáticas. Este conversatorio se propone explorar cómo las afirmaciones del Concilio de Nicea sobre la humanidad y divinidad del Hijo de Dios pueden dialogar con las inquietudes y desafíos actuales. \n         Quienes estarán a cargo del conversatorio serán: el Dr. Juan Carlos Alby (UCSF)\, el Pbro. Dr. Alejandro E. Nicola (PUC) y el Lic. Sebastián Sangoi (Universidad Gregoriana). \nDestinado a estudiantes\, docentes\, graduados e invitados externos con interés en la Teología\, la Filosofía y el pensamiento crítico\, pertenecientes a la comunidad de la UCSF y público en general interesado en el tema. \nFecha y hora: 8 de agosto\, 17 hs. \nLugar: UCSF – Sede Virgen de Guadalupe – Aula: 3.51 \nModalidad: Presencial \nOrganiza: Dpto. de Filosofía y Teología \nCo-organiza: Fac. de Filosofía y Humanidades – Instituto de Filosofía \nInformes e inscripción: mballabeni@ucsf.edu.ar \n  \n 
URL:https://www.ucsf.edu.ar/evento/conversatorio-en-ocasion-de-cumplirse-los-1700-anos-del-concilio-de-nicea/
LOCATION:UCSF Santa Fe\, Echagüe 7151\, Santa Fe\, Santa Fe\, Argentina
CATEGORIES:Pastoral,Santa Fe,Alumnos,Rosario,Docentes,Posadas,Reconquista,Departamento de Filosofía y Teología,Rafaela,Gualeguaychú,Comunidad,IF Instituto de Filosofía
ATTACH;FMTTYPE=image/jpeg:https://www.ucsf.edu.ar/wp-content/uploads/2025/07/1700-anos-del-Concilio-de-Nicea_feed-3.jpg
ORGANIZER;CN="Departamento%20de%20Filosof%C3%ADa%20y%20Teolog%C3%ADa":MAILTO:mballabeni@ucsf.edu.ar
GEO:-31.6069451;-60.6709418
X-APPLE-STRUCTURED-LOCATION;VALUE=URI;X-ADDRESS=UCSF Santa Fe Echagüe 7151 Santa Fe Santa Fe Argentina;X-APPLE-RADIUS=500;X-TITLE=Echagüe 7151:geo:-60.6709418,-31.6069451
END:VEVENT
BEGIN:VEVENT
DTSTART;TZID=America/Argentina/Buenos_Aires:20251204T170000
DTEND;TZID=America/Argentina/Buenos_Aires:20251204T200000
DTSTAMP:20260421T224833
CREATED:20251201T205232Z
LAST-MODIFIED:20251201T211453Z
UID:90052-1764867600-1764878400@www.ucsf.edu.ar
SUMMARY:Cine Debate y Muestra "La Rosa Blanca: Rostros de una Amistad"
DESCRIPTION:Cine Debate – Película Los Últimos Días (Sophie Scholl)\nInauguración Muestra “La Rosa Blanca: Rostros de una Amistad”\nJueves 4 de diciembre \n17 a 20 hs. \nAula 3.7\, sede Virgen de Guadalupe (Echagüe 7151) \nActividad gratuita con inscripción a libarlucea@ucsf.edu.ar \nOrganiza Facultad de Filosofía y Humanidades y RECC (Rebeldes con Causa).
URL:https://www.ucsf.edu.ar/evento/cine-debate-y-muestra-la-rosa-blanca-rostros-de-una-amistad/
LOCATION:UCSF Santa Fe\, Echagüe 7151\, Santa Fe\, Santa Fe\, Argentina
CATEGORIES:Home principal,Pastoral,Santa Fe,Alumnos,Cultura: coros y teatro,Personal UCSF,RSU,Filosofía y Humanidades,Licenciatura en Ciencias de la Comunicación,Licenciatura en Filosofía,IF Instituto de Filosofía
ATTACH;FMTTYPE=image/jpeg:https://www.ucsf.edu.ar/wp-content/uploads/2025/12/Cine-Debate_web.jpg
ORGANIZER;CN="Facultad%20de%20Filosofia%20y%20Humanidades":MAILTO:extensionffyh@ucsf.edu.ar
GEO:-31.6069451;-60.6709418
X-APPLE-STRUCTURED-LOCATION;VALUE=URI;X-ADDRESS=UCSF Santa Fe Echagüe 7151 Santa Fe Santa Fe Argentina;X-APPLE-RADIUS=500;X-TITLE=Echagüe 7151:geo:-60.6709418,-31.6069451
END:VEVENT
END:VCALENDAR