BEGIN:VCALENDAR
VERSION:2.0
PRODID:-//UCSF - Universidad Católica de Santa Fe - ECPv5.14.2.1//NONSGML v1.0//EN
CALSCALE:GREGORIAN
METHOD:PUBLISH
X-WR-CALNAME:UCSF - Universidad Católica de Santa Fe
X-ORIGINAL-URL:https://www.ucsf.edu.ar
X-WR-CALDESC:Events for UCSF - Universidad Católica de Santa Fe
REFRESH-INTERVAL;VALUE=DURATION:PT1H
X-Robots-Tag:noindex
X-PUBLISHED-TTL:PT1H
BEGIN:VTIMEZONE
TZID:America/Argentina/Buenos_Aires
BEGIN:STANDARD
TZOFFSETFROM:-0300
TZOFFSETTO:-0300
TZNAME:-03
DTSTART:20230101T000000
END:STANDARD
END:VTIMEZONE
BEGIN:VEVENT
DTSTART;TZID=America/Argentina/Buenos_Aires:20230415T100000
DTEND;TZID=America/Argentina/Buenos_Aires:20231209T140000
DTSTAMP:20260422T105033
CREATED:20230306T140649Z
LAST-MODIFIED:20231024T214616Z
UID:57898-1681552800-1702130400@www.ucsf.edu.ar
SUMMARY:Diplomatura Estrategia Casa Común
DESCRIPTION:El Vicerrectorado Académico de la UCSF\,  conjuntamente con Fundación EPyCA y el Centro Esperanza\, comunican: que se encuentra abierta la inscripción a la Diplomatura Estrategia Casa Común – ECCo- 2023. \nCoordinación: Dra. Mercedes Gagneten \nInicio Cursado: Sábado 15 de Abril\, de 10 a 14 horas. Finaliza Sábado 9 de diciembre.\nCierre Inscripción: 3 de Abril. \nModalidad: 9 encuentros virtuales de Video Construcciones. Presencial para personas con domicilio en Santa Fe Capital. \nDestinatarios: público en general: profesionales\, productores\, emprendedores\, militantes sociales\, técnicos\, docentes y estudiantes. \nNo requiere formación previa. \nCursado arancelado \n  \nVER FOLLETO\n  \nOrganizan: Universidad Católica de Santa Fe (UCSF)\, Fundación EPyCA y Centro Esperanza. \nLink de inscripción: https://forms.gle/74Y81mFr3LZAUiYz7 \nFacebook: https://www.facebook.com/fundacionepyca \nInformes: Email: Info@epyca.org.ar \nTeléfono móvil de contacto: +54 9 342 5485334 (Nicolás Machado)
URL:https://www.ucsf.edu.ar/evento/diplomatura-estrategia-casa-comun/
LOCATION:UCSF Santa Fe\, Echagüe 7151\, Santa Fe\, Santa Fe\, Argentina
CATEGORIES:Alumnos,Santa Fe,Docentes,Rosario,Personal UCSF,Posadas,Reconquista,Rafaela,Gualeguaychú,Posgrados,Sedes,Extensión,Investigación
GEO:-31.6069451;-60.6709418
X-APPLE-STRUCTURED-LOCATION;VALUE=URI;X-ADDRESS=UCSF Santa Fe Echagüe 7151 Santa Fe Santa Fe Argentina;X-APPLE-RADIUS=500;X-TITLE=Echagüe 7151:geo:-60.6709418,-31.6069451
END:VEVENT
BEGIN:VEVENT
DTSTART;TZID=America/Argentina/Buenos_Aires:20230614T180000
DTEND;TZID=America/Argentina/Buenos_Aires:20230614T200000
DTSTAMP:20260422T105033
CREATED:20230529T152715Z
LAST-MODIFIED:20230602T142606Z
UID:60572-1686765600-1686772800@www.ucsf.edu.ar
SUMMARY:“El General Belgrano en la Historia y en nuestro presente”
DESCRIPTION:El Vicerrectorado Académico conjuntamente con el Programa Universidad Abierta; la Facultad de Derecho y Ciencia Política y El Centro de Estudios Belgranianos Rosario Siglo XXI (CEBR)\, invitan a la charla híbrida: “El General Belgrano en la Historia y en nuestro presente” \nObjetivos: \n\nReferenciar el aporte del general Belgrano a la formación de la identidad nacional como mensaje y ejemplo el presente de nuestra sociedad\nDestacar el protagonismo del general Belgrano en su relación con la Historia de Santa Fe y su aporte a la institucionalidad\, entre otros.\n\nDía y horario: miércoles 14 de junio\, de 18 a 20 horas. \nModalidad: híbrida \nAula: 2.51 \nDirección: Canónigo Echagüe 7151.UCSF\, sede Santa Fe. \nDestinatarios: público en general; alumnos de grado y postgrado; docentes de la UCSF y de otras Universidades e Instituciones. \nInscripciones: https://www.eventbrite.com.ar/e/el-general-belgrano-en-la-historia-y-nuestro-presente-tickets-645356276997?aff=Inscripciones \nLink para quienes deseen participar por Zoom \nUnirse a la reunión Zoomhttps://zoom.us/j/93884063462ID de reunión: 938 8406 3462 \nDisertantes: \nDr. Miguel Carrillo Bascary: “Belgrano en sus banderas” (Centro de Estudios Belgranianos Rosario) \nDr. Reynoso Mántaras: “Manuel Belgrano y Estanislao López: desencuentros y comunión de dos próceres americanos” (Instituto Belgraniano del Litoral) \nDr. Chizzini Melo: “El General Belgrano y su reconocimiento a Santa Fe” (Instituto Belgraniano de Santa Fe) \nCierre: Dr. Guillermo Kerz \nEl CEBR entregará a los asistentes 100 revistas-libros donde se hace referencia sobre la evolución del diseño de la Bandera Nacional. \nCV abreviado de los disertantes \nMiguel CARRILLO BASCARY (expositor)\nMiembro de número y del Consejo Directivo del Instituto Nacional Belgraniano\nCoordinador Académico del Centro de Estudios Belgranianos Rosario Siglo XXI. Fundador\nPresidente del Instituto Belgraniano de Rosario (2011/2013) y fundador\nConsultor en Vexilología y Ceremonial\nHistoriador especializado en el período de la Emancipación nacional\nFue director general del Monumento Nacional a la Bandera\nProfesor titular de Derechos Humanos en la Facultad de Derecho\, UNR.\nPresidente y fundador de la Junta de Historia de Rosario (2003/ 2007 y 2015/ 2017)\nRedactor e impulsor de la ley que reconoció a la Bandera Nacional de la Libertad Civil\, cuarto símbolo nacional. Publicista. Produce el blog www.banderasargentinas.blogspot.com dedicado a temas de Vexilología\, Ceremonial e Historia\, con más de 650.000 visitas y unas 900 publicaciones. \nDiego Martín REYNOSO MÁNTARAS (expositor invitado)\nAbogado (UNL). Presidente del Instituto Belgraniano del Litoral\nMiembro de Número y del del Instituto Nacional Belgraniano\nMiembro de la Asociación Sanmartiniana de Santa Fe \nLuis Eduardo CHIZZINI MELO (expositor invitado)\nAbogado y mediador. Miembro de número del Instituto Belgraniano de Santa Fe\nFundador de los institutos Belgranianos de Coronda y de Santo Tomé\nMiembro Correspondiente del Instituto de Historia Militar Argentina\nVice-presidente de la Asociación Cultural Sanmartiniana de Santa Fe\nPresidente de la Asociación Cultural Sanmartiniana de Santa Fe\, hasta el año 2021\nCoronel (R) del Arma de Ingenieros\nOficial de Estado Mayor y de Estado Mayor Conjunto\nLicenciado en Estrategia y Organización\nEntre otras comisiones se desempeñó como:\nJefe del Escuadrón de Ingenieros Blindados de Paraná\nJefe del Batallón de Ingenieros “Cnl Czetz” (Unidad Histórica)\nSecretario General del Comando del Segundo Cuerpo de Ejército \nContacto: nsturla@ucsf.edu.ar \n  \n 
URL:https://www.ucsf.edu.ar/evento/el-general-belgrano-en-la-historia-y-en-nuestro-presente/
LOCATION:UCSF Santa Fe\, Echagüe 7151\, Santa Fe\, Santa Fe\, Argentina
CATEGORIES:Pastoral,Alumnos,Cultura: coros y teatro,Santa Fe,Editorial,Docentes,Rosario,Personal UCSF,Posadas,Reconquista,Rafaela,Gualeguaychú,Bienestar universitario,Sedes,Extensión,Investigación,Profesorado en Historia (CCC)
ATTACH;FMTTYPE=image/jpeg:https://www.ucsf.edu.ar/wp-content/uploads/2023/05/Imagen-Belgrano.jpeg
ORGANIZER;CN="Vicerrectorado%20Acad%C3%A9mico":MAILTO:vrecacad@ucsf.edu.ar
GEO:-31.6069451;-60.6709418
X-APPLE-STRUCTURED-LOCATION;VALUE=URI;X-ADDRESS=UCSF Santa Fe Echagüe 7151 Santa Fe Santa Fe Argentina;X-APPLE-RADIUS=500;X-TITLE=Echagüe 7151:geo:-60.6709418,-31.6069451
END:VEVENT
BEGIN:VEVENT
DTSTART;TZID=America/Argentina/Buenos_Aires:20230615T170000
DTEND;TZID=America/Argentina/Buenos_Aires:20230615T190000
DTSTAMP:20260422T105033
CREATED:20230523T223356Z
LAST-MODIFIED:20230605T120114Z
UID:60500-1686848400-1686855600@www.ucsf.edu.ar
SUMMARY:Presentación Documento de Recomendaciones para la Política Alimentaria Argentina
DESCRIPTION:-Webinar  HÍBRIDO organizado por: \n1.Instituto de Investigaciones de la Facultad de Ciencias de la Salud \n2. Licenciatura en Nutrición de la UCSF \n3. Colegio de Nutricionistas de la Provincia de Santa Fe (1era circunscripción) \ncon el aval de la Coalición Nacional para Prevenir la Obesidad Infantil de Niños\, Niñas y Adolescentes \nEl presente documento propone una revisión sintética y didáctica de recomendaciones para una política alimentaria argentina basada en el enfoque de derechos humanos\, la promoción de modelos productivos socio–ecológicamente sostenibles\, el acceso a alimentos de cercanía\, regionales y estacionales\, la adecuación socio–eco–cultural a los alimentos\, la recuperación de saberes identitarios de la cultura alimentaria y la promoción de la participación ciudadana. Está destinado a quienes trabajan en el campo de la política pública alimentaria\, ya sea en los procesos de toma de decisiones públicas de las áreas ejecutiva o legislativa\, como parte de equipos de organizaciones de la sociedad civil vinculadas a la materia o también\, público general con interés en la construcción de propuestas alimentarias orientadas a introducir cambios radicales. \nEl documento propone al inicio un resumen ejecutivo. Luego\, en el apartado titulado Contexto\, se presenta a grandes rasgos una caracterización de la situación alimentaria en Argentina\, a partir de la cual se señalan las recomendaciones finales. En el tercer apartado se esquematizan algunos aspectos de la política alimentaria argentina que\, debido a sus consecuencias para la alimentación\, ameritan una revisión. En el cuarto apartado se rescatan aquellos aspectos de la política alimentaria que tienen potencial para contribuir a una transición hacia una alimentación socio–ecológicamente sustentable. En el quinto apartado se señalan algunas recomendaciones para la elaboración de políticas alimentarias sustentables tanto social como ecológicamente. Luego se agregan tres anexos complementarios que amplían un poco más algunos conceptos apuntados a lo largo del informe: facetas de la malnutrición\, enfoque de género y derecho humano a la alimentación. Finalmente\, se ofrecen algunos títulos de bibliografía de consulta sobre la materia. \nInforme elaborado con el apoyo de la Fundación Heinrich Böll – Santiago de Chile \nTRANSMISIÓN SIMULTÁNEA POR ZOOM: https://zoom.us/j/94135232641 \n 
URL:https://www.ucsf.edu.ar/evento/presentacion-documento-de-recomendaciones-para-la-politica-alimentaria-argentina/
LOCATION:UCSF Santa Fe\, Echagüe 7151\, Santa Fe\, Santa Fe\, Argentina
CATEGORIES:Investigación Ecojurídica,Home principal,Alumnos,Santa Fe,Facultades,Docentes,Ciencias de la Salud,Carreras de Grado,Comunidad,Sedes,Investigación,Licenciatura en Nutrición,IIFCS Instituto de Investigación de la Facultad de Ciencias de la Salud
ATTACH;FMTTYPE=image/jpeg:https://www.ucsf.edu.ar/wp-content/uploads/2023/05/politica-alimentaria_web.jpg
ORGANIZER;CN="Instituto%20de%20Investigaciones%20de%20la%20Facultad%20de%20Ciencias%20de%20la%20Salud":MAILTO:iifcs@ucsf.edu.ar
GEO:-31.6069451;-60.6709418
X-APPLE-STRUCTURED-LOCATION;VALUE=URI;X-ADDRESS=UCSF Santa Fe Echagüe 7151 Santa Fe Santa Fe Argentina;X-APPLE-RADIUS=500;X-TITLE=Echagüe 7151:geo:-60.6709418,-31.6069451
END:VEVENT
BEGIN:VEVENT
DTSTART;TZID=America/Argentina/Buenos_Aires:20230616T150000
DTEND;TZID=America/Argentina/Buenos_Aires:20230616T160000
DTSTAMP:20260422T105033
CREATED:20230602T201919Z
LAST-MODIFIED:20230605T194629Z
UID:60785-1686927600-1686931200@www.ucsf.edu.ar
SUMMARY:Reunion informativa sobre convocatoria para formar parte de equipo de investigación
DESCRIPTION:
URL:https://www.ucsf.edu.ar/evento/reunion-informativa-sobre-convocatoria-para-formar-parte-de-equipo-de-invesestigacion/
LOCATION:UCSF Santa Fe\, Echagüe 7151\, Santa Fe\, Santa Fe\, Argentina
CATEGORIES:Investigación Ecojurídica,Alumnos,Docentes
ORGANIZER;CN="Equipo%20de%20Investigaci%C3%B3n%20Socio-Eco-Jur%C3%ADdica":MAILTO:ecojurinvestiga@ucsf.edu.ar
GEO:-31.6069451;-60.6709418
X-APPLE-STRUCTURED-LOCATION;VALUE=URI;X-ADDRESS=UCSF Santa Fe Echagüe 7151 Santa Fe Santa Fe Argentina;X-APPLE-RADIUS=500;X-TITLE=Echagüe 7151:geo:-60.6709418,-31.6069451
END:VEVENT
BEGIN:VEVENT
DTSTART;TZID=America/Argentina/Buenos_Aires:20230616T160000
DTEND;TZID=America/Argentina/Buenos_Aires:20230616T180000
DTSTAMP:20260422T105033
CREATED:20230323T165228Z
LAST-MODIFIED:20230512T120902Z
UID:58640-1686931200-1686938400@www.ucsf.edu.ar
SUMMARY:Seminario “Derecho y políticas para la lucha contra el hambre".
DESCRIPTION:El viernes 16 de junio\, en la UCSF\, se llevará a cabo el cuarto último encuentro del Seminario “Derecho y políticas para la lucha contra el hambre” en el aula 2.53 de la sede Santa Fe de la UCSF. \nLink para acceso virtual. \nEl Seminario es organizado de manera conjunta por el Equipo de Investigación socio-eco-jurídica (UCSF). Directora: Ana María Bonet\, la Secretaría de Investigación de la FCJS- UNL y los grupos de investigación y el CAID “La protección del Derecho humano a la alimentación. Un análisis de la regulación de la seguridad alimentaria en Argentina” (FCJS – UNL). Directora: María Eugenia Marichal. \nCoordina: Eugenia Carnevale \nInformes e inscripción: caidalimentacion@gmail.com \n  \nMateriales \n\n\n\n\nFecha\nPresenta\n\n\n●      LANCET Comission (2019). Nuestros alimentos en el Antropoceno: dietas saludables a partir de sistemas alimentarios sostenibles. https://eatforum.org/content/uploads/2019/07/EAT-Lancet_Commission_Summary_Report_Spanish.pdf (Reporte completo\, en inglés original: eatforum.org/eat-lancet-commission/)\n31 Marzo\nLuciana Gottardi \n \n\n\n●      Yáñez Andrade\, Juan Carlos. 2019. «Los pobres están invitados a la mesa. Debates y proyectos transnacionales de alimentación popular en América del Sur\, 1930-1950». Historia Crítica (71):69-91. doi: https://doi.org/10.7440/histcrit71.2019.04\n14 Abril\nSelena Almirón\n\n\n●      Bestard\, Ana María y Carrasco\, Maximiliano (2021)\, “El derecho a la alimentación adecuada en las sentencias de la Corte Suprema de Justicia de la Nación”\, en L. Pautassi y M. Alegre (comps.)\, Entre la regulación y la política pública. El derecho a la alimentación adecuada en Argentina. Buenos Aires: EUDEBA.\n12 Mayo\nEugenia Carnevale\n\n\n●      Aguirre\, Patricia\, y Laura Pautassi. 2022. «Del problema individual al programa social: la cuestión alimentaria en Argentina». Pp. 271-311 en De Alfonsín a Macri. Democracia y política social en Argentina (1983- 2019)\, editado por G. Gamallo. Buenos Aires: EUDEBA.\n16 Junio\n Delia Passegi y Macarena Dalla Costa\n\n\n\n 
URL:https://www.ucsf.edu.ar/evento/58640/
LOCATION:UCSF Santa Fe\, Echagüe 7151\, Santa Fe\, Santa Fe\, Argentina
CATEGORIES:Investigación Ecojurídica,Alumnos,Docentes
ORGANIZER;CN="Equipo%20de%20Investigaci%C3%B3n%20Socio-Eco-Jur%C3%ADdica":MAILTO:ecojurinvestiga@ucsf.edu.ar
GEO:-31.6069451;-60.6709418
X-APPLE-STRUCTURED-LOCATION;VALUE=URI;X-ADDRESS=UCSF Santa Fe Echagüe 7151 Santa Fe Santa Fe Argentina;X-APPLE-RADIUS=500;X-TITLE=Echagüe 7151:geo:-60.6709418,-31.6069451
END:VEVENT
BEGIN:VEVENT
DTSTART;TZID=America/Argentina/Buenos_Aires:20230623T180000
DTEND;TZID=America/Argentina/Buenos_Aires:20230623T190000
DTSTAMP:20260422T105033
CREATED:20230414T134610Z
LAST-MODIFIED:20230426T134113Z
UID:59341-1687543200-1687546800@www.ucsf.edu.ar
SUMMARY:Seminario de lecturas Reflexiones sociológicas en torno al espacio público
DESCRIPTION:El Equipo de Investigación socio-eco-jurídica de la UCSF y el Proyecto de extensión “Espacio público y agroecología en Santa Fe: insumos para la agenda política local a partir de la feria agroecológica Candioti Sur” invitan al seminario de lecturas\n“Reflexiones sociológicas en torno al espacio público” que se llevará a cabo durante cuatro viernes\, a las 18 hs en la sede Santa Fe de la UCSF. \nFechas y textos de Lectura: \n21/4: Boy\, M. y Marcus\, J (2021). La ciudad en tiempos de COVID-19: la reconfiguración de lo público y lo privado. Área Metropolitana de Buenos Aires\, 2020\n23/6: Bourdieu\, P. ( 1993) . Efectos de lugar en  la Miseria del Mundo. Fondo de Cultura económica: Buenos Aires. Link para acceso virtual.\n30/6: Delgado Ruiz\, M. (2011). El espacio público como ideología. Madrid: Catarata. Link para acceso virtual. \n4/8: Martínez Lorea\, I (2013). Henri Lefebvre y los espacios de lo posible\, en Lefebvre\, H. La producción del espacio. España: Capitán Swing\, pp. 9-28. Link para acceso virtual. \n  \n 
URL:https://www.ucsf.edu.ar/evento/seminario-de-lecturas-reflexiones-sociologicas-en-torno-al-espacio-publico-2/
LOCATION:UCSF Santa Fe\, Echagüe 7151\, Santa Fe\, Santa Fe\, Argentina
CATEGORIES:Investigación Ecojurídica,Alumnos,Docentes,Posgrados
ORGANIZER;CN="Equipo%20de%20Investigaci%C3%B3n%20Socio-Eco-Jur%C3%ADdica":MAILTO:ecojurinvestiga@ucsf.edu.ar
GEO:-31.6069451;-60.6709418
X-APPLE-STRUCTURED-LOCATION;VALUE=URI;X-ADDRESS=UCSF Santa Fe Echagüe 7151 Santa Fe Santa Fe Argentina;X-APPLE-RADIUS=500;X-TITLE=Echagüe 7151:geo:-60.6709418,-31.6069451
END:VEVENT
BEGIN:VEVENT
DTSTART;TZID=America/Argentina/Buenos_Aires:20230630T180000
DTEND;TZID=America/Argentina/Buenos_Aires:20230630T190000
DTSTAMP:20260422T105033
CREATED:20230414T134933Z
LAST-MODIFIED:20230426T134234Z
UID:59343-1688148000-1688151600@www.ucsf.edu.ar
SUMMARY:Seminario de lecturas Reflexiones sociológicas en torno al espacio públic
DESCRIPTION:El Equipo de Investigación socio-eco-jurídica de la UCSF y el Proyecto de extensión “Espacio público y agroecología en Santa Fe: insumos para la agenda política local a partir de la feria agroecológica Candioti Sur” invitan al seminario de lecturas\n“Reflexiones sociológicas en torno al espacio público” que se llevará a cabo durante cuatro viernes\, a las 18 hs en la UCSF. \nFechas y textos de Lectura: \n21/4: Boy\, M. y Marcus\, J (2021). La ciudad en tiempos de COVID-19: la reconfiguración de lo público y lo privado. Área Metropolitana de Buenos Aires\, 2020\n23/6: Bourdieu\, P. ( 1993) . Efectos de lugar en  la Miseria del Mundo. Fondo de Cultura económica: Buenos Aires. Link para acceso virtual.\n30/6: Delgado Ruiz\, M. (2011). El espacio público como ideología. Madrid: Catarata. Link para acceso virtual. \n4/8: Martínez Lorea\, I (2013). Henri Lefebvre y los espacios de lo posible\, en Lefebvre\, H. La producción del espacio. España: Capitán Swing\, pp. 9-28. Link para acceso virtual. \n 
URL:https://www.ucsf.edu.ar/evento/seminario-de-lecturas-reflexiones-sociologicas-en-torno-al-espacio-public/
LOCATION:UCSF Santa Fe\, Echagüe 7151\, Santa Fe\, Santa Fe\, Argentina
CATEGORIES:Investigación Ecojurídica,Alumnos,Docentes,Posgrados
ORGANIZER;CN="Equipo%20de%20Investigaci%C3%B3n%20Socio-Eco-Jur%C3%ADdica":MAILTO:ecojurinvestiga@ucsf.edu.ar
GEO:-31.6069451;-60.6709418
X-APPLE-STRUCTURED-LOCATION;VALUE=URI;X-ADDRESS=UCSF Santa Fe Echagüe 7151 Santa Fe Santa Fe Argentina;X-APPLE-RADIUS=500;X-TITLE=Echagüe 7151:geo:-60.6709418,-31.6069451
END:VEVENT
END:VCALENDAR