BEGIN:VCALENDAR
VERSION:2.0
PRODID:-//UCSF - Universidad Católica de Santa Fe - ECPv5.14.2.1//NONSGML v1.0//EN
CALSCALE:GREGORIAN
METHOD:PUBLISH
X-WR-CALNAME:UCSF - Universidad Católica de Santa Fe
X-ORIGINAL-URL:https://www.ucsf.edu.ar
X-WR-CALDESC:Events for UCSF - Universidad Católica de Santa Fe
REFRESH-INTERVAL;VALUE=DURATION:PT1H
X-Robots-Tag:noindex
X-PUBLISHED-TTL:PT1H
BEGIN:VTIMEZONE
TZID:America/Argentina/Buenos_Aires
BEGIN:STANDARD
TZOFFSETFROM:-0300
TZOFFSETTO:-0300
TZNAME:-03
DTSTART:20240101T000000
END:STANDARD
END:VTIMEZONE
BEGIN:VEVENT
DTSTART;TZID=America/Argentina/Buenos_Aires:20240809T150000
DTEND;TZID=America/Argentina/Buenos_Aires:20240809T170000
DTSTAMP:20260421T085058
CREATED:20240705T181604Z
LAST-MODIFIED:20240705T181604Z
UID:73951-1723215600-1723222800@www.ucsf.edu.ar
SUMMARY:Cátedra Abierta de Derechos Humanos
DESCRIPTION:LINK DE ACCESO
URL:https://www.ucsf.edu.ar/evento/catedra-abierta-de-derechos-humanos-13/
LOCATION:UCSF Santa Fe\, Echagüe 7151\, Santa Fe\, Santa Fe\, Argentina
CATEGORIES:Investigación Ecojurídica
GEO:-31.6069451;-60.6709418
X-APPLE-STRUCTURED-LOCATION;VALUE=URI;X-ADDRESS=UCSF Santa Fe Echagüe 7151 Santa Fe Santa Fe Argentina;X-APPLE-RADIUS=500;X-TITLE=Echagüe 7151:geo:-60.6709418,-31.6069451
END:VEVENT
BEGIN:VEVENT
DTSTART;TZID=America/Argentina/Buenos_Aires:20240823T163000
DTEND;TZID=America/Argentina/Buenos_Aires:20240823T200000
DTSTAMP:20260421T085058
CREATED:20240801T145343Z
LAST-MODIFIED:20240821T174636Z
UID:74658-1724430600-1724443200@www.ucsf.edu.ar
SUMMARY:Curso Construcción y análisis de datos cuantitativos. Introducción al Software SPSS
DESCRIPTION:El Vicerrectorado Académico\, a través del Programa Universidad Abierta y la Facultad de Psicología de la UCSF\, comunican que se encuentra abierta la inscripción para el Curso “Construcción y análisis de datos cuantitativos. Introducción al Software SPSS \nFudamentación del Curso: \nLa propuesta se centrará en el procesamiento y análisis de variables cuantitativas en el marco\nde la investigación en ciencias sociales. Se propone un desarrollo basado en ejes conceptuales de la\nciencia Estadística que se profundizarán en diversos niveles relativos a los requerimientos de\ncomprensión de las técnicas. Se privilegiará la exposición de los principios fundamentales de las\ntécnicas estadísticas en lugar del desarrollo matemático de las mismas. \nObjetivos del curso: \n\nComprender los usos y alcances del software SPSS para el procesamiento y análisis de datos\ncuantitativos en el marco de procesos de investigación en el campo de las ciencias sociales.\nIdentificar los procedimientos de tratamiento y análisis de datos más adecuados a los problemas\nde investigación en ciencias sociales.\n Aplicar los conceptos del procesamiento estadístico básico a través del uso de las herramientas\ndel software SPSS.\n\nContenidos\nEje temático I: Creación de una matriz de datos\nEstructura del SPSS: El editor de datos. El visor de resultados. Barra de menús y de herramientas.\nMenús generales. Menú Analizar. La estructura de los datos. Unidades de análisis\, variables\, valores.\nLa matriz de datos. Tipo y usos de escalas de medición. Tipos de variables. Codificación y\nrecodificación. Creación de variables. Cálculo de variables nuevas a partir de preexistentes.\nImportación y exportación de archivos de datos con diferentes formatos. \nEje temático II: Análisis descriptivo univariado \nDistribuciones de frecuencias. Medidas de tendencia central y posición. Media\, mediana y moda.\nDeciles\, cuartiles y percentiles. Medidas de variación. Varianza y desviación típica\nAsimetría y curtosis. Representaciones gráficas: gráfico de barras\, histograma\, diagrama de cajas\nInterpretación de resultados. \nEje temático III: Análisis descriptivo Biivariado \nMedidas de asociación y tablas de contingencia. Medidas de correlación. Presentación y resumen de los\nresultados. \nDía y horarios: viernes 23 de agosto\, de 16:30 a 20 horas. \nDestinatarios: alumnos\, docentes\, investigadores y público en genral \nModalidad virtual \nDisertantes: Dra.en Psicología Salessi Solana \nInscripciones: https://www.eventbrite.com.ar/e/construccion-y-analisis-de-datos-cuantitativos-software-spss-tickets-970595646707?aff=Inscripciones \nImportante: el link de Zoom sólo se enviará por correo (1 día y 1 una hora antes del Evento) a los participantes que se hayan inscripto a través de este link) \nCupos limitados \nImportante: para realizar el curso es necesario tener descargado el Softwere SPSS o su versión gratuita. \nLink para descargar el software: \nhttps://www.ibm.com/es-es/products/spss-statistics \nSaludos cordiales \nCV abreviado: Doctora en Psicología. Facultad de Psicología\, Universidad Nacional de La Plata. Año: agosto de 2016. Especialista en Docencia Universitaria. Facultad de Filosofía y Letras\, Universidad Nacional de Cuyo Año: febrero de 2021.  Profesora Superior de Psicología. Facultad de Derecho y Ciencias Sociales del Rosario\, Pontificia Universidad Católica Argentina.\nInformes: nsturla@ucsf.edu.ar
URL:https://www.ucsf.edu.ar/evento/curso-construccion-y-analisis-de-datos-cuantitativos-introduccion-al-software-spss/
LOCATION:UCSF Santa Fe\, Echagüe 7151\, Santa Fe\, Santa Fe\, Argentina
CATEGORIES:Pastoral,Cultura: coros y teatro,Santa Fe,Alumnos,Deportes,Rosario,Docentes,Ciclos de complementación,Posadas,Reconquista,Rafaela,Comunidad,Gualeguaychú,Bienestar universitario,Licenciatura en Medios Digitales (CCC),Sedes,Licenciatura en Negocios Digitales (CCC),Licenciatura en Psicomotricidad (CCC),Licenciatura en Seguridad Alimentaria (CCC),Extensión,Investigación,Profesorado en Historia (CCC),Profesorado en Lengua y Literatura (CCC)
ATTACH;FMTTYPE=image/jpeg:https://www.ucsf.edu.ar/wp-content/uploads/2024/08/IMAGEN-CONSTRUCCION-Y-ANALISIS-DE-DATOS-CUANTITATIVOS_web.jpg
ORGANIZER;CN="Vicerrectorado%20Acad%C3%A9mico":MAILTO:vrecacad@ucsf.edu.ar
GEO:-31.6069451;-60.6709418
X-APPLE-STRUCTURED-LOCATION;VALUE=URI;X-ADDRESS=UCSF Santa Fe Echagüe 7151 Santa Fe Santa Fe Argentina;X-APPLE-RADIUS=500;X-TITLE=Echagüe 7151:geo:-60.6709418,-31.6069451
END:VEVENT
BEGIN:VEVENT
DTSTART;TZID=America/Argentina/Buenos_Aires:20240830T150000
DTEND;TZID=America/Argentina/Buenos_Aires:20240830T170000
DTSTAMP:20260421T085059
CREATED:20240823T200448Z
LAST-MODIFIED:20240823T200448Z
UID:75479-1725030000-1725037200@www.ucsf.edu.ar
SUMMARY:Círculo de Reflexión Socio-Eco-Jurídica
DESCRIPTION:En el contexto del Círculo de Reflexión Socio-Eco-Jurídica se llevará adelante un ciclo de Conversatorios en torno al libro “Derecho Privado para el Antropoceno. Rediseñar los modos de vida” de Gonzalo Sozzo. \nEl conversatorio es organizado de manera conjunta por el Equipo de Investigación Socio-Eco-Jurídica de la UCSF y el Programa Agua y Ambiente de la USAL. \nCRONOGRAMA: \n30/8 – Conversan: Alex Valle Franco y Gonzalo Sozzo \n6/9 – Conversan: Andreas Gutmann y Johana ORmeño Cerezo \n20/9 – Conversan: Gonzalo Cassas y María Eugenia González Cuidet \n  \nModeran: Esteban Piva y Iara Villareal \n  \n 
URL:https://www.ucsf.edu.ar/evento/circulo-de-reflexion-socio-eco-juridica-11/
LOCATION:UCSF Santa Fe\, Echagüe 7151\, Santa Fe\, Santa Fe\, Argentina
CATEGORIES:Investigación Ecojurídica
GEO:-31.6069451;-60.6709418
X-APPLE-STRUCTURED-LOCATION;VALUE=URI;X-ADDRESS=UCSF Santa Fe Echagüe 7151 Santa Fe Santa Fe Argentina;X-APPLE-RADIUS=500;X-TITLE=Echagüe 7151:geo:-60.6709418,-31.6069451
END:VEVENT
END:VCALENDAR