BEGIN:VCALENDAR
VERSION:2.0
PRODID:-//UCSF - Universidad Católica de Santa Fe - ECPv5.14.2.1//NONSGML v1.0//EN
CALSCALE:GREGORIAN
METHOD:PUBLISH
X-WR-CALNAME:UCSF - Universidad Católica de Santa Fe
X-ORIGINAL-URL:https://www.ucsf.edu.ar
X-WR-CALDESC:Events for UCSF - Universidad Católica de Santa Fe
REFRESH-INTERVAL;VALUE=DURATION:PT1H
X-Robots-Tag:noindex
X-PUBLISHED-TTL:PT1H
BEGIN:VTIMEZONE
TZID:America/Argentina/Buenos_Aires
BEGIN:STANDARD
TZOFFSETFROM:-0300
TZOFFSETTO:-0300
TZNAME:-03
DTSTART:20220101T000000
END:STANDARD
END:VTIMEZONE
BEGIN:VEVENT
DTSTART;TZID=America/Argentina/Buenos_Aires:20221105T100000
DTEND;TZID=America/Argentina/Buenos_Aires:20221126T120000
DTSTAMP:20260423T013508
CREATED:20221017T145345Z
LAST-MODIFIED:20221108T161907Z
UID:54760-1667642400-1669464000@www.ucsf.edu.ar
SUMMARY:"Curso teórico-práctico de escritura académica". Noviembre: mes de escritura académica y científica
DESCRIPTION:El Vicerrectorado Académico y el Programa Universidad Abierta\, dependiente de la Secretaría de Ciencia y Técnica\, y Extensión de la UCSF\, comunican que se encuentra  abierta la inscripción para el “Curso teórico-práctico de escritura académica”.  \nNoviembre… Mes de la escritura académica y científica. \nObjetivos del curso: \nAbordar aspectos conceptuales de la escritura de artículos científicos y otros textos académicos para ponerlos en práctica durante los talleres de escritura. \nDocente: Dra. Anabel Orellano. \nDestinatarios: estudiantes\, docentes e investigadores. Público general interesado. \nModalidad y fechas: \nSábados 05 y 12 de noviembre\, de 10 a 12 horas\,  modalidad virtual sincrónica. \nLos sábados 19 y 26 de noviembre se realizarán los talleres\, es decir la práctica de escrituras académicas. \nSerá a elección\, consensuada previamente con los alumnos\,  la modalidad online (sábado 19/11) o presencial (sábado 26/11). Para quienes puedan asistir presencialmente el curso en esta fecha se desarrollará\, en la UCSF\, sede Santa Fe\, de 9 a 12 hs. \nContenido: \nClase 1: Aspectos conceptuales de escritura académica \n· Investigar-escribir: la escritura como desarrollo profesional. \n· Entender la escritura como un proceso cognitivo. \n· ¿Por qué cuesta escribir? Obstáculos en escritura académica. \n· El propósito comunicativo. Interacción emisor-receptor. \n· Planificación de objetivos de escritura. \nClase 2: Textualización \n· Elementos que componen un texto académico. \n· Estructura de un artículo académico. \n· Convenciones de escritura para las distintas partes de un artículo. \n· Reglas de ortografía y redacción. La importancia de los conectores. \n· Micro y macroestructuras de un texto. Movimientos retóricos. \nClases 3 y 4: Taller de escritura académica virtual o presencial (a elección) \nObservaciones: \nLos talleres tendrán una duración de 3 horas. En un primer momento se analizarán cuestiones relacionadas al proceso de publicación de un artículo científico y cómo articular y escribir la contribución académica que se espera del autor. \nA continuación\, cada participante deberá trabajar sobre un texto propio\, de algún trabajo que se encuentra desarrollando o que quiere comenzar. La idea es que cada participante realice un trabajo personalizado\, y escriba sobre su texto acompañado de la docente. \n  \nInscripcines: https://www.eventbrite.com.ar/e/noviembre-mes-de-la-escritura-academica-y-cientifica-tickets-464378617947?aff=Inscripciones \nUnirse a la reunión Zoom\nhttps://zoom.us/j/97200438731 \nID de reunión: 972 0043 8731 \n  \nCV abreviado de la disertante: Doctora por la Universidad de Alcalá. Magister en Biodiversidad\, Paisajes y Gestión Sostenible (Universidad de Navarra)\, Ingeniera Ambiental (Universidad Nacional del Litoral) \nPara informes contactarse vía Email a nsturla@ucsf.edu.ar \n  \n  \n 
URL:https://www.ucsf.edu.ar/evento/curso-teorico-practico-de-escritura-academica-mes-de-escritura-academica-y-cientifica/
LOCATION:UCSF Santa Fe\, Echagüe 7151\, Santa Fe\, Santa Fe\, Argentina
CATEGORIES:Alumnos,Docentes,Rosario,Personal UCSF,Posadas,Reconquista,Rafaela,Gualeguaychú,Posgrados,Sedes,Extensión,Investigación
GEO:-31.6069451;-60.6709418
X-APPLE-STRUCTURED-LOCATION;VALUE=URI;X-ADDRESS=UCSF Santa Fe Echagüe 7151 Santa Fe Santa Fe Argentina;X-APPLE-RADIUS=500;X-TITLE=Echagüe 7151:geo:-60.6709418,-31.6069451
END:VEVENT
END:VCALENDAR