BEGIN:VCALENDAR
VERSION:2.0
PRODID:-//UCSF - Universidad Católica de Santa Fe - ECPv5.14.2.1//NONSGML v1.0//EN
CALSCALE:GREGORIAN
METHOD:PUBLISH
X-WR-CALNAME:UCSF - Universidad Católica de Santa Fe
X-ORIGINAL-URL:https://www.ucsf.edu.ar
X-WR-CALDESC:Events for UCSF - Universidad Católica de Santa Fe
REFRESH-INTERVAL;VALUE=DURATION:PT1H
X-Robots-Tag:noindex
X-PUBLISHED-TTL:PT1H
BEGIN:VTIMEZONE
TZID:America/Argentina/Buenos_Aires
BEGIN:STANDARD
TZOFFSETFROM:-0300
TZOFFSETTO:-0300
TZNAME:-03
DTSTART:20240101T000000
END:STANDARD
END:VTIMEZONE
BEGIN:VEVENT
DTSTART;TZID=America/Argentina/Buenos_Aires:20240219T183000
DTEND;TZID=America/Argentina/Buenos_Aires:20240219T203000
DTSTAMP:20260421T210500
CREATED:20240214T152514Z
LAST-MODIFIED:20240214T165538Z
UID:68959-1708367400-1708374600@www.ucsf.edu.ar
SUMMARY:Presentación del libro: Fundamentos y fines de la Educación
DESCRIPTION:ESCUELA DE VERANO \nEl Vicerrectorado Académico\, conjuntamente con el Programa Universidad Abierta\, la Facultad de Filosofía y Humanidades y la Librería de la UCSF\, invitan a la presentación del libro:  “Fundamentos y fines de la Educación”. \nAutor: Francisco Ruíz Sánchez \nPresenta: Rev. P. Gonzalo Ruiz Freites \nLa obra es\, por voluntad del autor\, sobre todo una filosofía\, lo más comprehensiva y comprensiva posible\, del fenómeno educativo\, pero se abre a una teología de la Educación\, dada la actual ordenación del hombre\, sujeto de la educación\, al Fin Último Sobrenatural. Así\, si estos “Fundamentos y Fines” tienen vigencia perenne es también porque «…nadie puede poner otro cimiento que el ya puesto\, Jesucristo. Y si uno construye sobre este cimiento con oro\, plata\, piedras preciosas\, madera\, heno\, paja\, la obra de cada cual quedará al descubierto; la manifestará el Día\, que ha de revelarse por el fuego. Y la calidad de la obra de cada cual\, la probará el fuego. Aquél\, cuya obra\, construida sobre el cimiento\, resista\, recibirá la recompensa» \nDía y horario: lunes 19 de febrero\, a las 18:45 horas \nInscripciones en este link: https://www.eventbrite.com.ar/e/presentacion-del-libro-fundamentos-y-fines-de-la-educacion-tickets-838622130367?aff=Inscripciones \nModalidad: híbrida (Aula 3.51) \nCV. Abreviado del Rev. P. Gonzalo Ruiz Freites \nEl Rev. P. Gonzalo Ruiz Freites\, hijo del autor de Fundamentos y Fines de la Educación\, es sacerdote del Instituto del Verbo Encarnado. \nNació en Mendoza (Argentina) en 1968. Después de haber frecuentado la carrera de Derecho en la Universidad de Mendoza por más de un año\, en 1987 sintió el llamado de Dios e ingresó en el Instituto del Verbo Encarnado. Fue ordenado sacerdote en 1993. Fue luego enviado a Roma para estudiar en el Pontificio Instituto Bíblico\, donde obtuvo la Licenciatura en Exégesis Bíblica (1997) y más tarde el Doctorado (2008). Estudió también Biblia y Arqueología en la Sede de Jerusalén del Pontificio Instituto Bíblico y en la Hebrew University of Jerusalem (1994-1995). \nHa sido Profesor de Evangelios Sinópticos en el Pontificio Instituto Regina Mundi de Roma\, en el Seminario Internacional San Vitaliano Papa (Italia)\, en el Estudiantado Santa Teresa de Jesús (Italia) y en el Centro di Alti Studi San Bruno Vescovo di Segni (Italia)\, donde se desempeñó como Decano del Departamento de Biblia (2003-2009). Es autor de numerosos libros y artículos. \nHa desempeñado también diversos cargos de gobierno en su Instituto. \nActualmente es Profesor de Teología en el Instituto Fides et ratio (Abadía de Fossanova\, Italia) y en el Pontificio Ateneo Regina Apostolorum (Roma). \nDesde el año 2007 trabaja part-time en la Santa Sede como Archivista del Colegio Cardenalicio en el Vaticano y Secretario del Cardenal Decano\, actualmente Su Eminencia el Cardenal Giovanni Battista Re. \nContacto: nsturla@ucsf.edu.ar \n 
URL:https://www.ucsf.edu.ar/evento/presentacion-del-libro-fundamentos-y-fines-de-la-educacion/
LOCATION:UCSF Santa Fe\, Echagüe 7151\, Santa Fe\, Santa Fe\, Argentina
CATEGORIES:Pastoral,Editorial,Alumnos,Santa Fe,Cultura: coros y teatro,Docentes,Rosario,Posadas,Personal UCSF,Ciclos de complementación,Reconquista,Rafaela,Gualeguaychú,Comunidad,Bienestar universitario,Licenciatura en Medios Digitales (CCC),Licenciatura en Negocios Digitales (CCC),Sedes,Licenciatura en Psicomotricidad (CCC),Licenciatura en Seguridad Alimentaria (CCC),Extensión,Investigación,Profesorado en Historia (CCC),Profesorado en Lengua y Literatura (CCC)
ATTACH;FMTTYPE=image/png:https://www.ucsf.edu.ar/wp-content/uploads/2024/02/Fundamentos.png
ORGANIZER;CN="Vicerrectorado%20Acad%C3%A9mico":MAILTO:vrecacad@ucsf.edu.ar
GEO:-31.6069451;-60.6709418
X-APPLE-STRUCTURED-LOCATION;VALUE=URI;X-ADDRESS=UCSF Santa Fe Echagüe 7151 Santa Fe Santa Fe Argentina;X-APPLE-RADIUS=500;X-TITLE=Echagüe 7151:geo:-60.6709418,-31.6069451
END:VEVENT
END:VCALENDAR