BEGIN:VCALENDAR
VERSION:2.0
PRODID:-//UCSF - Universidad Católica de Santa Fe - ECPv5.14.2.1//NONSGML v1.0//EN
CALSCALE:GREGORIAN
METHOD:PUBLISH
X-WR-CALNAME:UCSF - Universidad Católica de Santa Fe
X-ORIGINAL-URL:https://www.ucsf.edu.ar
X-WR-CALDESC:Events for UCSF - Universidad Católica de Santa Fe
REFRESH-INTERVAL;VALUE=DURATION:PT1H
X-Robots-Tag:noindex
X-PUBLISHED-TTL:PT1H
BEGIN:VTIMEZONE
TZID:America/Argentina/Buenos_Aires
BEGIN:STANDARD
TZOFFSETFROM:-0300
TZOFFSETTO:-0300
TZNAME:-03
DTSTART:20240101T000000
END:STANDARD
END:VTIMEZONE
BEGIN:VEVENT
DTSTART;TZID=America/Argentina/Buenos_Aires:20240920T080000
DTEND;TZID=America/Argentina/Buenos_Aires:20240920T170000
DTSTAMP:20260421T060400
CREATED:20240823T200758Z
LAST-MODIFIED:20240823T200759Z
UID:75486-1726819200-1726851600@www.ucsf.edu.ar
SUMMARY:Círculo de Reflexión Socio-Eco-Jurídica
DESCRIPTION:En el contexto del Círculo de Reflexión Socio-Eco-Jurídica se llevará adelante un ciclo de Conversatorios en torno al libro “Derecho Privado para el Antropoceno. Rediseñar los modos de vida” de Gonzalo Sozzo. \nEl conversatorio es organizado de manera conjunta por el Equipo de Investigación Socio-Eco-Jurídica de la UCSF y el Programa Agua y Ambiente de la USAL. \nCRONOGRAMA: \n30/8 – Conversan: Alex Valle Franco y Gonzalo Sozzo \n6/9 – Conversan: Andreas Gutmann y Johana ORmeño Cerezo \n20/9 – Conversan: Gonzalo Cassas y María Eugenia González Cuidet \n  \nModeran: Esteban Piva y Iara Villareal
URL:https://www.ucsf.edu.ar/evento/circulo-de-reflexion-socio-eco-juridica-13/
LOCATION:UCSF Santa Fe\, Echagüe 7151\, Santa Fe\, Santa Fe\, Argentina
CATEGORIES:Investigación Ecojurídica
GEO:-31.6069451;-60.6709418
X-APPLE-STRUCTURED-LOCATION;VALUE=URI;X-ADDRESS=UCSF Santa Fe Echagüe 7151 Santa Fe Santa Fe Argentina;X-APPLE-RADIUS=500;X-TITLE=Echagüe 7151:geo:-60.6709418,-31.6069451
END:VEVENT
END:VCALENDAR