BEGIN:VCALENDAR
VERSION:2.0
PRODID:-//UCSF - Universidad Católica de Santa Fe - ECPv5.14.2.1//NONSGML v1.0//EN
CALSCALE:GREGORIAN
METHOD:PUBLISH
X-WR-CALNAME:UCSF - Universidad Católica de Santa Fe
X-ORIGINAL-URL:https://www.ucsf.edu.ar
X-WR-CALDESC:Events for UCSF - Universidad Católica de Santa Fe
REFRESH-INTERVAL;VALUE=DURATION:PT1H
X-Robots-Tag:noindex
X-PUBLISHED-TTL:PT1H
BEGIN:VTIMEZONE
TZID:America/Argentina/Buenos_Aires
BEGIN:STANDARD
TZOFFSETFROM:-0300
TZOFFSETTO:-0300
TZNAME:-03
DTSTART:20240101T000000
END:STANDARD
END:VTIMEZONE
BEGIN:VEVENT
DTSTART;TZID=America/Argentina/Buenos_Aires:20240405T090000
DTEND;TZID=America/Argentina/Buenos_Aires:20240405T170000
DTSTAMP:20260421T193530
CREATED:20240227T164207Z
LAST-MODIFIED:20240403T140233Z
UID:69219-1712307600-1712336400@www.ucsf.edu.ar
SUMMARY:Seminario anual del equipo de Investigación Socio-Eco-Jurídica
DESCRIPTION:  \nEl viernes 5 de abril de 2024 entre las 9 y las 18 hs. tendrá lugar en la Sede Guadalupe de la Universidad Católica de Santa Fe el Seminario anual de presentación de avances del Equipo de investigación Socio-Eco-Jurídica de la Facultad de Derecho y Ciencia Política de la UCSF. \nDurante la jornada los miembros del equipo presentarán sus investigaciones\, los resultados obtenidos y las perspectivas de cada una de sus líneas de trabajo. \nVer el PROGRAMA.
URL:https://www.ucsf.edu.ar/evento/seminario-anual-del-equipo-de-investigacion-socio-eco-juridica/
LOCATION:UCSF Santa Fe\, Echagüe 7151\, Santa Fe\, Santa Fe\, Argentina
CATEGORIES:Investigación Ecojurídica,Alumnos,Docentes
ORGANIZER;CN="Equipo%20de%20Investigaci%C3%B3n%20Socio-Eco-Jur%C3%ADdica":MAILTO:ecojurinvestiga@ucsf.edu.ar
GEO:-31.6069451;-60.6709418
X-APPLE-STRUCTURED-LOCATION;VALUE=URI;X-ADDRESS=UCSF Santa Fe Echagüe 7151 Santa Fe Santa Fe Argentina;X-APPLE-RADIUS=500;X-TITLE=Echagüe 7151:geo:-60.6709418,-31.6069451
END:VEVENT
END:VCALENDAR