BEGIN:VCALENDAR
VERSION:2.0
PRODID:-//UCSF - Universidad Católica de Santa Fe - ECPv5.14.2.1//NONSGML v1.0//EN
CALSCALE:GREGORIAN
METHOD:PUBLISH
X-WR-CALNAME:UCSF - Universidad Católica de Santa Fe
X-ORIGINAL-URL:https://www.ucsf.edu.ar
X-WR-CALDESC:Events for UCSF - Universidad Católica de Santa Fe
REFRESH-INTERVAL;VALUE=DURATION:PT1H
X-Robots-Tag:noindex
X-PUBLISHED-TTL:PT1H
BEGIN:VTIMEZONE
TZID:America/Argentina/Buenos_Aires
BEGIN:STANDARD
TZOFFSETFROM:-0300
TZOFFSETTO:-0300
TZNAME:-03
DTSTART:20240101T000000
END:STANDARD
END:VTIMEZONE
BEGIN:VEVENT
DTSTART;TZID=America/Argentina/Buenos_Aires:20240419T150000
DTEND;TZID=America/Argentina/Buenos_Aires:20240419T170000
DTSTAMP:20260421T193518
CREATED:20240415T183651Z
LAST-MODIFIED:20240415T183651Z
UID:70556-1713538800-1713546000@www.ucsf.edu.ar
SUMMARY:Círculo de Reflexión Socio-Eco-Jurídica
DESCRIPTION:LINK de acceso.
URL:https://www.ucsf.edu.ar/evento/circulo-de-reflexion-socio-eco-juridica-7/
LOCATION:UCSF Santa Fe\, Echagüe 7151\, Santa Fe\, Santa Fe\, Argentina
CATEGORIES:Investigación Ecojurídica,Alumnos,Docentes
GEO:-31.6069451;-60.6709418
X-APPLE-STRUCTURED-LOCATION;VALUE=URI;X-ADDRESS=UCSF Santa Fe Echagüe 7151 Santa Fe Santa Fe Argentina;X-APPLE-RADIUS=500;X-TITLE=Echagüe 7151:geo:-60.6709418,-31.6069451
END:VEVENT
BEGIN:VEVENT
DTSTART;TZID=America/Argentina/Buenos_Aires:20240420T100000
DTEND;TZID=America/Argentina/Buenos_Aires:20240420T120000
DTSTAMP:20260421T193518
CREATED:20240415T153601Z
LAST-MODIFIED:20240416T171507Z
UID:70525-1713607200-1713614400@www.ucsf.edu.ar
SUMMARY:Webinario: Investigación en ciencias de la salud - potenciales y límites
DESCRIPTION:El Vicerrectorado Académico\, a través del Programa Universidad Abierta y la Facultades de Ciencia de la Salud y de Ciencia Agraria\, comunica que se encuentra abierta la inscripción para el Webinario: “Investigación en ciencias de la salud – potenciales y límites” \nObjetivos: \n1. Conceptuar investigación en ciencias de la salud \n2. Describir los principales tipos de investigación en ciencias de la salud \n3. Discutir la investigación en ciencias de la salud global y en Latinoamérica \nDía y horario: sábado 20 de abril\, 10 horas. \nDocente/disertante:  Profa. Dra. Aline Neutzling Brum \nDestinatarios: estudiantes\, docentes\, investigadores\, público en general interesado en la temática. \nInscripciones solo a través de este link: https://www.eventbrite.com.ar/e/investigacion-en-ciencias-de-la-salud-potenciales-y-limites-tickets-883331497287?aff=Inscripciones \n(Importante: el link de Zoom se enviará por correo automático un día y una hora antes del Evento\, únicamente a los participantes que se hayan inscripto a través de este enlace) \nCV abreviado: Doctora en Ciencias de la Salud – FURG Brasil – Pós doctora en Ciencias de la Salud – UFPEL Brasil – Profesora invitada de la UCSF Argentina – Professora Adjunta UNIPAMPA Brasil – Decana del curso Ciencias de la Naturaleza en Campus Dom Pedrito UNIPAMPA Brasil – KAAD Salud Global Alumni. \nObservaciones: esta curso otorga 5 puntos para la categorización \nInformes: federico.fookespaccamiccio@ucsf.edu.ar   \n                    nsturla@ucsf.edu.ar
URL:https://www.ucsf.edu.ar/evento/investigacion-en-ciencias-de-la-salud-potenciales-y-limites/
LOCATION:UCSF Santa Fe\, Echagüe 7151\, Santa Fe\, Santa Fe\, Argentina
CATEGORIES:Alumnos,Santa Fe,Docentes,Rosario,Personal UCSF,Posadas,Reconquista,Rafaela,Comunidad,Gualeguaychú,Sedes,Licenciatura en Psicomotricidad (CCC),Extensión,Investigación
ORGANIZER;CN="Vicerrectorado%20Acad%C3%A9mico":MAILTO:vrecacad@ucsf.edu.ar
GEO:-31.6069451;-60.6709418
X-APPLE-STRUCTURED-LOCATION;VALUE=URI;X-ADDRESS=UCSF Santa Fe Echagüe 7151 Santa Fe Santa Fe Argentina;X-APPLE-RADIUS=500;X-TITLE=Echagüe 7151:geo:-60.6709418,-31.6069451
END:VEVENT
END:VCALENDAR