BEGIN:VCALENDAR
VERSION:2.0
PRODID:-//UCSF - Universidad Católica de Santa Fe - ECPv5.14.2.1//NONSGML v1.0//EN
CALSCALE:GREGORIAN
METHOD:PUBLISH
X-WR-CALNAME:UCSF - Universidad Católica de Santa Fe
X-ORIGINAL-URL:https://www.ucsf.edu.ar
X-WR-CALDESC:Events for UCSF - Universidad Católica de Santa Fe
REFRESH-INTERVAL;VALUE=DURATION:PT1H
X-Robots-Tag:noindex
X-PUBLISHED-TTL:PT1H
BEGIN:VTIMEZONE
TZID:America/Argentina/Buenos_Aires
BEGIN:STANDARD
TZOFFSETFROM:-0300
TZOFFSETTO:-0300
TZNAME:-03
DTSTART:20240101T000000
END:STANDARD
END:VTIMEZONE
BEGIN:VEVENT
DTSTART;TZID=America/Argentina/Buenos_Aires:20240426T150000
DTEND;TZID=America/Argentina/Buenos_Aires:20240426T170000
DTSTAMP:20260421T224312
CREATED:20240227T165404Z
LAST-MODIFIED:20240422T134635Z
UID:69223-1714143600-1714150800@www.ucsf.edu.ar
SUMMARY:Cátedra abierta de Derechos Humanos
DESCRIPTION:El viernes 26 de abril de 2024 a las 15 hs. tendrá lugar la primer Cátedra Abierta de Derechos Humanos de 2024 con la participación de Daniela López Testa. \nLa Cátedra abordará el tema\n“Los derechos fundamentales como elementos eternos en las constituciones”.\n \nDaniela López Testa es Doctora en Derecho (Summa cum laude) por la Universidad de Erlangen-Nuremberg\, Alemania; Magister Legum (LL.M) por la Universidad de Freiburg\, Alemania; y abogada de la Universidad Nacional de Tucumán (Medalla de oro promoción 2009) \nActualmente es titular de la Cátedra Derecho Constitucional en la Universidad de San Pablo Tucumán y dirige la diplomatura en Razonamiento legal aplicado: diseño de casos y sentencias desde 2022. \nDesde 2021 imparte clases de Derecho Constitucional en la Universidad Nacional de Tucumán.\nAutora del libro Identidad Constitucional. Núcleo esencial de la constitución de un país (Astrea 2023). \n  \nEl evento será virtual. LINK DE ACCESO.
URL:https://www.ucsf.edu.ar/evento/catedra-abierta-de-derechos-humanos-8/
LOCATION:UCSF Santa Fe\, Echagüe 7151\, Santa Fe\, Santa Fe\, Argentina
CATEGORIES:Investigación Ecojurídica,Alumnos,Docentes
ORGANIZER;CN="Equipo%20de%20Investigaci%C3%B3n%20Socio-Eco-Jur%C3%ADdica":MAILTO:ecojurinvestiga@ucsf.edu.ar
GEO:-31.6069451;-60.6709418
X-APPLE-STRUCTURED-LOCATION;VALUE=URI;X-ADDRESS=UCSF Santa Fe Echagüe 7151 Santa Fe Santa Fe Argentina;X-APPLE-RADIUS=500;X-TITLE=Echagüe 7151:geo:-60.6709418,-31.6069451
END:VEVENT
BEGIN:VEVENT
DTSTART;TZID=America/Argentina/Buenos_Aires:20240426T190000
DTEND;TZID=America/Argentina/Buenos_Aires:20240426T200000
DTSTAMP:20260421T224312
CREATED:20240419T133321Z
LAST-MODIFIED:20240419T133321Z
UID:70818-1714158000-1714161600@www.ucsf.edu.ar
SUMMARY:Charla: La Vitamina D. Importancia clínica.
DESCRIPTION:El Vicerrectorado Académico\, a través del Programa Universidad Abierta y la Facultad de Ciencia de la Salud\, comunican que se encuentra abierta la inscripción para la Charla:La vitamina D. Importancia clínica \nFundamentación  \nEl advenimiento de la pandemia por el Coronavirus COVID19 puso de manifiesto la importancia de la Vitamina D en el sistema inmune del paciente. La falta de esta vitamina se la relaciona con trastornos óseos\, autoinmunes\, infecciosos\, alérgicos\, inflamatorios\, enfermedades cardiovasculares\, digestivos\, neurológicos (depresión\, esquizofrenia\, autismo) y ciertos cánceres.\nCon esta charla se pretende crear un espacio de reflexión y comprensión de la importancia de la vitamina D y su relación con ciertas enfermedades.\nSe invitará a participar de un proyecto de investigación sobre el tema. \nObjetivos:\n• Conocer el origen de esta Vitamina y su síntesis por el cuerpo humano.\n• Mencionar los alimentos ricos en esta vitamina.\n• Reflexionar sobre la vitamina D como inmuno nutriente.\n• Establecer las medidas de prevención.\n• Abordar el tratamiento tanto en la prevención como en la deficiencia.\n• Alertar sobre los efectos de la hipervitaminosis D.\n• Comprender la importancia de la Vitamina D y su rol en la aparición de ciertas enfermedades. \nDía y horario: viernes 26 de abril\, a las 19 horas. \nDestinatarios: Estudiantes de grado y postgrado\, docentes e investigadores de la UCSF. Público general interesado. \nDocente/ disertantes: Médica pediatra: Battagliotti\, Cristina Guadalupe \nInscripciones: https://www.eventbrite.com.ar/e/charla-vitamina-d-importancia-clinica-tickets-886207168497?aff=Insripciones \n⇑ \nImportante: el link de Zoom sólo se enviará por correo (1 día y 1 una hora antes del Evento) a los participantes que se hayan inscripto a través de este link) \nCV abreviado: \nMédica por la Universidad Nacional de Rosario. Especialidad: Pediatría y Reumatología. Investigadora y exdirectora Nacional del grupo de Trabajo PRINTO (pediatra reumatólogos internacional). Secretaria del Grupo de trabajo de Investigación de la SAP filial Santa Fe.\nFue médica Full-Time del Hospital de Niños Dr. Orlando Alassia\, Santa Fe. \nInformes: federico.fookespaccamiccio@ucsf.edu.ar\n                   nsturla@ucsf.edu.ar
URL:https://www.ucsf.edu.ar/evento/charla-la-vitamina-d-importancia-clinica/
LOCATION:UCSF Santa Fe\, Echagüe 7151\, Santa Fe\, Santa Fe\, Argentina
CATEGORIES:Pastoral,Cultura: coros y teatro,Santa Fe,Alumnos,Deportes,Rosario,Docentes,Posadas,Personal UCSF,Ciclos de complementación,Reconquista,Rafaela,Gualeguaychú,Comunidad,Licenciatura en Medios Digitales (CCC),Bienestar universitario,Sedes,Licenciatura en Negocios Digitales (CCC),Licenciatura en Psicomotricidad (CCC),Licenciatura en Seguridad Alimentaria (CCC),Extensión,Investigación,Profesorado en Historia (CCC),Profesorado en Lengua y Literatura (CCC)
ORGANIZER;CN="Vicerrectorado%20Acad%C3%A9mico":MAILTO:vrecacad@ucsf.edu.ar
GEO:-31.6069451;-60.6709418
X-APPLE-STRUCTURED-LOCATION;VALUE=URI;X-ADDRESS=UCSF Santa Fe Echagüe 7151 Santa Fe Santa Fe Argentina;X-APPLE-RADIUS=500;X-TITLE=Echagüe 7151:geo:-60.6709418,-31.6069451
END:VEVENT
END:VCALENDAR