BEGIN:VCALENDAR
VERSION:2.0
PRODID:-//UCSF - Universidad Católica de Santa Fe - ECPv5.14.2.1//NONSGML v1.0//EN
CALSCALE:GREGORIAN
METHOD:PUBLISH
X-WR-CALNAME:UCSF - Universidad Católica de Santa Fe
X-ORIGINAL-URL:https://www.ucsf.edu.ar
X-WR-CALDESC:Events for UCSF - Universidad Católica de Santa Fe
REFRESH-INTERVAL;VALUE=DURATION:PT1H
X-Robots-Tag:noindex
X-PUBLISHED-TTL:PT1H
BEGIN:VTIMEZONE
TZID:America/Argentina/Buenos_Aires
BEGIN:STANDARD
TZOFFSETFROM:-0300
TZOFFSETTO:-0300
TZNAME:-03
DTSTART:20240101T000000
END:STANDARD
END:VTIMEZONE
BEGIN:VEVENT
DTSTART;TZID=America/Argentina/Buenos_Aires:20240614T150000
DTEND;TZID=America/Argentina/Buenos_Aires:20240614T170000
DTSTAMP:20260421T175918
CREATED:20240508T131109Z
LAST-MODIFIED:20240510T180113Z
UID:71565-1718377200-1718384400@www.ucsf.edu.ar
SUMMARY:Cátedra Abierta de Derechos Humanos
DESCRIPTION:  \nEl Dr. Andreas Gutmann estudió derecho en Friburgo y Santa Marta y se doctoró en la Universidad de Bremen por un trabajo sobre derechos de la naturaleza en Ecuador. Hizo su pasantía jurídica (Referendariat) en el Tribunal de Apelaciones de Berlín y ahora trabaja como postdoctorado en el Instituto de Sostenibilidad de Kassel\, Universidad de Kassel. Sus intereses de investigación son derechos de la naturaleza\, extractivismo\, teoría jurídica crítica\, derecho poscolonial y derecho de asamblea. \n  \nLINK DE ACCESO  \n  \n  \n  \n 
URL:https://www.ucsf.edu.ar/evento/catedra-abierta-de-derechos-humanos-9/
LOCATION:UCSF Santa Fe\, Echagüe 7151\, Santa Fe\, Santa Fe\, Argentina
CATEGORIES:Investigación Ecojurídica,Alumnos,Docentes
GEO:-31.6069451;-60.6709418
X-APPLE-STRUCTURED-LOCATION;VALUE=URI;X-ADDRESS=UCSF Santa Fe Echagüe 7151 Santa Fe Santa Fe Argentina;X-APPLE-RADIUS=500;X-TITLE=Echagüe 7151:geo:-60.6709418,-31.6069451
END:VEVENT
END:VCALENDAR