BEGIN:VCALENDAR
VERSION:2.0
PRODID:-//UCSF - Universidad Católica de Santa Fe - ECPv5.14.2.1//NONSGML v1.0//EN
CALSCALE:GREGORIAN
METHOD:PUBLISH
X-WR-CALNAME:UCSF - Universidad Católica de Santa Fe
X-ORIGINAL-URL:https://www.ucsf.edu.ar
X-WR-CALDESC:Events for UCSF - Universidad Católica de Santa Fe
REFRESH-INTERVAL;VALUE=DURATION:PT1H
X-Robots-Tag:noindex
X-PUBLISHED-TTL:PT1H
BEGIN:VTIMEZONE
TZID:America/Argentina/Buenos_Aires
BEGIN:STANDARD
TZOFFSETFROM:-0300
TZOFFSETTO:-0300
TZNAME:-03
DTSTART:20250101T000000
END:STANDARD
END:VTIMEZONE
BEGIN:VEVENT
DTSTART;TZID=America/Argentina/Buenos_Aires:20251020T160000
DTEND;TZID=America/Argentina/Buenos_Aires:20251020T170000
DTSTAMP:20260419T161820
CREATED:20251016T182052Z
LAST-MODIFIED:20251016T184032Z
UID:88391-1760976000-1760979600@www.ucsf.edu.ar
SUMMARY:Exposición Lecciones desde Europa sobre EUDR: Consideraciones para el caso argentino
DESCRIPTION:
URL:https://www.ucsf.edu.ar/evento/exposicion-lecciones-desde-europa-sobre-eudr-consideraciones-para-el-caso-argentino/
LOCATION:Virtual\, Argentina
CATEGORIES:Investigación Ecojurídica
END:VEVENT
END:VCALENDAR