BEGIN:VCALENDAR
VERSION:2.0
PRODID:-//UCSF - Universidad Católica de Santa Fe - ECPv5.14.2.1//NONSGML v1.0//EN
CALSCALE:GREGORIAN
METHOD:PUBLISH
X-WR-CALNAME:UCSF - Universidad Católica de Santa Fe
X-ORIGINAL-URL:https://www.ucsf.edu.ar
X-WR-CALDESC:Events for UCSF - Universidad Católica de Santa Fe
REFRESH-INTERVAL;VALUE=DURATION:PT1H
X-Robots-Tag:noindex
X-PUBLISHED-TTL:PT1H
BEGIN:VTIMEZONE
TZID:America/Argentina/Buenos_Aires
BEGIN:STANDARD
TZOFFSETFROM:-0300
TZOFFSETTO:-0300
TZNAME:-03
DTSTART:20250101T000000
END:STANDARD
END:VTIMEZONE
BEGIN:VEVENT
DTSTART;TZID=America/Argentina/Buenos_Aires:20250403T153000
DTEND;TZID=America/Argentina/Buenos_Aires:20250403T180000
DTSTAMP:20260419T120325
CREATED:20250401T162843Z
LAST-MODIFIED:20250401T185603Z
UID:81448-1743694200-1743703200@www.ucsf.edu.ar
SUMMARY:Defensa de Tesis: Carolina Musacchio -Doctorado en Ciencia Jurídica - Departamento de Posgrado UCSF
DESCRIPTION:Link de ZOOM \n  \n 
URL:https://www.ucsf.edu.ar/evento/defensa-de-tesis-carolina-musacchio-doctorado-en-ciencia-juridica-departamento-de-posgrado-ucsf/
LOCATION:Vía Zoom\, Argentina
CATEGORIES:A distancia,Alumnos,Santa Fe,Docentes,Rosario,Personal UCSF,Posadas,Reconquista,Carreras de Posgrado,Departamento de Posgrados,Doctorado en Ciencias Jurídicas,Comunidad,Posgrados,Sedes
ATTACH;FMTTYPE=image/png:https://www.ucsf.edu.ar/wp-content/uploads/2025/04/Anadir-un-subtitulo-1.png
ORGANIZER;CN="Posgrado":MAILTO:posgrado@ucsf.edu.ar
END:VEVENT
BEGIN:VEVENT
DTSTART;TZID=America/Argentina/Buenos_Aires:20250421T170000
DTEND;TZID=America/Argentina/Buenos_Aires:20250421T193000
DTSTAMP:20260419T120325
CREATED:20250416T160122Z
LAST-MODIFIED:20250416T172158Z
UID:81867-1745254800-1745263800@www.ucsf.edu.ar
SUMMARY:Defensa de Tesis: Carlos César Alvez - Doctorado en Derecho - Departamento de Posgrado UCSF
DESCRIPTION:  \n 
URL:https://www.ucsf.edu.ar/evento/defensa-de-tesis-carlos-cesar-alvez-doctorado-en-derecho-departamento-de-posgrado-ucsf/
LOCATION:UCSF Santa Fe\, Echagüe 7151\, Santa Fe\, Santa Fe\, Argentina
CATEGORIES:A distancia,Alumnos,Santa Fe,Docentes,Rosario,Personal UCSF,Posadas,Reconquista,Carreras de Posgrado,Departamento de Posgrados,Doctorado en Ciencias Jurídicas,Comunidad,Posgrados,Sedes
ATTACH;FMTTYPE=image/png:https://www.ucsf.edu.ar/wp-content/uploads/2025/04/Anadir-un-subtitulo-3.png
ORGANIZER;CN="Posgrado":MAILTO:posgrado@ucsf.edu.ar
GEO:-31.6069451;-60.6709418
X-APPLE-STRUCTURED-LOCATION;VALUE=URI;X-ADDRESS=UCSF Santa Fe Echagüe 7151 Santa Fe Santa Fe Argentina;X-APPLE-RADIUS=500;X-TITLE=Echagüe 7151:geo:-60.6709418,-31.6069451
END:VEVENT
BEGIN:VEVENT
DTSTART;TZID=America/Argentina/Buenos_Aires:20250425T180000
DTEND;TZID=America/Argentina/Buenos_Aires:20250425T200000
DTSTAMP:20260419T120325
CREATED:20250416T203410Z
LAST-MODIFIED:20250416T210233Z
UID:81875-1745604000-1745611200@www.ucsf.edu.ar
SUMMARY:Encuentro de Socialización de proyectos de investigación y extensión de la FFH sobre educación
DESCRIPTION:Desde el Instituto de Investigaciones en Educación Argentina los invitamos a un encuentro abierto en el que se socializarán las actividades de investigación y extensión de la FFH que se llevaron a cabo en los últimos años en torno a temáticas del mundo educativo. El instituto tiene establecidos para todo el año una serie de encuentros mensuales y se encuentra recibiendo solicitudes de incorporación como miembros del mismo.\n\nQuienes no se encuentran en Santa Fe\, pueden sumarse a este encuentro vía zoom:  https://zoom.us/j/94037301496\n\nActividad no arancelada y sin inscripción previa. Consultas: iiea@ucsf.edu.ar
URL:https://www.ucsf.edu.ar/evento/encuentro-de-socializacion-de-proyectos-de-investigacion-y-extension-de-la-ffh-sobre-educacion/
LOCATION:UCSF Santa Fe\, Echagüe 7151\, Santa Fe\, Santa Fe\, Argentina
CATEGORIES:A distancia,Licenciatura en Ciencias Sociales (CCC),Alumnos,Santa Fe,Docentes,Licenciatura en Gestión de la Educación (CCC),Filosofía y Humanidades,Licenciatura en Ciencias de la Educación,Profesorado en Ciencias de la Educación,Profesorado en Educación Primaria,Profesorado en Enseñanza Superior
ATTACH;FMTTYPE=image/jpeg:https://www.ucsf.edu.ar/wp-content/uploads/2025/04/Encuentro-Socializacion-de-proyecto_web.jpg
GEO:-31.6069451;-60.6709418
X-APPLE-STRUCTURED-LOCATION;VALUE=URI;X-ADDRESS=UCSF Santa Fe Echagüe 7151 Santa Fe Santa Fe Argentina;X-APPLE-RADIUS=500;X-TITLE=Echagüe 7151:geo:-60.6709418,-31.6069451
END:VEVENT
END:VCALENDAR