BEGIN:VCALENDAR
VERSION:2.0
PRODID:-//UCSF - Universidad Católica de Santa Fe - ECPv5.14.2.1//NONSGML v1.0//EN
CALSCALE:GREGORIAN
METHOD:PUBLISH
X-WR-CALNAME:UCSF - Universidad Católica de Santa Fe
X-ORIGINAL-URL:https://www.ucsf.edu.ar
X-WR-CALDESC:Events for UCSF - Universidad Católica de Santa Fe
REFRESH-INTERVAL;VALUE=DURATION:PT1H
X-Robots-Tag:noindex
X-PUBLISHED-TTL:PT1H
BEGIN:VTIMEZONE
TZID:America/Argentina/Buenos_Aires
BEGIN:STANDARD
TZOFFSETFROM:-0300
TZOFFSETTO:-0300
TZNAME:-03
DTSTART:20250101T000000
END:STANDARD
END:VTIMEZONE
BEGIN:VEVENT
DTSTART;VALUE=DATE:20250327
DTEND;VALUE=DATE:20250329
DTSTAMP:20260419T194159
CREATED:20250219T173236Z
LAST-MODIFIED:20250225T213133Z
UID:80254-1743033600-1743206399@www.ucsf.edu.ar
SUMMARY:Congreso Internacional de Derecho Procesal\, en homenaje al Prof. Dr. Adolfo Alvarado  Velloso
DESCRIPTION:Inscripción \n 
URL:https://www.ucsf.edu.ar/evento/congreso-internacional-de-derecho-procesal-en-homenaje-al-prof-dr-adolfo-alvarado-velloso/
LOCATION:UCSF Sede Santos Mártires – Posadas\, Rademacher 3943\, Posadas\, Misiones\, Argentina
CATEGORIES:Abogacía,A distancia,Facultades,Alumnos,Santa Fe,Carreras de Grado,Docentes,Rosario,Personal UCSF,Especialización en Derecho Procesal,Posadas,Derecho y Ciencia Política,Carreras de Posgrado,Departamento de Posgrados,Comunidad,Posgrados,Sedes,Martillero Público y Corredor Inmobiliario
ATTACH;FMTTYPE=image/png:https://www.ucsf.edu.ar/wp-content/uploads/2025/02/derecho-procesal-2025_feed.png
ORGANIZER;CN="Posgrado":MAILTO:posgrado@ucsf.edu.ar
GEO:-27.3859693;-55.896416
X-APPLE-STRUCTURED-LOCATION;VALUE=URI;X-ADDRESS=UCSF Sede Santos Mártires – Posadas Rademacher 3943 Posadas Misiones Argentina;X-APPLE-RADIUS=500;X-TITLE=Rademacher 3943:geo:-55.896416,-27.3859693
END:VEVENT
END:VCALENDAR