BEGIN:VCALENDAR
VERSION:2.0
PRODID:-//UCSF - Universidad Católica de Santa Fe - ECPv5.14.2.1//NONSGML v1.0//EN
CALSCALE:GREGORIAN
METHOD:PUBLISH
X-WR-CALNAME:UCSF - Universidad Católica de Santa Fe
X-ORIGINAL-URL:https://www.ucsf.edu.ar
X-WR-CALDESC:Events for UCSF - Universidad Católica de Santa Fe
REFRESH-INTERVAL;VALUE=DURATION:PT1H
X-Robots-Tag:noindex
X-PUBLISHED-TTL:PT1H
BEGIN:VTIMEZONE
TZID:America/Argentina/Buenos_Aires
BEGIN:STANDARD
TZOFFSETFROM:-0300
TZOFFSETTO:-0300
TZNAME:-03
DTSTART:20240101T000000
END:STANDARD
END:VTIMEZONE
BEGIN:VEVENT
DTSTART;TZID=America/Argentina/Buenos_Aires:20241022T180000
DTEND;TZID=America/Argentina/Buenos_Aires:20241022T200000
DTSTAMP:20260421T160815
CREATED:20240910T143452Z
LAST-MODIFIED:20240910T143452Z
UID:76149-1729620000-1729627200@www.ucsf.edu.ar
SUMMARY:Curso interuniversitario: Dignidad humana\, aborto y eutanasia
DESCRIPTION:El Instituto de Bioética “Jérôme Lejeune”\, de la Universidad Católica de Santa Fe\, en colaboración con otras instituciones académicas de la Red UC-OC\, ofrecerá el curso interuniversitario “Dignidad humana\, aborto y eutanasia: aproximación interdisciplinaria” del 3 de septiembre al 12 de noviembre de 2024. Es gratuito\, con inscripción previa; y otorga puntaje para la Carrera docente UCSF. \nEste curso tiene como propósito profundizar en la reflexión sobre la dignidad humana desde una perspectiva integral\, abordando temas cruciales como la eutanasia\, el aborto y la defensa de la vida en todas sus etapas; desde el inicio de la vida hasta la muerte natural. El programa completo se puede consultar en este link.  \nEl curso se impartirá en modalidad sincrónica a través de la plataforma Zoom\, facilitando la participación de estudiantes y profesionales de todo el país. Se dictará los martes de 18 a 20hs hasta el 12 de noviembre de 2024. La carga horaria total es de 22 horas estructuradas en 11 encuentros semanales. \n 
URL:https://www.ucsf.edu.ar/evento/curso-interuniversitario-dignidad-humana-aborto-y-eutanasia-7/
LOCATION:Vía Zoom\, Argentina
CATEGORIES:A distancia,Home principal,Facultades,Santa Fe,Carreras de Grado,IB Instituto de Bioética Jerome Lejeune,Docentes,Rosario,Posadas,Personal UCSF,Reconquista,Rafaela,LA UCSF,Gualeguaychú,Vicerrectorado de Formación,Comunidad,Concordia,Sedes,Institutos
ATTACH;FMTTYPE=image/png:https://www.ucsf.edu.ar/wp-content/uploads/2024/09/curso-interuniversitario-bioetica.png
END:VEVENT
BEGIN:VEVENT
DTSTART;TZID=America/Argentina/Buenos_Aires:20241024T190000
DTEND;TZID=America/Argentina/Buenos_Aires:20241024T210000
DTSTAMP:20260421T160815
CREATED:20241002T211238Z
LAST-MODIFIED:20241002T211238Z
UID:76897-1729796400-1729803600@www.ucsf.edu.ar
SUMMARY:Conferencia y conversatorio “Filosofía de la Comunicación para la Promoción del Sentido”
DESCRIPTION:Las paradojas y claroscuros de este tiempo no sólo interpelan el presente y el futuro de la humanidad\, sino el de la vida en el planeta\, en todas sus formas.\nLa educación específicamente\, y la cultura en un sentido más amplio\, se muestran como contextos que afrontan la urgente necesidad de recuperar o reconstruir nuevos sentidos\, para promover de manera fecunda acciones remediación y desarrollo integral\, a nivel individual\, social e institucional.\nPero lo curioso y desafiante de este tiempo\, es que en ocasiones aquello que debería alumbrar el camino y alimentar la esperanza -con profundo convencimiento- corre frecuentemente el riesgo de terminar siendo funcional a todo aquello que reconoce como crisis o amenaza\, para terminar impulsando y reproduciendo concepciones y prácticas socio-culturales que merecen una reconsideración de fondo\, para arremeter definitivamente contra el absurdo y el sinsentido.-\nNo alcanza con diagnósticos fatalistas -al fin y al cabo los diagnósticos no debieran constituir nunca un fin en sí mismo-\, pero tampoco con inercias de pretendido crecimiento\, que desconociendo su matriz más profunda\, terminen potenciando un devenir errático\, y claramente autodestructivo\, aunque en ocasiones camuflado bajo el nombre de “progreso”.\nCon apasionamiento\, de manera comprometida\, y con entusiasmo vital urge considerar la imperiosa necesidad no sólo de pensar en nuevos sentidos\, sino de promoverlos activamente\, para dar lugar a prácticas personales\, sociales e institucionales acordes a la complejidad crítica del tiempo en que vivimos. \nLa Conferencia y conversatorio “Filosofía de la Comunicación para la Promoción del Sentido” estará a cargo del Lic. Alberto Trossero. Con más de 34 años de trayectoria en la educación y la comunicación\, Alberto Trossero es un destacado profesional en divulgación científica y cultural. Fundó y dirigió la revista ConCiencia en la Universidad Nacional del Litoral durante 12 años\, y la revista UniCiencia en la Universidad Nacional de San Luis por 6 años. También inició la revista Postales\, centrada en patrimonios culturales. Ha desempeñado papeles clave como director de comunicación de la ciencia y ha producido diversos materiales interactivos y documentales que promueven la ciencia.\nEn el ámbito docente\, ha sido profesor universitario en áreas de comunicación\, ética y cultura\, y ha capacitado a docentes en educación y creatividad. Ha realizado numerosas producciones documentales\, resaltando la obra de reconocidos autores como Atahualpa Yupanqui y Antonio Esteban Agüero.\nEn cuanto a su gestión institucional\, ha ocupado varios cargos\, incluyendo Director de Comunicación de la Ciencia y Secretario Académico en distintas universidades. Es fundador y director de la Productora Cultural ALMA de Arte y Cultura.\nEntre sus publicaciones destacan libros como “Grafías de Sueños Ancestrales” y “El vuelo sagrado”. Ha recibido múltiples distinciones\, incluyendo el Premio Libertad y Democracia y el Premio Rector “Alberto Puchmuller” por sus contribuciones sociales y culturales. \nEsta actividad está destinada a profesionales del ámbito de la educación\, comunicación y filosofía\, interesados en la temática de la Promoción del sentido en diferentes ámbitos. Docentes y alumnos de carreras afines a Educación y Comunicación. \n  \nModalidad híbrida:  presencialmente en Sede Santa Fe\, Aula: 3.51. Para unirse virtualmente\, el link de acceso es https://zoom.us/j/93221031201 \n  \nMás información: iiea@ucsf.edu.ar \nOrganiza: Instituto de Investigación en Educación Argentina – FFH
URL:https://www.ucsf.edu.ar/evento/filosofia-de-la-comunicacion-para-la-promocion-del-sentido/
LOCATION:UCSF Santa Fe\, Echagüe 7151\, Santa Fe\, Santa Fe\, Argentina
CATEGORIES:A distancia,Facultades,Alumnos,Cultura: coros y teatro,Santa Fe,Docentes,Rosario,Personal UCSF,Reconquista,Filosofía y Humanidades,Comunidad,Concordia,Bienestar universitario,Sedes
ATTACH;FMTTYPE=image/png:https://www.ucsf.edu.ar/wp-content/uploads/2024/10/Conferencia-EDUCACION-Y-COMUNICACION_feed-1.png
ORGANIZER;CN="Facultad%20de%20Filosofia%20y%20Humanidades":MAILTO:extensionffyh@ucsf.edu.ar
GEO:-31.6069451;-60.6709418
X-APPLE-STRUCTURED-LOCATION;VALUE=URI;X-ADDRESS=UCSF Santa Fe Echagüe 7151 Santa Fe Santa Fe Argentina;X-APPLE-RADIUS=500;X-TITLE=Echagüe 7151:geo:-60.6709418,-31.6069451
END:VEVENT
END:VCALENDAR