BEGIN:VCALENDAR
VERSION:2.0
PRODID:-//UCSF - Universidad Católica de Santa Fe - ECPv5.14.2.1//NONSGML v1.0//EN
CALSCALE:GREGORIAN
METHOD:PUBLISH
X-WR-CALNAME:UCSF - Universidad Católica de Santa Fe
X-ORIGINAL-URL:https://www.ucsf.edu.ar
X-WR-CALDESC:Events for UCSF - Universidad Católica de Santa Fe
REFRESH-INTERVAL;VALUE=DURATION:PT1H
X-Robots-Tag:noindex
X-PUBLISHED-TTL:PT1H
BEGIN:VTIMEZONE
TZID:America/Argentina/Buenos_Aires
BEGIN:STANDARD
TZOFFSETFROM:-0300
TZOFFSETTO:-0300
TZNAME:-03
DTSTART:20250101T000000
END:STANDARD
END:VTIMEZONE
BEGIN:VEVENT
DTSTART;TZID=America/Argentina/Buenos_Aires:20250404T183000
DTEND;TZID=America/Argentina/Buenos_Aires:20250618T203000
DTSTAMP:20260419T090406
CREATED:20250318T163933Z
LAST-MODIFIED:20250331T191318Z
UID:81047-1743791400-1750278600@www.ucsf.edu.ar
SUMMARY:"Construcción de Aulas Emocionalmente Inteligentes”
DESCRIPTION: Diplomatura Superior RR N.º 14.105 \nDescripción General \nLa Diplomatura Universitaria\, titulada: “Construcción de Aulas Emocionalmente Inteligentes” es un trayecto formativo virtual diseñado para docentes\, directivos y profesionales del ámbito educativo que buscan comprender y desarrollar estrategias efectivas para abordar las emociones en el aula y favorecer la inteligencia emocional al interior de la comunidad educativa. Conocer las emociones y la manera en que las mismas influyen en el desarrollo de las infancias y adolescencias constituye una herramienta significativa para repensar las prácticas de enseñanza y aprendizaje. \nObjetivo General \nFormar docentes\, directivos y profesionales del ámbito educativo en la comprensión y aplicación de estrategias pedagógicas innovadoras que integren la inteligencia emocional en el aula\, con el fin de promover un ambiente de aprendizaje positivo\, significativo y enriquecedor para el desarrollo integral de los estudiantes. \nDestinatarios \nLa Diplomatura está dirigida al ámbito educativo formal\, específicamente docentes de todos los niveles y modalidades\, profesionales de la educación y la salud mental que trabajen en ámbitos educativos y estudiantes avanzados de carreras afines. \nMetodología \nLa Diplomatura se desarrollará bajo la modalidad virtual\, incluyendo tanto instancias sincrónicas como asincrónicas. Cada Módulo contará con: \nClases virtuales sincrónicas: Exposición de contenidos\, análisis de situaciones\, debate y actividades prácticas. \nTrabajos asincrónicos mediante aula virtual de la UCSF. \nMaterial de lectura y estudio: artículos científicos\, libros y recursos en línea. \nFecha de Inicio: 04/04/2025 \nDuración: 16 semanas \nLink de Inscripción: \n https://forms.gle/ML94TeD5ozwLjFL8A
URL:https://www.ucsf.edu.ar/evento/construccion-de-aulas-emocionalmente-inteligentes/
LOCATION:Virtual\, Argentina
CATEGORIES:Pastoral,Cultura: coros y teatro,Santa Fe,Facultades,Alumnos,Docentes,Rosario,Carreras de Grado,Personal UCSF,Reconquista,Comunidad,Psicología,Bienestar universitario,Sedes,IIEP Instituto de Investigaciones y Extensión en Psicología,Licenciatura en Psicología,Licenciatura en Psicopedagogía,IIEP Instituto de Investigaciones y Extensión en Psicología
ATTACH;FMTTYPE=image/jpeg:https://www.ucsf.edu.ar/wp-content/uploads/2025/03/feec0b44-d0dc-4291-8381-d8ecf923a12f-1-1.jpg
ORGANIZER;CN="Facultad%20de%20Psicolog%C3%ADa":MAILTO:ralarcon@ucsf.edu.ar
END:VEVENT
BEGIN:VEVENT
DTSTART;TZID=America/Argentina/Buenos_Aires:20250526T080000
DTEND;TZID=America/Argentina/Buenos_Aires:20250819T140000
DTSTAMP:20260419T090406
CREATED:20250602T124332Z
LAST-MODIFIED:20250602T125650Z
UID:82993-1748246400-1755612000@www.ucsf.edu.ar
SUMMARY:Convocatoria emprendedores: Santander X Explorer 2° Edición 2025
DESCRIPTION:  \nBanco Santander lanza la XXI edición de Santander X Explorer\, que lleva ya 16 años fomentando el emprendimiento en sus etapas más tempranas y apoyando la validación de ideas con el fin de comprobar si pueden convertirse en proyectos rentables y soluciones innovadoras. \n¿Quieres convertirte en tu propio jefe\, montar algo con tus amigos (puedes participar solo/a o en un equipo de\, como máximo\, 5 personas)\, lograr que tus ideas aporten? \nSantander X Explorer te ayuda a experimentar sin riesgos con el emprendimiento como opción profesional y como forma de independencia económica. Durante 12 semanas trabajarás sobre tu proyecto\, en un programa de formación a distancia\, certificado y sin costo\, probando si puede transformarse en una solución que contribuya a mejorar el mundo\, a lograr alguno de los ODS 2030. \n¿Queres inscribirte? Accede aquí: https://link.explorerbyx.org/8Bz5 \n¿+ info? Contactá al coordinador del programa para UCSF\, Alvaro Irigoitia Romero\, por correo electrónico: airigoitia@ucsf.edu.ar \n  \n 
URL:https://www.ucsf.edu.ar/evento/convocatoria-emprendedores-santander-x-explorer-2-edicion-2025/
LOCATION:UCSF\, Echagüe 7151\, Santa Fe Capital\, Santa Fe\, 3000\, Argentina
CATEGORIES:Santa Fe,Rosario,Posadas,Reconquista,Rafaela,Gualeguaychú,Sedes
ORGANIZER;CN="Facultad%20de%20Ciencias%20Econ%C3%B3micas":MAILTO:gvelazquez@ucsf.edu.ar
END:VEVENT
BEGIN:VEVENT
DTSTART;TZID=America/Argentina/Buenos_Aires:20250603T090000
DTEND;TZID=America/Argentina/Buenos_Aires:20250603T113000
DTSTAMP:20260419T090406
CREATED:20240507T142303Z
LAST-MODIFIED:20250514T143559Z
UID:71450-1748941200-1748950200@www.ucsf.edu.ar
SUMMARY:Reconquista -Taller de Oratoria para estudiantes y jóvenes profesionales
DESCRIPTION:La Facultad de Ciencias Económicas de la Sede Reconquista\, invita a participar de este taller practico destinado a docentes\, estudiantes y Jóvenes profesionales\, a realizarse a partir del martes 3 de Junio de 2025\, de 9 a 11.30hs\, en 5 encuentros presenciales. \nDISERTANTES: Maria Cecilia Ghio y Mariela Virardi \nOBJETIVO: \nDesarrollar y fortalecer las habilidades oratorias de estudiantes y jóvenes profesionales\, capacitándolos para expresarse de manera clara\, persuasiva y efectiva en diferentes contextos académicos y profesionales. \nObjetivos Específicos: \n1. Mejorar la expresión oral: \n-Desarrollar la capacidad para articular ideas de manera clara y coherente. \n-Fomentar la pronunciación correcta y el uso adecuado del tono\, el ritmo y el volumen al hablar en público. \n-Desarrollar la capacidad de hablar con confianza y naturalidad\, desterrando muletillas y titubeos. \n2. Potenciar la estructuración de discursos: \n-Enseñar técnicas efectivas para organizar y estructurar discursos de manera lógica. \n-Facilitar la elaboración de presentaciones con introducciones que capten la atención de la audiencia\, desarrollos que expongan argumentos a favor y en contra de una tesis y conclusiones convincentes. \n3. Potenciar la habilidad de persuasión: \n-Enseñar estrategias para argumentar de manera convincente y persuadir a la audiencia. \n-Desarrollar la capacidad de adaptar el discurso según el propósito\, la audiencia y el contexto. \n4. Desarrollar habilidades de improvisación: \n-Promover la capacidad para hablar de manera espontánea y persuasiva frente a diversas audiencias. \n-Proporcionar herramientas para gestionar el nerviosismo y responder de manera efectiva a preguntas\, interrupciones e imponderables. \n5. Fomentar la conexión emocional con la audiencia: \n-Enseñar técnicas para establecer empatía y conexión con la audiencia. \n-Desarrollar habilidades para adaptar el discurso según el público para generar un impacto positivo. \n6. Promover el uso efectivo de recursos visuales y no verbales: \n-Capacitar para el uso adecuado de los gestos\, las expresiones faciales y la postura corporal entre otros. \n-Enseñar a utilizar de manera efectiva recursos visuales\, como presentaciones multimedia y otros. \nCUPOS LIMTADOS \nInscripción: https://forms.office.com/r/YepP8PMmt1 \nConsultas: marialrodriguez@ucsf.edu.ar
URL:https://www.ucsf.edu.ar/evento/taller-de-oratoria-para-estudiantes-y-jovenes-profesionales/
LOCATION:UCSF Sede Reconquista\, Ludueña 612\, Reconquista\, Santa Fe\, Argentina
CATEGORIES:Reconquista
ATTACH;FMTTYPE=image/jpeg:https://www.ucsf.edu.ar/wp-content/uploads/2024/05/taller-oratoria_flyer-2.jpg
GEO:-29.1437691;-59.641047
X-APPLE-STRUCTURED-LOCATION;VALUE=URI;X-ADDRESS=UCSF Sede Reconquista Ludueña 612 Reconquista Santa Fe Argentina;X-APPLE-RADIUS=500;X-TITLE=Ludueña 612:geo:-59.641047,-29.1437691
END:VEVENT
BEGIN:VEVENT
DTSTART;TZID=America/Argentina/Buenos_Aires:20250605T163000
DTEND;TZID=America/Argentina/Buenos_Aires:20250605T190000
DTSTAMP:20260419T090406
CREATED:20250512T195610Z
LAST-MODIFIED:20250512T195610Z
UID:82391-1749141000-1749150000@www.ucsf.edu.ar
SUMMARY:Jornada sobre práctica forense en Derecho de Familia y Sucesiones
DESCRIPTION:Jornadas organizadas conjuntamente con el Colegio de Abogados de Reconquista IV Circunscripción en el marco de la celebración de los 25 años de la Sede San Jerónimo de la Universidad Católica de Santa Fe. \n  \nPrograma: \nLiquidación de la comunidad ganancial por muerte de uno de los cónyuges\nDisertante: Francisco M. Ferrer \nCuestiones prácticas del conflicto familiar y su abordaje\nDisertante: Nahuel Bay \nCuestiones prácticas del proceso sucesorio\nDisertante: Esteban Gutiérrez Dalla Fontana \n  \n=> Actividad gratuita con inscripción previa <= \nPara inscribirse por favor complete el formulario del siguiente enlace: \nhttps://forms.gle/tFxdP7rJSbib36nc9 \nTambién puede acceder al formulario a través del siguiente QR:
URL:https://www.ucsf.edu.ar/evento/jornada-sobre-practica-forense-en-derecho-de-familia-y-sucesiones/
LOCATION:UCSF Sede Reconquista\, Ludueña 612\, Reconquista\, Santa Fe\, Argentina
CATEGORIES:Abogacía,Facultades,Reconquista,Derecho y Ciencia Política,Martillero Público y Corredor Inmobiliario,Notariado,Procuración
ATTACH;FMTTYPE=image/png:https://www.ucsf.edu.ar/wp-content/uploads/2025/05/Jornadas-scaled.png
GEO:-29.1437691;-59.641047
X-APPLE-STRUCTURED-LOCATION;VALUE=URI;X-ADDRESS=UCSF Sede Reconquista Ludueña 612 Reconquista Santa Fe Argentina;X-APPLE-RADIUS=500;X-TITLE=Ludueña 612:geo:-59.641047,-29.1437691
END:VEVENT
BEGIN:VEVENT
DTSTART;TZID=America/Argentina/Buenos_Aires:20250617T183000
DTEND;TZID=America/Argentina/Buenos_Aires:20250701T200000
DTSTAMP:20260419T090406
CREATED:20250325T154243Z
LAST-MODIFIED:20250325T154244Z
UID:81271-1750185000-1751400000@www.ucsf.edu.ar
SUMMARY:Desarrollo de Competencias Socioemocionales en el Entorno Educativo.
DESCRIPTION:Instituciones Educativas y Salud Mental \nCursos de Actualización Académica \nSegún Resolución Nº 6690 \n  \nDocentes dictantes: \nEsp. Ana Luisa Natta \nLic. Sonia Bonazolla \n  \nFundamentación de la propuesta \nEl panorama educativo actual demanda profesionales capaces de ir más allá de la mera transmisión de conocimientos. La integración de competencias socioemocionales en el aula se ha consolidado como un factor determinante para el éxito académico y el bienestar integral de los estudiantes. Este curso de actualización académica se fundamenta en la necesidad de proporcionar a los educadores herramientas y estrategias basadas en la evidencia para cultivar un entorno de aprendizaje que promueva la inteligencia emocional\, la resiliencia y la convivencia armoniosa. \nA través de un enfoque riguroso y práctico\, los participantes explorarán los fundamentos teóricos de la inteligencia emocional\, aprenderán a aplicar técnicas de gestión emocional y comunicación efectiva\, y desarrollarán habilidades para abordar situaciones de crisis y promover el bienestar socioemocional en la comunidad educativa. \nObjetivo General: \nFortalecer las competencias socioemocionales de los profesionales de la educación para optimizar el proceso de enseñanza-aprendizaje y fomentar un clima escolar positivo. \n Objetivos Específicos: \nAnalizar los modelos teóricos de la inteligencia emocional y su relevancia en el contexto educativo. \nDesarrollar habilidades para la gestión eficaz de las emociones en el aula. \nDominar estrategias de comunicación asertiva y escucha activa para la construcción de relaciones interpersonales sólidas. \nImplementar técnicas de mindfulness y relajación para la gestión del estrés y la promoción del bienestar emocional.
URL:https://www.ucsf.edu.ar/evento/desarrollo-de-competencias-socioemocionales-en-el-entorno-educativo/
LOCATION:Virtual\, Argentina
CATEGORIES:Santa Fe,Facultades,Alumnos,Docentes,Rosario,Carreras de Grado,Personal UCSF,Reconquista,Comunidad,Psicología,Bienestar universitario,Sedes,IIEP Instituto de Investigaciones y Extensión en Psicología,Licenciatura en Psicología,Licenciatura en Psicopedagogía,IIEP Instituto de Investigaciones y Extensión en Psicología
ATTACH;FMTTYPE=image/jpeg:https://www.ucsf.edu.ar/wp-content/uploads/2025/03/Jornada-Salud-Mental-imagen-1.jpg
ORGANIZER;CN="Facultad%20de%20Psicolog%C3%ADa":MAILTO:ralarcon@ucsf.edu.ar
END:VEVENT
BEGIN:VEVENT
DTSTART;TZID=America/Argentina/Buenos_Aires:20250626T153000
DTEND;TZID=America/Argentina/Buenos_Aires:20250626T200000
DTSTAMP:20260419T090406
CREATED:20250520T133036Z
LAST-MODIFIED:20250623T131719Z
UID:82502-1750951800-1750968000@www.ucsf.edu.ar
SUMMARY:Jornada Preparatoria de las XXX Jornadas Nacionales de Derecho Civil
DESCRIPTION:JORNADA PREPARATORIA DE LAS XXX JORNADAS NACIONALES DE DERECHO CIVIL (25 al 27 de Septiembre en la UNNE\, Provincia de Corrientes) \nDirigida a Alumnos\, abogados\, escribanos\, magistrados y la comunidad interesada en la temática Tendrá lugar el día 26 de Junio en la Sede Santos Mártires a partir de  las15.30 horas: apertura de las jornadas. Palabras del Presidente de las Jornadas. \nLa modalidad será Híbrida\, presencial en la Sede Santos Mártires y por zoom para el restos de los asistentes en las Sedes. \nEl evento es libre y gratuito con certificado arancelado. ($3000.-) \nPanel Parte General/Obligaciones: Amanda Palacios\, Débora Furman\, Cristian Werlen. \nPanel Consumo/Daños: Martín Ayala\, Juan Manuel Lezcano\, Carlos Canseco Mirassou. \nPanel Contratos/ Derechos Reales: Gabriel Abad\, Carolina Rosas\, Roberto Dellamonica. \nPanel de Familia y Sucesiones: Marcela Chamorro\, Esteban Gutiérrez Dalla Fontana \nContacto e inscripciones: crosas@ucsf.edu.ar\, dfurman@ucsf.edu.ar.
URL:https://www.ucsf.edu.ar/evento/jornada-preparatoria-de-las-xxx-nacionales-de-derecho-civil-dia-26-de-junio/
LOCATION:UCSF Sede Santos Mártires – Posadas\, Rademacher 3943\, Posadas\, Misiones\, Argentina
CATEGORIES:Abogacía,Santa Fe,Carreras de Grado,Posadas,Reconquista,Sedes
ATTACH;FMTTYPE=image/jpeg:https://www.ucsf.edu.ar/wp-content/uploads/2025/05/Preparatoria-de-las-XXX-Jornadas-Nacionales-de-Derecho-Civil_historia-scaled.jpg
ORGANIZER;CN="Facultad%20de%20Derecho%20y%20Ciencia%20Pol%C3%ADtica%20-%20Sede%20Posadas":MAILTO:posadas@ucsf.edu.ar
GEO:-27.3859693;-55.896416
X-APPLE-STRUCTURED-LOCATION;VALUE=URI;X-ADDRESS=UCSF Sede Santos Mártires – Posadas Rademacher 3943 Posadas Misiones Argentina;X-APPLE-RADIUS=500;X-TITLE=Rademacher 3943:geo:-55.896416,-27.3859693
END:VEVENT
BEGIN:VEVENT
DTSTART;TZID=America/Argentina/Buenos_Aires:20250627T160000
DTEND;TZID=America/Argentina/Buenos_Aires:20250627T180000
DTSTAMP:20260419T090406
CREATED:20250624T143136Z
LAST-MODIFIED:20250624T143136Z
UID:83647-1751040000-1751047200@www.ucsf.edu.ar
SUMMARY:Reconquista -La Facu de Salud\, al paso
DESCRIPTION:En el marco del 25 aniversario de la Sede San Jerónimo\, Reconquista\, y con el objetivo de visibilizar las carreras de grado que son ofrecidas en la FCS-UCSF\, el día viernes 26 de Junio de 16 a 18 hrs se realizará una intervención lúdica el Anexo Mitre\, denominada: La facu de salud al paso. \nEsta jornada esta dirigida a toda la comunidad de Reconquista y la región\, donde alumnos y docentes de la Lic en Nutrición\, Lic en Terapia Ocupacional y Kinesiología y Fisiatría harán demostraciones sobre habilidades propias del egresado de cada carrera\, utilizando elementos característicos. \nTambién habrá juegos y premios. \nLugar: Mitre 737\, Reconquista
URL:https://www.ucsf.edu.ar/evento/reconquista-la-facu-de-salud-al-paso/
LOCATION:UCSF Sede Reconquista\, Ludueña 612\, Reconquista\, Santa Fe\, Argentina
CATEGORIES:Reconquista,Sedes
ATTACH;FMTTYPE=image/jpeg:https://www.ucsf.edu.ar/wp-content/uploads/2025/06/WhatsApp-Image-2025-06-23-at-20.00.09.jpeg
GEO:-29.1437691;-59.641047
X-APPLE-STRUCTURED-LOCATION;VALUE=URI;X-ADDRESS=UCSF Sede Reconquista Ludueña 612 Reconquista Santa Fe Argentina;X-APPLE-RADIUS=500;X-TITLE=Ludueña 612:geo:-59.641047,-29.1437691
END:VEVENT
END:VCALENDAR