BEGIN:VCALENDAR
VERSION:2.0
PRODID:-//UCSF - Universidad Católica de Santa Fe - ECPv5.14.2.1//NONSGML v1.0//EN
CALSCALE:GREGORIAN
METHOD:PUBLISH
X-WR-CALNAME:UCSF - Universidad Católica de Santa Fe
X-ORIGINAL-URL:https://www.ucsf.edu.ar
X-WR-CALDESC:Events for UCSF - Universidad Católica de Santa Fe
REFRESH-INTERVAL;VALUE=DURATION:PT1H
X-Robots-Tag:noindex
X-PUBLISHED-TTL:PT1H
BEGIN:VTIMEZONE
TZID:America/Argentina/Buenos_Aires
BEGIN:STANDARD
TZOFFSETFROM:-0300
TZOFFSETTO:-0300
TZNAME:-03
DTSTART:20240101T000000
END:STANDARD
END:VTIMEZONE
BEGIN:VEVENT
DTSTART;TZID=America/Argentina/Buenos_Aires:20240827T190000
DTEND;TZID=America/Argentina/Buenos_Aires:20241112T210000
DTSTAMP:20260420T174329
CREATED:20240814T190319Z
LAST-MODIFIED:20240814T190751Z
UID:75171-1724785200-1731445200@www.ucsf.edu.ar
SUMMARY:Seminarios Abiertos de Posgrado Acreditables a la Espec. en Gestión de la Transformación Digital
DESCRIPTION:
URL:https://www.ucsf.edu.ar/evento/seminarios-abiertos-de-posgrado-acreditables-a-la-esp-en-gestion-de-la-transformacion-digital/
LOCATION:Vía Zoom\, Argentina
CATEGORIES:A distancia,Especialización en Gestión de la Transformación Digital,Santa Fe,Alumnos,Rosario,Docentes,Posadas,Personal UCSF,Reconquista,Carreras de Posgrado,Departamento de Posgrados,Comunidad,Posgrados,Sedes
ATTACH;FMTTYPE=image/jpeg:https://www.ucsf.edu.ar/wp-content/uploads/2024/08/Seminarios-abiertos-de-posgrado_feed.jpg
ORGANIZER;CN="Posgrado":MAILTO:posgrado@ucsf.edu.ar
END:VEVENT
BEGIN:VEVENT
DTSTART;TZID=America/Argentina/Buenos_Aires:20241002T170000
DTEND;TZID=America/Argentina/Buenos_Aires:20241002T193000
DTSTAMP:20260420T174329
CREATED:20240927T175306Z
LAST-MODIFIED:20241001T212141Z
UID:76790-1727888400-1727897400@www.ucsf.edu.ar
SUMMARY:Defensa de Tesis - Abog. Guido Gabriel Prieto - Doctorado en Ciencia Jurídica UCSF
DESCRIPTION:Link de ZOOM \n  \n  \n 
URL:https://www.ucsf.edu.ar/evento/defensa-de-tesis-abog-guido-gabriel-prieto-doctorado-en-ciencia-juridica-ucsf/
LOCATION:Vía Zoom\, Argentina
CATEGORIES:A distancia,Santa Fe,Alumnos,Rosario,Docentes,Posadas,Personal UCSF,Reconquista,Carreras de Posgrado,Departamento de Posgrados,Doctorado en Ciencias Jurídicas,Comunidad,Posgrados,Sedes
ATTACH;FMTTYPE=image/png:https://www.ucsf.edu.ar/wp-content/uploads/2024/09/PR.png
ORGANIZER;CN="Posgrado":MAILTO:posgrado@ucsf.edu.ar
END:VEVENT
END:VCALENDAR