BEGIN:VCALENDAR
VERSION:2.0
PRODID:-//UCSF - Universidad Católica de Santa Fe - ECPv5.14.2.1//NONSGML v1.0//EN
CALSCALE:GREGORIAN
METHOD:PUBLISH
X-WR-CALNAME:UCSF - Universidad Católica de Santa Fe
X-ORIGINAL-URL:https://www.ucsf.edu.ar
X-WR-CALDESC:Events for UCSF - Universidad Católica de Santa Fe
REFRESH-INTERVAL;VALUE=DURATION:PT1H
X-Robots-Tag:noindex
X-PUBLISHED-TTL:PT1H
BEGIN:VTIMEZONE
TZID:America/Argentina/Buenos_Aires
BEGIN:STANDARD
TZOFFSETFROM:-0300
TZOFFSETTO:-0300
TZNAME:-03
DTSTART:20240101T000000
END:STANDARD
END:VTIMEZONE
BEGIN:VEVENT
DTSTART;TZID=America/Argentina/Buenos_Aires:20240827T190000
DTEND;TZID=America/Argentina/Buenos_Aires:20241112T210000
DTSTAMP:20260420T174339
CREATED:20240814T190319Z
LAST-MODIFIED:20240814T190751Z
UID:75171-1724785200-1731445200@www.ucsf.edu.ar
SUMMARY:Seminarios Abiertos de Posgrado Acreditables a la Espec. en Gestión de la Transformación Digital
DESCRIPTION:
URL:https://www.ucsf.edu.ar/evento/seminarios-abiertos-de-posgrado-acreditables-a-la-esp-en-gestion-de-la-transformacion-digital/
LOCATION:Vía Zoom\, Argentina
CATEGORIES:A distancia,Santa Fe,Alumnos,Especialización en Gestión de la Transformación Digital,Rosario,Docentes,Posadas,Personal UCSF,Reconquista,Carreras de Posgrado,Departamento de Posgrados,Comunidad,Posgrados,Sedes
ATTACH;FMTTYPE=image/jpeg:https://www.ucsf.edu.ar/wp-content/uploads/2024/08/Seminarios-abiertos-de-posgrado_feed.jpg
ORGANIZER;CN="Posgrado":MAILTO:posgrado@ucsf.edu.ar
END:VEVENT
BEGIN:VEVENT
DTSTART;TZID=America/Argentina/Buenos_Aires:20241003T180000
DTEND;TZID=America/Argentina/Buenos_Aires:20241024T200000
DTSTAMP:20260420T174339
CREATED:20240814T172419Z
LAST-MODIFIED:20240814T172900Z
UID:75165-1727978400-1729800000@www.ucsf.edu.ar
SUMMARY:Microcredencial de Posgrado - Nociones Fundamentales del Juicio por Jurados - Dr Rodolfo Zehnder
DESCRIPTION:  \n 
URL:https://www.ucsf.edu.ar/evento/microcredencial-de-posgrado-nociones-fundamentales-del-juicio-por-jurados-dr-rodolfo-zehnder/
LOCATION:UCSF Santa Fe\, Echagüe 7151\, Santa Fe\, Santa Fe\, Argentina
CATEGORIES:A distancia,Santa Fe,Rosario,Posadas,Especialización en Derecho Procesal,Reconquista,Carreras de Posgrado,Departamento de Posgrados,Doctorado en Ciencias Jurídicas,Posgrados,Sedes
ATTACH;FMTTYPE=image/jpeg:https://www.ucsf.edu.ar/wp-content/uploads/2024/08/microcredencial-juicios_FEED.jpg
ORGANIZER;CN="Posgrado":MAILTO:posgrado@ucsf.edu.ar
GEO:-31.6069451;-60.6709418
X-APPLE-STRUCTURED-LOCATION;VALUE=URI;X-ADDRESS=UCSF Santa Fe Echagüe 7151 Santa Fe Santa Fe Argentina;X-APPLE-RADIUS=500;X-TITLE=Echagüe 7151:geo:-60.6709418,-31.6069451
END:VEVENT
BEGIN:VEVENT
DTSTART;VALUE=DATE:20241007
DTEND;VALUE=DATE:20241101
DTSTAMP:20260420T174339
CREATED:20241006T132533Z
LAST-MODIFIED:20241006T132657Z
UID:76989-1728259200-1730419199@www.ucsf.edu.ar
SUMMARY:Reconquista. Octubre\, mes Rosa
DESCRIPTION:
URL:https://www.ucsf.edu.ar/evento/reconquista-octubre-mes-rosa/
LOCATION:UCSF Sede Reconquista\, Ludueña 612\, Reconquista\, Santa Fe\, Argentina
CATEGORIES:Reconquista,Sedes
ATTACH;FMTTYPE=image/jpeg:https://www.ucsf.edu.ar/wp-content/uploads/2024/10/Octubre-rosa_Flyer-scaled.jpg
GEO:-29.1437691;-59.641047
X-APPLE-STRUCTURED-LOCATION;VALUE=URI;X-ADDRESS=UCSF Sede Reconquista Ludueña 612 Reconquista Santa Fe Argentina;X-APPLE-RADIUS=500;X-TITLE=Ludueña 612:geo:-59.641047,-29.1437691
END:VEVENT
END:VCALENDAR