BEGIN:VCALENDAR
VERSION:2.0
PRODID:-//UCSF - Universidad Católica de Santa Fe - ECPv5.14.2.1//NONSGML v1.0//EN
CALSCALE:GREGORIAN
METHOD:PUBLISH
X-WR-CALNAME:UCSF - Universidad Católica de Santa Fe
X-ORIGINAL-URL:https://www.ucsf.edu.ar
X-WR-CALDESC:Events for UCSF - Universidad Católica de Santa Fe
REFRESH-INTERVAL;VALUE=DURATION:PT1H
X-Robots-Tag:noindex
X-PUBLISHED-TTL:PT1H
BEGIN:VTIMEZONE
TZID:America/Argentina/Buenos_Aires
BEGIN:STANDARD
TZOFFSETFROM:-0300
TZOFFSETTO:-0300
TZNAME:-03
DTSTART:20250101T000000
END:STANDARD
END:VTIMEZONE
BEGIN:VEVENT
DTSTART;VALUE=DATE:20250227
DTEND;VALUE=DATE:20250301
DTSTAMP:20260419T181817
CREATED:20250121T134932Z
LAST-MODIFIED:20250225T182450Z
UID:79417-1740614400-1740787199@www.ucsf.edu.ar
SUMMARY:Seminario Abierto de Posgrado: "Asuntos Jurídicos de la Gestión Educativa" - Maestría en Educación
DESCRIPTION:Link de Pago \nFavor de enviar comprobante a posgrado@ucsf.edu.ar \n 
URL:https://www.ucsf.edu.ar/evento/seminario-abierto-de-posgrado-asuntos-juridicos-de-la-gestion-educativa-maestria-en-educacion/
LOCATION:UCSF Santa Fe\, Echagüe 7151\, Santa Fe\, Santa Fe\, Argentina
CATEGORIES:Santa Fe,Docentes,Rosario,Personal UCSF,Posadas,Carreras de Posgrado,Reconquista,Departamento de Posgrados,Doctorado en Educación,Comunidad,Posgrados,Sedes
ATTACH;FMTTYPE=image/png:https://www.ucsf.edu.ar/wp-content/uploads/2025/01/ASUNTOS-JURIDICOS-DE-LA-GESTION-EDUCATIVA_FEED.png
ORGANIZER;CN="Posgrado":MAILTO:posgrado@ucsf.edu.ar
GEO:-31.6069451;-60.6709418
X-APPLE-STRUCTURED-LOCATION;VALUE=URI;X-ADDRESS=UCSF Santa Fe Echagüe 7151 Santa Fe Santa Fe Argentina;X-APPLE-RADIUS=500;X-TITLE=Echagüe 7151:geo:-60.6709418,-31.6069451
END:VEVENT
BEGIN:VEVENT
DTSTART;TZID=America/Argentina/Buenos_Aires:20250227T190000
DTEND;TZID=America/Argentina/Buenos_Aires:20250227T203000
DTSTAMP:20260419T181817
CREATED:20250205T173915Z
LAST-MODIFIED:20250205T175042Z
UID:79738-1740682800-1740688200@www.ucsf.edu.ar
SUMMARY:Charla Informativa - "Doctorado en Ciencia Jurídica" - Departamento de Posgrado UCSF
DESCRIPTION:  \nINSCRIPCIÓN \n 
URL:https://www.ucsf.edu.ar/evento/charla-informativa-doctorado-en-ciencia-juridica-departamento-de-posgrado-ucsf/
LOCATION:Vía Zoom\, Argentina
CATEGORIES:A distancia,Alumnos,Santa Fe,Docentes,Rosario,Personal UCSF,Posadas,Carreras de Posgrado,Reconquista,Departamento de Posgrados,Doctorado en Ciencias Jurídicas,Comunidad,Posgrados,Sedes
ATTACH;FMTTYPE=image/png:https://www.ucsf.edu.ar/wp-content/uploads/2025/02/charla-doctorado-en-ciencia-juridica_feed.png
ORGANIZER;CN="Posgrado":MAILTO:posgrado@ucsf.edu.ar
END:VEVENT
END:VCALENDAR