BEGIN:VCALENDAR
VERSION:2.0
PRODID:-//UCSF - Universidad Católica de Santa Fe - ECPv5.14.2.1//NONSGML v1.0//EN
CALSCALE:GREGORIAN
METHOD:PUBLISH
X-WR-CALNAME:UCSF - Universidad Católica de Santa Fe
X-ORIGINAL-URL:https://www.ucsf.edu.ar
X-WR-CALDESC:Events for UCSF - Universidad Católica de Santa Fe
REFRESH-INTERVAL;VALUE=DURATION:PT1H
X-Robots-Tag:noindex
X-PUBLISHED-TTL:PT1H
BEGIN:VTIMEZONE
TZID:America/Argentina/Buenos_Aires
BEGIN:STANDARD
TZOFFSETFROM:-0300
TZOFFSETTO:-0300
TZNAME:-03
DTSTART:20250101T000000
END:STANDARD
END:VTIMEZONE
BEGIN:VEVENT
DTSTART;TZID=America/Argentina/Buenos_Aires:20250404T183000
DTEND;TZID=America/Argentina/Buenos_Aires:20250618T203000
DTSTAMP:20260419T121004
CREATED:20250318T163933Z
LAST-MODIFIED:20250331T191318Z
UID:81047-1743791400-1750278600@www.ucsf.edu.ar
SUMMARY:"Construcción de Aulas Emocionalmente Inteligentes”
DESCRIPTION: Diplomatura Superior RR N.º 14.105 \nDescripción General \nLa Diplomatura Universitaria\, titulada: “Construcción de Aulas Emocionalmente Inteligentes” es un trayecto formativo virtual diseñado para docentes\, directivos y profesionales del ámbito educativo que buscan comprender y desarrollar estrategias efectivas para abordar las emociones en el aula y favorecer la inteligencia emocional al interior de la comunidad educativa. Conocer las emociones y la manera en que las mismas influyen en el desarrollo de las infancias y adolescencias constituye una herramienta significativa para repensar las prácticas de enseñanza y aprendizaje. \nObjetivo General \nFormar docentes\, directivos y profesionales del ámbito educativo en la comprensión y aplicación de estrategias pedagógicas innovadoras que integren la inteligencia emocional en el aula\, con el fin de promover un ambiente de aprendizaje positivo\, significativo y enriquecedor para el desarrollo integral de los estudiantes. \nDestinatarios \nLa Diplomatura está dirigida al ámbito educativo formal\, específicamente docentes de todos los niveles y modalidades\, profesionales de la educación y la salud mental que trabajen en ámbitos educativos y estudiantes avanzados de carreras afines. \nMetodología \nLa Diplomatura se desarrollará bajo la modalidad virtual\, incluyendo tanto instancias sincrónicas como asincrónicas. Cada Módulo contará con: \nClases virtuales sincrónicas: Exposición de contenidos\, análisis de situaciones\, debate y actividades prácticas. \nTrabajos asincrónicos mediante aula virtual de la UCSF. \nMaterial de lectura y estudio: artículos científicos\, libros y recursos en línea. \nFecha de Inicio: 04/04/2025 \nDuración: 16 semanas \nLink de Inscripción: \n https://forms.gle/ML94TeD5ozwLjFL8A
URL:https://www.ucsf.edu.ar/evento/construccion-de-aulas-emocionalmente-inteligentes/
LOCATION:Virtual\, Argentina
CATEGORIES:Pastoral,Alumnos,Cultura: coros y teatro,Santa Fe,Facultades,Docentes,Rosario,Carreras de Grado,Personal UCSF,Reconquista,Comunidad,Psicología,Bienestar universitario,Sedes,IIEP Instituto de Investigaciones y Extensión en Psicología,Licenciatura en Psicología,Licenciatura en Psicopedagogía,IIEP Instituto de Investigaciones y Extensión en Psicología
ATTACH;FMTTYPE=image/jpeg:https://www.ucsf.edu.ar/wp-content/uploads/2025/03/feec0b44-d0dc-4291-8381-d8ecf923a12f-1-1.jpg
ORGANIZER;CN="Facultad%20de%20Psicolog%C3%ADa":MAILTO:ralarcon@ucsf.edu.ar
END:VEVENT
BEGIN:VEVENT
DTSTART;TZID=America/Argentina/Buenos_Aires:20250429T183000
DTEND;TZID=America/Argentina/Buenos_Aires:20250429T200000
DTSTAMP:20260419T121004
CREATED:20250408T162632Z
LAST-MODIFIED:20250408T164933Z
UID:81629-1745951400-1745956800@www.ucsf.edu.ar
SUMMARY:Seamos Equipo Frente al Bullying
DESCRIPTION:El bullying o acoso escolar constituye una problemática compleja y multifactorial con graves consecuencias para el bienestar emocional\, social y académico de niños\, niñas y adolescentes. En la actualidad\, su prevalencia y las diversas formas en las que se manifiesta\, demandan una intervención integral y coordinada por parte de todos los actores involucrados en el ámbito educativo y familiar. \nLa Licenciatura en Psicopedagogía\, en su compromiso con la promoción de entornos educativos saludables y el desarrollo integral de los estudiantes\, reconoce la urgencia de abordar esta problemática de manera proactiva y efectiva. El seminario virtual “Seamos Equipo frente al Bullying” surge como una respuesta a esta necesidad\, ofreciendo un espacio de reflexión\, aprendizaje y capacitación para docentes\, directivos\, profesionales de la educación y demás profesionales interesados en comprender y prevenir el acoso escolar. \nEste seminario se fundamenta en la premisa de que la lucha contra el bullying requiere de un abordaje sistémico y colaborativo. No basta con intervenciones aisladas; es esencial construir un “equipo” sólido y comprometido que comprenda la dinámica del bullying\, sus implicaciones y las estrategias basadas en la evidencia para su prevención e intervención. \nLa propuesta se centra en proporcionar herramientas conceptuales y prácticas que permitan a los participantes: \n\nComprender la naturaleza y las diferentes formas del bullying: Desmitificar concepciones erróneas y diferenciarlo de otros conflictos interpersonales.\nIdentificar los roles involucrados: Analizar las dinámicas entre acosador\, víctima\, espectadores y su influencia en el mantenimiento del problema.\nReconocer los factores de riesgo y protectores: Identificar elementos individuales\, familiares y escolares que aumentan o disminuyen la probabilidad de ocurrencia del bullying.\nDesarrollar estrategias de prevención: Implementar acciones a nivel institucional y áulico para fomentar un clima escolar positivo y seguro.\nAdquirir herramientas de intervención: Conocer protocolos y abordajes eficaces para actuar ante situaciones de bullying\, priorizando la protección de la víctima y la responsabilización del acosador.\nPromover la colaboración entre la escuela\, la familia y la comunidad: Fortalecer los canales de comunicación y la articulación de acciones para un abordaje integral.\n\nLa modalidad virtual del seminario permite alcanzar a un público amplio y diverso\, superando las barreras geográficas y facilitando el acceso a información relevante y actualizada sobre esta problemática. La experiencia y el conocimiento de la Lic. Marianela Dussol\, coordinadora de la Licenciatura en Psicopedagogía en la sede Reconquista\, garantizan un espacio de aprendizaje riguroso y pertinente para los desafíos actuales. \nEn definitiva\, “Seamos Equipo frente al Bullying” busca empoderar a los participantes para que se conviertan en agentes de cambio en sus respectivos contextos\, contribuyendo a la construcción de escuelas y comunidades más seguras\, inclusivas y respetuosas. \nPara Inscribirse y realizar el pago del Seminario ingresar al siguiente link: https://forms.gle/yceyijqEXtRUk1cd7
URL:https://www.ucsf.edu.ar/evento/seamos-equipo-frente-al-bullying/
LOCATION:Vía Zoom\, Argentina
CATEGORIES:Pastoral,Alumnos,Santa Fe,Facultades,Docentes,Rosario,Carreras de Grado,Personal UCSF,Reconquista,Comunidad,Psicología,Bienestar universitario,Sedes,Licenciatura en Psicomotricidad (CCC),IIEP Instituto de Investigaciones y Extensión en Psicología,Licenciatura en Psicología,Licenciatura en Psicopedagogía,IIEP Instituto de Investigaciones y Extensión en Psicología
ATTACH;FMTTYPE=image/jpeg:https://www.ucsf.edu.ar/wp-content/uploads/2025/04/Seamos-Equipo-Frente-al-Bullying_feed.jpg
ORGANIZER;CN="Facultad%20de%20Psicolog%C3%ADa":MAILTO:ralarcon@ucsf.edu.ar
END:VEVENT
END:VCALENDAR