BEGIN:VCALENDAR
VERSION:2.0
PRODID:-//UCSF - Universidad Católica de Santa Fe - ECPv5.14.2.1//NONSGML v1.0//EN
CALSCALE:GREGORIAN
METHOD:PUBLISH
X-WR-CALNAME:UCSF - Universidad Católica de Santa Fe
X-ORIGINAL-URL:https://www.ucsf.edu.ar
X-WR-CALDESC:Events for UCSF - Universidad Católica de Santa Fe
REFRESH-INTERVAL;VALUE=DURATION:PT1H
X-Robots-Tag:noindex
X-PUBLISHED-TTL:PT1H
BEGIN:VTIMEZONE
TZID:America/Argentina/Buenos_Aires
BEGIN:STANDARD
TZOFFSETFROM:-0300
TZOFFSETTO:-0300
TZNAME:-03
DTSTART:20240101T000000
END:STANDARD
END:VTIMEZONE
BEGIN:VEVENT
DTSTART;TZID=America/Argentina/Buenos_Aires:20240702T190000
DTEND;TZID=America/Argentina/Buenos_Aires:20240702T203000
DTSTAMP:20260421T010741
CREATED:20240628T145951Z
LAST-MODIFIED:20240628T151823Z
UID:73614-1719946800-1719952200@www.ucsf.edu.ar
SUMMARY:Capacitación para directores de TIF
DESCRIPTION:Capacitación para directores de TIF\nFecha: 02/07/2024 \nHora: 19 hs \nModalidad: Virtual- Link: https://zoom.us/j/94690047445 \nDisertantes: Romina Ghirardi-Docentes FCS \nDestinatarios/as: Docentes en general y Directores de TIF \nInscripción: https://forms.office.com/r/xGNVFx4cyW?origin=lprLink \nContacto para consultas: federico.fookespaccamiccio@ucsf.edu.ar \nObjetivos de la Capacitación \n\nBrindar a los directores las herramientas y técnicas necesarias para supervisar de manera efectiva los trabajos integradores finales\, asegurando calidad y rigor académico.\nPromover el desarrollo de habilidades de investigación y pensamiento crítico entre los estudiantes a través de una supervisión adecuada y guía meticulosa.\nCapacitar a los directores en técnicas de comunicación efectiva y feedback constructivo para apoyar a los estudiantes en el proceso de elaboración de sus trabajos integradores.\nAsegurar que todos los directores comprendan y apliquen de manera uniforme los criterios de evaluación y estándares académicos para los trabajos integradores finales.\nIntroducir y capacitar en el uso de herramientas tecnológicas que faciliten la supervisión y evaluación de los trabajos\, optimizando el proceso y mejorando la eficiencia.\n\nFundamentación de la Capacitación \nLa supervisión eficaz de los trabajos integradores finales es crucial para mantener la calidad académica de la institución. Directores bien capacitados aseguran que los trabajos cumplan con los estándares requeridos y reflejen un alto nivel de conocimiento y competencia. \nUnificar los criterios de evaluación y la metodología de supervisión garantiza que todos los estudiantes sean evaluados de manera justa y equitativa. \nCapacitar a los directores no solo mejora la calidad de la supervisión\, sino que también contribuye a su desarrollo profesional\, proporcionándoles nuevas competencias y herramientas que pueden aplicar en su práctica diaria. \nLos estudiantes se benefician de una supervisión estructurada y bien informada\, que los guía a través del proceso de investigación y elaboración de su trabajo integrador\, ayudándolos a superar desafíos y lograr sus objetivos académicos. \nIntegrar nuevas tecnologías y metodologías en la supervisión de trabajos integradores finales asegura que la institución se mantenga a la vanguardia de las prácticas educativas\, respondiendo a las demandas y cambios del entorno académico actual. \nUna comunicación efectiva entre directores y estudiantes es fundamental para el éxito de los trabajos integradores finales. Capacitar a los directores en habilidades de comunicación mejora la claridad\, la comprensión y la resolución de conflictos\, creando un ambiente de trabajo más colaborativo y productivo.
URL:https://www.ucsf.edu.ar/evento/capacitacion-para-directores-de-tif/
LOCATION:UCSF Santa Fe\, Echagüe 7151\, Santa Fe\, Santa Fe\, Argentina
CATEGORIES:Alumnos,Santa Fe,Docentes,Rosario,Carreras de Grado,Licenciatura en Gerontología (CCC),Farmacia,Ciclos de complementación,Reconquista,Rafaela,Comunidad,Licenciatura en Medios Digitales (CCC),Sedes,Licenciatura en Negocios Digitales (CCC),Licenciatura en Psicomotricidad (CCC),Licenciatura en Seguridad Alimentaria (CCC),Licenciatura en Fonoaudiología,Licenciatura en Kinesiología y Fisioterapia,Licenciatura en Nutrición,Licenciatura en Obstetricia,Licenciatura en Terapia Ocupacional,IIFCS Instituto de Investigación de la Facultad de Ciencias de la Salud
ATTACH;FMTTYPE=image/jpeg:https://www.ucsf.edu.ar/wp-content/uploads/2024/06/Capacitacion-directores-de-TIF_web-1.jpg
GEO:-31.6069451;-60.6709418
X-APPLE-STRUCTURED-LOCATION;VALUE=URI;X-ADDRESS=UCSF Santa Fe Echagüe 7151 Santa Fe Santa Fe Argentina;X-APPLE-RADIUS=500;X-TITLE=Echagüe 7151:geo:-60.6709418,-31.6069451
END:VEVENT
END:VCALENDAR