BEGIN:VCALENDAR
VERSION:2.0
PRODID:-//UCSF - Universidad Católica de Santa Fe - ECPv5.14.2.1//NONSGML v1.0//EN
CALSCALE:GREGORIAN
METHOD:PUBLISH
X-WR-CALNAME:UCSF - Universidad Católica de Santa Fe
X-ORIGINAL-URL:https://www.ucsf.edu.ar
X-WR-CALDESC:Events for UCSF - Universidad Católica de Santa Fe
REFRESH-INTERVAL;VALUE=DURATION:PT1H
X-Robots-Tag:noindex
X-PUBLISHED-TTL:PT1H
BEGIN:VTIMEZONE
TZID:America/Argentina/Buenos_Aires
BEGIN:STANDARD
TZOFFSETFROM:-0300
TZOFFSETTO:-0300
TZNAME:-03
DTSTART:20240101T000000
END:STANDARD
END:VTIMEZONE
BEGIN:VEVENT
DTSTART;TZID=America/Argentina/Buenos_Aires:20240808T150000
DTEND;TZID=America/Argentina/Buenos_Aires:20240808T200000
DTSTAMP:20260420T234222
CREATED:20240730T180147Z
LAST-MODIFIED:20240730T180511Z
UID:74526-1723129200-1723147200@www.ucsf.edu.ar
SUMMARY:Charlas 2024 - Expo Rural Reconquista - Departamento de Posgrado UCSF -
DESCRIPTION:  \n 
URL:https://www.ucsf.edu.ar/evento/charlas-2024-expo-rural-reconquista/
LOCATION:Sociedad Rural de Reconquista
CATEGORIES:Santa Fe,Alumnos,Docentes,Especialización en Análisis Económico y Gestión en las Cadenas de Valor Agroalimentarias,Personal UCSF,Reconquista,Carreras de Posgrado,Departamento de Posgrados,Comunidad,Posgrados,Sedes
ATTACH;FMTTYPE=image/png:https://www.ucsf.edu.ar/wp-content/uploads/2024/07/EXPO-RURAL-RECONQUISTA_fLYER.png
ORGANIZER;CN="Posgrado":MAILTO:posgrado@ucsf.edu.ar
END:VEVENT
BEGIN:VEVENT
DTSTART;TZID=America/Argentina/Buenos_Aires:20240809T080000
DTEND;TZID=America/Argentina/Buenos_Aires:20240809T180000
DTSTAMP:20260420T234222
CREATED:20240802T124630Z
LAST-MODIFIED:20240802T124630Z
UID:74668-1723190400-1723226400@www.ucsf.edu.ar
SUMMARY:La UCSF en la EXPO RURAL RECONQUISTA
DESCRIPTION:El viernes 9 de agosto  de 8 a 18hs\, el Departamento Ingreso de la UCSF participará de la Expo Rural Reconquista 2024. El evento tendrá lugar en la Sociedad Rural\, ubicada en calle Fray Antonio Rossi 3250\, de la ciudad de Reconquista.  Será un gran evento para que alumnos de las escuelas secundarias\, interesados y familias se acerquen a conocer la innovadora oferta académica que ofrece la UCSF para el Ingreso 2025.
URL:https://www.ucsf.edu.ar/evento/la-ucsf-en-la-expo-rural-reconquista/
LOCATION:Sociedad Rural de Reconquista
CATEGORIES:Santa Fe,Reconquista,Comunidad
END:VEVENT
BEGIN:VEVENT
DTSTART;TZID=America/Argentina/Buenos_Aires:20240810T083000
DTEND;TZID=America/Argentina/Buenos_Aires:20240810T123000
DTSTAMP:20260420T234222
CREATED:20240730T192515Z
LAST-MODIFIED:20240731T162713Z
UID:74552-1723278600-1723293000@www.ucsf.edu.ar
SUMMARY:Alguien\, todos y nadie: Shakespeare en la percepción creativa de Borges
DESCRIPTION:En este curso\, analizaremos cómo el autor argentino construye su universo a partir de clásicos como Shakespeare. ¡No te pierdas esta oportunidad de sumergirte en la rica trama intertextual de su obra! \nDurante cuatro encuentros\, el Prof. Ricardo Barberis nos conducirá a través de sus particulares lecturas en ensayos\, conferencias\, etc. como en su inagotable escritura poética y ficcional. \nLa obra del máximo escritor argentino efectúa la mayor práctica intertextual en nuestra literatura. Borges construye su universo literario (entre tantas otras fuentes) a partir de sus lecturas y reescrituras motivadas por sus antecesores literarios; en este caso particular el de William Shakespeare. \nEs también una oportunidad para reencontrarse con su obra desde aportes bibliográficos ineludibles\, así como de otros abordajes recientes que aportan nuevas contribuciones a la obra de Borges. \n\nAgenda: \n10 y 24 de agosto – 14 y 28 de septiembre\, 8.30 a 12.30 \nModalidad Híbrida \n\nMás información e inscripción: nverde@ucsf.edu.ar
URL:https://www.ucsf.edu.ar/evento/alguien-todos-y-nadie-shakespeare-en-la-percepcion-creativa-de-borges/
LOCATION:UCSF Santa Fe\, Echagüe 7151\, Santa Fe\, Santa Fe\, Argentina
CATEGORIES:A distancia,Santa Fe,Facultades,Alumnos,Rosario,Carreras de Grado,Docentes,Ciclos de complementación,Personal UCSF,Reconquista,Filosofía y Humanidades,Comunidad,Bienestar universitario,Concordia,Sedes,Profesorado en Lengua y Literatura (CCC)
ATTACH;FMTTYPE=image/jpeg:https://www.ucsf.edu.ar/wp-content/uploads/2024/07/Alguien-todos-y-nadie_feed-scaled.jpg
GEO:-31.6069451;-60.6709418
X-APPLE-STRUCTURED-LOCATION;VALUE=URI;X-ADDRESS=UCSF Santa Fe Echagüe 7151 Santa Fe Santa Fe Argentina;X-APPLE-RADIUS=500;X-TITLE=Echagüe 7151:geo:-60.6709418,-31.6069451
END:VEVENT
END:VCALENDAR