BEGIN:VCALENDAR
VERSION:2.0
PRODID:-//UCSF - Universidad Católica de Santa Fe - ECPv5.14.2.1//NONSGML v1.0//EN
CALSCALE:GREGORIAN
METHOD:PUBLISH
X-WR-CALNAME:UCSF - Universidad Católica de Santa Fe
X-ORIGINAL-URL:https://www.ucsf.edu.ar
X-WR-CALDESC:Events for UCSF - Universidad Católica de Santa Fe
REFRESH-INTERVAL;VALUE=DURATION:PT1H
X-Robots-Tag:noindex
X-PUBLISHED-TTL:PT1H
BEGIN:VTIMEZONE
TZID:America/Argentina/Buenos_Aires
BEGIN:STANDARD
TZOFFSETFROM:-0300
TZOFFSETTO:-0300
TZNAME:-03
DTSTART:20240101T000000
END:STANDARD
END:VTIMEZONE
BEGIN:VEVENT
DTSTART;TZID=America/Argentina/Buenos_Aires:20240827T190000
DTEND;TZID=America/Argentina/Buenos_Aires:20241112T210000
DTSTAMP:20260420T204430
CREATED:20240814T190319Z
LAST-MODIFIED:20240814T190751Z
UID:75171-1724785200-1731445200@www.ucsf.edu.ar
SUMMARY:Seminarios Abiertos de Posgrado Acreditables a la Espec. en Gestión de la Transformación Digital
DESCRIPTION:
URL:https://www.ucsf.edu.ar/evento/seminarios-abiertos-de-posgrado-acreditables-a-la-esp-en-gestion-de-la-transformacion-digital/
LOCATION:Vía Zoom\, Argentina
CATEGORIES:A distancia,Especialización en Gestión de la Transformación Digital,Santa Fe,Alumnos,Rosario,Docentes,Posadas,Personal UCSF,Reconquista,Carreras de Posgrado,Departamento de Posgrados,Comunidad,Posgrados,Sedes
ATTACH;FMTTYPE=image/jpeg:https://www.ucsf.edu.ar/wp-content/uploads/2024/08/Seminarios-abiertos-de-posgrado_feed.jpg
ORGANIZER;CN="Posgrado":MAILTO:posgrado@ucsf.edu.ar
END:VEVENT
BEGIN:VEVENT
DTSTART;TZID=America/Argentina/Buenos_Aires:20240910T180000
DTEND;TZID=America/Argentina/Buenos_Aires:20240910T200000
DTSTAMP:20260420T204430
CREATED:20240910T143128Z
LAST-MODIFIED:20240910T143141Z
UID:76135-1725991200-1725998400@www.ucsf.edu.ar
SUMMARY:Curso interuniversitario: Dignidad humana\, aborto y eutanasia
DESCRIPTION:El Instituto de Bioética “Jérôme Lejeune”\, de la Universidad Católica de Santa Fe\, en colaboración con otras instituciones académicas de la Red UC-OC\, ofrecerá el curso interuniversitario “Dignidad humana\, aborto y eutanasia: aproximación interdisciplinaria” del 3 de septiembre al 12 de noviembre de 2024. Es gratuito\, con inscripción previa; y otorga puntaje para la Carrera docente UCSF. \nEste curso tiene como propósito profundizar en la reflexión sobre la dignidad humana desde una perspectiva integral\, abordando temas cruciales como la eutanasia\, el aborto y la defensa de la vida en todas sus etapas; desde el inicio de la vida hasta la muerte natural. El programa completo se puede consultar en este link.  \nEl curso se impartirá en modalidad sincrónica a través de la plataforma Zoom\, facilitando la participación de estudiantes y profesionales de todo el país. Se dictará los martes de 18 a 20hs hasta el 12 de noviembre de 2024. La carga horaria total es de 22 horas estructuradas en 11 encuentros semanales. \n 
URL:https://www.ucsf.edu.ar/evento/copia-de-curso-interuniversitario-dignidad-humana-aborto-y-eutanasia/
LOCATION:Vía Zoom\, Argentina
CATEGORIES:A distancia,Home principal,Santa Fe,Facultades,Docentes,Rosario,Carreras de Grado,IB Instituto de Bioética Jerome Lejeune,Personal UCSF,Posadas,Reconquista,LA UCSF,Rafaela,Comunidad,Gualeguaychú,Vicerrectorado de Formación,Concordia,Sedes,Institutos
ATTACH;FMTTYPE=image/png:https://www.ucsf.edu.ar/wp-content/uploads/2024/09/curso-interuniversitario-bioetica.png
END:VEVENT
BEGIN:VEVENT
DTSTART;TZID=America/Argentina/Buenos_Aires:20240910T193000
DTEND;TZID=America/Argentina/Buenos_Aires:20240910T203000
DTSTAMP:20260420T204430
CREATED:20240906T141755Z
LAST-MODIFIED:20240906T141856Z
UID:75965-1725996600-1726000200@www.ucsf.edu.ar
SUMMARY:Reconquista. Misa y bendicion de apuntes
DESCRIPTION:El grupo de Pastoral de la Sede San Jeronimo Reconquista\, invita a participar de la misa y bendicion de apuntes\, a realizarse en la Catedral Inmaculada Concepción\, el dia martes 10/9 a las 19.30hs.
URL:https://www.ucsf.edu.ar/evento/reconquista-misa-y-bendicion-de-apuntes/
LOCATION:UCSF Santa Fe\, Echagüe 7151\, Santa Fe\, Santa Fe\, Argentina
CATEGORIES:Alumnos,Docentes,Personal UCSF,Reconquista,Comunidad
ATTACH;FMTTYPE=image/jpeg:https://www.ucsf.edu.ar/wp-content/uploads/2024/09/WhatsApp-Image-2024-09-05-at-11.31.25.jpeg
GEO:-31.6069451;-60.6709418
X-APPLE-STRUCTURED-LOCATION;VALUE=URI;X-ADDRESS=UCSF Santa Fe Echagüe 7151 Santa Fe Santa Fe Argentina;X-APPLE-RADIUS=500;X-TITLE=Echagüe 7151:geo:-60.6709418,-31.6069451
END:VEVENT
BEGIN:VEVENT
DTSTART;TZID=America/Argentina/Buenos_Aires:20240914T210000
DTEND;TZID=America/Argentina/Buenos_Aires:20240914T230000
DTSTAMP:20260420T204430
CREATED:20240910T214711Z
LAST-MODIFIED:20240910T214711Z
UID:76182-1726347600-1726354800@www.ucsf.edu.ar
SUMMARY:Reconquista. Actuación del Coro Sacro UCSF
DESCRIPTION:El Coro Sacro de la UCSF actuará junto a Ensamble Coral y coro Polifónico Municipal de Reconquista\, en una nueva edición de “Coral en Primavera”\, a realizarse en el Teatro Español\, el sábado 14 de Septiembre de 2024 \, a las 21hs. \nActividad arancelada.
URL:https://www.ucsf.edu.ar/evento/reconquista-actuacion-del-coro-sacro-ucsf/
LOCATION:UCSF Sede Reconquista\, Ludueña 612\, Reconquista\, Santa Fe\, Argentina
CATEGORIES:Reconquista,Comunidad
ATTACH;FMTTYPE=image/png:https://www.ucsf.edu.ar/wp-content/uploads/2024/09/Coral-en-primavera-reconquista_Feed.png
GEO:-29.1437691;-59.641047
X-APPLE-STRUCTURED-LOCATION;VALUE=URI;X-ADDRESS=UCSF Sede Reconquista Ludueña 612 Reconquista Santa Fe Argentina;X-APPLE-RADIUS=500;X-TITLE=Ludueña 612:geo:-59.641047,-29.1437691
END:VEVENT
END:VCALENDAR