BEGIN:VCALENDAR
VERSION:2.0
PRODID:-//UCSF - Universidad Católica de Santa Fe - ECPv5.14.2.1//NONSGML v1.0//EN
CALSCALE:GREGORIAN
METHOD:PUBLISH
X-WR-CALNAME:UCSF - Universidad Católica de Santa Fe
X-ORIGINAL-URL:https://www.ucsf.edu.ar
X-WR-CALDESC:Events for UCSF - Universidad Católica de Santa Fe
REFRESH-INTERVAL;VALUE=DURATION:PT1H
X-Robots-Tag:noindex
X-PUBLISHED-TTL:PT1H
BEGIN:VTIMEZONE
TZID:America/Argentina/Buenos_Aires
BEGIN:STANDARD
TZOFFSETFROM:-0300
TZOFFSETTO:-0300
TZNAME:-03
DTSTART:20240101T000000
END:STANDARD
END:VTIMEZONE
BEGIN:VEVENT
DTSTART;TZID=America/Argentina/Buenos_Aires:20240827T190000
DTEND;TZID=America/Argentina/Buenos_Aires:20241112T210000
DTSTAMP:20260420T204444
CREATED:20240814T190319Z
LAST-MODIFIED:20240814T190751Z
UID:75171-1724785200-1731445200@www.ucsf.edu.ar
SUMMARY:Seminarios Abiertos de Posgrado Acreditables a la Espec. en Gestión de la Transformación Digital
DESCRIPTION:
URL:https://www.ucsf.edu.ar/evento/seminarios-abiertos-de-posgrado-acreditables-a-la-esp-en-gestion-de-la-transformacion-digital/
LOCATION:Vía Zoom\, Argentina
CATEGORIES:A distancia,Especialización en Gestión de la Transformación Digital,Santa Fe,Alumnos,Rosario,Docentes,Posadas,Personal UCSF,Reconquista,Carreras de Posgrado,Departamento de Posgrados,Comunidad,Posgrados,Sedes
ATTACH;FMTTYPE=image/jpeg:https://www.ucsf.edu.ar/wp-content/uploads/2024/08/Seminarios-abiertos-de-posgrado_feed.jpg
ORGANIZER;CN="Posgrado":MAILTO:posgrado@ucsf.edu.ar
END:VEVENT
BEGIN:VEVENT
DTSTART;TZID=America/Argentina/Buenos_Aires:20240916T090000
DTEND;TZID=America/Argentina/Buenos_Aires:20240916T110000
DTSTAMP:20260420T204444
CREATED:20240902T124936Z
LAST-MODIFIED:20240902T134447Z
UID:75752-1726477200-1726484400@www.ucsf.edu.ar
SUMMARY:Reconquista - Capacitación Programa Ojos en alerta
DESCRIPTION:A cargo de personal del Departamento de Seguridad Urbana de la Municipalidad de Reconquista\, se llevarán a cabo deferentes encuentros de capacitación sobre este programa que pretende la prevención del delito y la celeridad de respuesta ante situaciones que pueden ocurrir en la vía pública\, promoviendo la participación ciudadana. \nEn la Sede San Jerónimo de la Universidad\, se desarrollaran dos jornadas\, destinadas a toda la comunidad educativa\, los días 16 y 19 de septiembre de 2024. \nLunes 16 de Septiembre: Anexo Mitre de 9 a 11hs y a las 18hs \nJueves 19 de septiembre: Ludueña 612\, de 9 a 11 y de 16 a 19hs \nInvitamos a participar.
URL:https://www.ucsf.edu.ar/evento/reconquista-capacitacion-programa-ojos-en-alerta/
LOCATION:UCSF Santa Fe\, Echagüe 7151\, Santa Fe\, Santa Fe\, Argentina
CATEGORIES:Alumnos,Docentes,Personal UCSF,Reconquista,Comunidad
ATTACH;FMTTYPE=image/jpeg:https://www.ucsf.edu.ar/wp-content/uploads/2024/09/OJOS-EN-ALERTA_WEB.jpg
GEO:-31.6069451;-60.6709418
X-APPLE-STRUCTURED-LOCATION;VALUE=URI;X-ADDRESS=UCSF Santa Fe Echagüe 7151 Santa Fe Santa Fe Argentina;X-APPLE-RADIUS=500;X-TITLE=Echagüe 7151:geo:-60.6709418,-31.6069451
END:VEVENT
BEGIN:VEVENT
DTSTART;TZID=America/Argentina/Buenos_Aires:20240917T180000
DTEND;TZID=America/Argentina/Buenos_Aires:20240917T200000
DTSTAMP:20260420T204444
CREATED:20240910T143210Z
LAST-MODIFIED:20240910T143210Z
UID:76138-1726596000-1726603200@www.ucsf.edu.ar
SUMMARY:Curso interuniversitario: Dignidad humana\, aborto y eutanasia
DESCRIPTION:El Instituto de Bioética “Jérôme Lejeune”\, de la Universidad Católica de Santa Fe\, en colaboración con otras instituciones académicas de la Red UC-OC\, ofrecerá el curso interuniversitario “Dignidad humana\, aborto y eutanasia: aproximación interdisciplinaria” del 3 de septiembre al 12 de noviembre de 2024. Es gratuito\, con inscripción previa; y otorga puntaje para la Carrera docente UCSF. \nEste curso tiene como propósito profundizar en la reflexión sobre la dignidad humana desde una perspectiva integral\, abordando temas cruciales como la eutanasia\, el aborto y la defensa de la vida en todas sus etapas; desde el inicio de la vida hasta la muerte natural. El programa completo se puede consultar en este link.  \nEl curso se impartirá en modalidad sincrónica a través de la plataforma Zoom\, facilitando la participación de estudiantes y profesionales de todo el país. Se dictará los martes de 18 a 20hs hasta el 12 de noviembre de 2024. La carga horaria total es de 22 horas estructuradas en 11 encuentros semanales. \n 
URL:https://www.ucsf.edu.ar/evento/curso-interuniversitario-dignidad-humana-aborto-y-eutanasia-2/
LOCATION:Vía Zoom\, Argentina
CATEGORIES:A distancia,Home principal,Santa Fe,Facultades,Docentes,Rosario,Carreras de Grado,IB Instituto de Bioética Jerome Lejeune,Personal UCSF,Posadas,Reconquista,LA UCSF,Rafaela,Vicerrectorado de Formación,Comunidad,Gualeguaychú,Concordia,Sedes,Institutos
ATTACH;FMTTYPE=image/png:https://www.ucsf.edu.ar/wp-content/uploads/2024/09/curso-interuniversitario-bioetica.png
END:VEVENT
BEGIN:VEVENT
DTSTART;TZID=America/Argentina/Buenos_Aires:20240919T090000
DTEND;TZID=America/Argentina/Buenos_Aires:20240919T110000
DTSTAMP:20260420T204444
CREATED:20240902T134613Z
LAST-MODIFIED:20240902T134613Z
UID:75791-1726736400-1726743600@www.ucsf.edu.ar
SUMMARY:Reconquista - Capacitación Programa Ojos en alerta
DESCRIPTION:A cargo de personal del Departamento de Seguridad Urbana de la Municipalidad de Reconquista\, se llevarán a cabo deferentes encuentros de capacitación sobre este programa que pretende la prevención del delito y la celeridad de respuesta ante situaciones que pueden ocurrir en la vía pública\, promoviendo la participación ciudadana. \nEn la Sede San Jerónimo de la Universidad\, se desarrollaran dos jornadas\, destinadas a toda la comunidad educativa\, los días 16 y 19 de septiembre de 2024. \nLunes 16 de Septiembre: Anexo Mitre de 9 a 11hs y a las 18hs \nJueves 19 de septiembre: Ludueña 612\, de 9 a 11 y de 16 a 19hs \nInvitamos a participar.
URL:https://www.ucsf.edu.ar/evento/reconquista-capacitacion-programa-ojos-en-alerta-2/
LOCATION:UCSF Santa Fe\, Echagüe 7151\, Santa Fe\, Santa Fe\, Argentina
CATEGORIES:Alumnos,Docentes,Personal UCSF,Reconquista,Comunidad
ATTACH;FMTTYPE=image/jpeg:https://www.ucsf.edu.ar/wp-content/uploads/2024/09/OJOS-EN-ALERTA_WEB.jpg
GEO:-31.6069451;-60.6709418
X-APPLE-STRUCTURED-LOCATION;VALUE=URI;X-ADDRESS=UCSF Santa Fe Echagüe 7151 Santa Fe Santa Fe Argentina;X-APPLE-RADIUS=500;X-TITLE=Echagüe 7151:geo:-60.6709418,-31.6069451
END:VEVENT
BEGIN:VEVENT
DTSTART;TZID=America/Argentina/Buenos_Aires:20240919T160000
DTEND;TZID=America/Argentina/Buenos_Aires:20240919T200000
DTSTAMP:20260420T204444
CREATED:20240910T112416Z
LAST-MODIFIED:20240910T113614Z
UID:76082-1726761600-1726776000@www.ucsf.edu.ar
SUMMARY:Reunión informativa carreras de Ciencias Económicas
DESCRIPTION:El próximo jueves 19 de septiembre se desarrollarán las reuniones informativas de las carreras: \n\nLic. en Administración – 16:00 hs.\nLic. en Administración de Empresas Digitales – 17:00 hs.\nCiclo de Lic. en Negocios Digitales – 18:00 hs.\nCiclo de Lic. en Tecnología de la Información – 19:00 hs.\n\nLas mismas se llevarán a cabo de forma virtual\, a través de Zoom\, en los horarios antes consignados. \nPara participar es necesario inscribirse a través de este formulario: \nhttps://forms.office.com/r/7X6esZ35QK \nLuego de realizar la inscripción se enviará un correo indicando el enlace de la reunión. \nSi no podes participar en esta ocasión\, ¡no te preocupes! En el transcurso del año se realizarán nuevas reuniones informativas. A saber\,  24/10\, 21/11 y 19/12.
URL:https://www.ucsf.edu.ar/evento/reunion-informativa-carreras-de-ciencias-economicas/
LOCATION:Virtual\, Argentina
CATEGORIES:Santa Fe,Alumnos,Rosario,Docentes,Posadas,Personal UCSF,Reconquista,Rafaela,Gualeguaychú,Comunidad,Sedes,Licenciatura en Negocios Digitales (CCC)
ATTACH;FMTTYPE=image/jpeg:https://www.ucsf.edu.ar/wp-content/uploads/2024/05/seminarios-virtuales-imagen-web_El-valor-de-la-Inteligencia-de-negocios-.jpg
ORGANIZER;CN="Facultad%20de%20Ciencias%20Econ%C3%B3micas":MAILTO:gvelazquez@ucsf.edu.ar
END:VEVENT
BEGIN:VEVENT
DTSTART;TZID=America/Argentina/Buenos_Aires:20240919T180000
DTEND;TZID=America/Argentina/Buenos_Aires:20240919T190000
DTSTAMP:20260420T204444
CREATED:20240508T140051Z
LAST-MODIFIED:20240508T140051Z
UID:71571-1726768800-1726772400@www.ucsf.edu.ar
SUMMARY:Webinar: La importancia de la Inteligencia de Negocios
DESCRIPTION:La Facultad de Ciencias Económicas invita a participar del webinar: La importancia de la Inteligencia de Negocios. \nEl mismo se realizará el jueves 19 de septiembre a las 18 hs vía Zoom\, en el marco del Ciclo de Seminarios Virtuales que organiza la unidad académica para 2024\, y estará a cargo del Mgtr. Alejandro Salinas\, docente de la Licenciatura en Administración de Empresas Digitales. \nLos interesados puede inscribirse a través de este formulario: https://forms.office.com/r/P1CFvsGyf8 \nPara conocer el resto de los webinars: https://www.ucsf.edu.ar/ciclo-de-seminarios-virtuales-sobre-empresa-negocios-y-transformacion-digital/ \nPor consultas\, dirigirse a: airigoitia@ucsf.edu.ar
URL:https://www.ucsf.edu.ar/evento/webinar-la-importancia-de-la-inteligencia-de-negocios/
LOCATION:Virtual\, Argentina
CATEGORIES:Santa Fe,Alumnos,Rosario,Docentes,Posadas,Personal UCSF,Reconquista,Rafaela,Gualeguaychú,Comunidad,Sedes
ATTACH;FMTTYPE=image/jpeg:https://www.ucsf.edu.ar/wp-content/uploads/2024/05/seminarios-virtuales-imagen-web_El-valor-de-la-Inteligencia-de-negocios-.jpg
END:VEVENT
BEGIN:VEVENT
DTSTART;TZID=America/Argentina/Buenos_Aires:20240919T190000
DTEND;TZID=America/Argentina/Buenos_Aires:20240919T210000
DTSTAMP:20260420T204444
CREATED:20240911T222224Z
LAST-MODIFIED:20240911T222224Z
UID:76222-1726772400-1726779600@www.ucsf.edu.ar
SUMMARY:Reconquista Festeja
DESCRIPTION:a \n 
URL:https://www.ucsf.edu.ar/evento/reconquista-festeja/
LOCATION:UCSF Sede Reconquista\, Ludueña 612\, Reconquista\, Santa Fe\, Argentina
CATEGORIES:Alumnos,Docentes,Personal UCSF,Reconquista,Comunidad,Sedes
ATTACH;FMTTYPE=image/png:https://www.ucsf.edu.ar/wp-content/uploads/2024/09/Dia-del-estudiante-Reconquista_Mesa-de-trabajo-1.png
GEO:-29.1437691;-59.641047
X-APPLE-STRUCTURED-LOCATION;VALUE=URI;X-ADDRESS=UCSF Sede Reconquista Ludueña 612 Reconquista Santa Fe Argentina;X-APPLE-RADIUS=500;X-TITLE=Ludueña 612:geo:-59.641047,-29.1437691
END:VEVENT
BEGIN:VEVENT
DTSTART;TZID=America/Argentina/Buenos_Aires:20240919T200000
DTEND;TZID=America/Argentina/Buenos_Aires:20240919T213000
DTSTAMP:20260420T204444
CREATED:20240905T190728Z
LAST-MODIFIED:20240910T182628Z
UID:75943-1726776000-1726781400@www.ucsf.edu.ar
SUMMARY:Curso virtual básico del Método de Ovulación Billings
DESCRIPTION:El Vicerrectorado Académico\, a través del Programa Universidad Abierta\, la Comisión Arquidiocesana de Planificación Familiar Natural y el Instituto para el Matrimonio y la Familia comunican\, que se encuentra abierta la inscripción para el “Curso Hablemos de fertilidad. Conocernos y querernos:  Método de Ovulación Billings” \nFundamentación\nLa baja fertilidad humana ya es un problema de salud pública y será grave para tres de cada cuatro países del mundo en 2050\, ya que no podrán garantizar el recambio demográfico. Más de la mitad de los países presentan una tasa de fertilidad demasiado baja para mantener su nivel de población\, según un estudio recientemente publicado en la revista científica The Lancet.\nEn 2023 el Papa Francisco les decía a los participantes del Congreso Internacional de Billings: “En la raíz de la crisis demográfica actual está\, junto a diferentes factores sociales y culturales\, un desequilibrio en la visión de la sexualidad\, y no es casualidad que el Método Billings sea un recurso también para afrontar de forma natural los problemas de infertilidad y para ayudar a los esposos a convertirse en padres identificando los periodos más fértiles. En este campo\, un mayor conocimiento de los procesos de la generación de la vida\, que hace uso de las modernas adquisiciones científicas\, podría ayudar a muchas parejas a hacer elecciones más conscientes y éticamente más respetuosas de la persona y su valor. Esta es una tarea que deben asumirse con renovado compromiso las Universidades católicas…” \nEl Método de la Ovulación Billings (MOB) es uno de estos métodos y se fundamenta en el reconocimiento de la fertilidad de la mujer basada en la observación diaria de los signos y síntomas a nivel vulvar que permite determinar los períodos fértiles e infértiles del ciclo menstrual utilizando cuatro reglas básicas para conseguir o distanciar los embarazos.\nEntre sus ventajas se pueden mencionar que no requiere de ninguna medicación u objeto extraño\, se puede usar en las distintas etapas de la vida reproductiva de la mujer (lactancia\, estrés\, ciclos irregulares\, premenopausia\, postpíldora\, etc.)\, no tiene efectos secundarios\, ayuda al hombre y a la mujer a asumir juntos la responsabilidad de la fertilidad\, favoreciendo así la comunicación en el matrimonio y el fortalecimiento del amor conyugal. Además\, sirven como instrumento de diagnóstico\, respetan y promueven la fertilidad humana. \nObjetivos del curso: \n• Conocer las bases científicas\, anatómicas y fisiológicas de los Métodos Naturales de Planificación Familiar Natural.\n• Aprender a utilizar el MOB a lo largo de toda la etapa reproductiva de la vida de la mujer.\n• Integrar los conocimientos sobre la fertilidad en la educación para la afectividad y el amor.\n• Adquirir conceptos y habilidades para Difundir los Métodos Naturales. \nContenidos\n● Presentación del curso. Objetivos\n● Desarrollo y beneficios del MOB\n● Anatomía femenina y masculina\n● Ciclo Menstrual\n● Bases científicas. Hormonas y cérvix\n● Fases del ciclo\n● Registro de observaciones y reglas\n● La cúspide y los indicadores naturales\n● Gráficas de ciclos menores de 35 días\n● Gráficas de ciclos mayores de 35 días\n● Distintos tipos de sangrado\n● Moralidad de los Métodos Naturales\n● Paternidad responsable\n● Perfil del difusor. \nDías y horarios: jueves 19 y 26 de setiembre; 3\, 10\, 17\, 24 y 31 de octubre y 7 de noviembre\, de 20 a 21:30 horas. \nModalidad: virtual \n(Cupos limitados) \nEvaluación\nTrabajos prácticos evaluativos.\nExigencia del 80% de asistencia para la aprobación del curso. \nDestinatarios: Agentes pastorales\, profesionales de la salud\, matrimonios\, docentes\, jóvenes mayores de 18 años. Público interesado \nDocente/ disertantes:\nAdriana María Achkar\nAdriana A.C. del Río\nPbro. Daniel Eduardo Achkar\nCacciolatto\, Ma. Elisa\nLucía María Yanicelli\nMaría Paula Mauti \nInscripciones:  https://www.eventbrite.com.ar/e/curso-hablemos-de-fertilidad-conocernos-metodo-de-ovulacion-billings-tickets-1009588836387?aff=Inscripciones \nImportante: el link de Zoom sólo se enviará por correo (1 día y 1 una hora antes del Evento) a los participantes que se hayan inscripto a través de este link) \nInformes: mdilda@ucsf.edu.ar \n                   nsturla@ucsf.edu.ar
URL:https://www.ucsf.edu.ar/evento/curso-virtual-basico-del-metodo-de-ovulacion-billings/
LOCATION:UCSF Santa Fe\, Echagüe 7151\, Santa Fe\, Santa Fe\, Argentina
CATEGORIES:Pastoral,Cultura: coros y teatro,Santa Fe,Alumnos,Deportes,Rosario,Docentes,Ciclos de complementación,Posadas,Personal UCSF,Reconquista,Rafaela,Comunidad,Gualeguaychú,Bienestar universitario,Licenciatura en Medios Digitales (CCC),Sedes,Licenciatura en Negocios Digitales (CCC),Licenciatura en Psicomotricidad (CCC),Licenciatura en Seguridad Alimentaria (CCC),Extensión,Investigación,Profesorado en Historia (CCC),Profesorado en Lengua y Literatura (CCC)
ATTACH;FMTTYPE=image/jpeg:https://www.ucsf.edu.ar/wp-content/uploads/2024/09/Hablemos-de-fertilidad_flyer.jpg
ORGANIZER;CN="Vicerrectorado%20Acad%C3%A9mico":MAILTO:vrecacad@ucsf.edu.ar
GEO:-31.6069451;-60.6709418
X-APPLE-STRUCTURED-LOCATION;VALUE=URI;X-ADDRESS=UCSF Santa Fe Echagüe 7151 Santa Fe Santa Fe Argentina;X-APPLE-RADIUS=500;X-TITLE=Echagüe 7151:geo:-60.6709418,-31.6069451
END:VEVENT
END:VCALENDAR