BEGIN:VCALENDAR
VERSION:2.0
PRODID:-//UCSF - Universidad Católica de Santa Fe - ECPv5.14.2.1//NONSGML v1.0//EN
CALSCALE:GREGORIAN
METHOD:PUBLISH
X-WR-CALNAME:UCSF - Universidad Católica de Santa Fe
X-ORIGINAL-URL:https://www.ucsf.edu.ar
X-WR-CALDESC:Events for UCSF - Universidad Católica de Santa Fe
REFRESH-INTERVAL;VALUE=DURATION:PT1H
X-Robots-Tag:noindex
X-PUBLISHED-TTL:PT1H
BEGIN:VTIMEZONE
TZID:America/Argentina/Buenos_Aires
BEGIN:STANDARD
TZOFFSETFROM:-0300
TZOFFSETTO:-0300
TZNAME:-03
DTSTART:20250101T000000
END:STANDARD
END:VTIMEZONE
BEGIN:VEVENT
DTSTART;TZID=America/Argentina/Buenos_Aires:20250206T100000
DTEND;TZID=America/Argentina/Buenos_Aires:20250206T120000
DTSTAMP:20260420T051008
CREATED:20240206T141712Z
LAST-MODIFIED:20250128T114819Z
UID:68832-1738836000-1738843200@www.ucsf.edu.ar
SUMMARY:Activate en verano con la UCSF
DESCRIPTION:¿Estás pensando en comenzar a estudiar\, pero aún no sabes qué carrera elegir? El verano también es un buen momento para pensar en tu elección vocacional. \nEn esta actividad vamos a realizar un recorrido por los lugares destacados de la universidad\, vas a poder participar de actividades de autoconocimiento y orientación\, y conocer las diferentes facultades de la UCSF para consultar dudas e inquietudes. \nSe realizará el jueves 6 de febrero a las 10hs en Santa Fe\, Posadas\, Rosario y Reconquista \nActividad no arancelada con inscripción previa: \n\nSede Santa Fe: https://forms.office.com/r/T0Patk6WUQ\nSede Rosario: https://forms.office.com/r/ieD9Fi3H8U\nSede Posadas: https://forms.office.com/r/XX5EPcHiAg \nSede Reconquista: https://forms.office.com/r/8S3e4c39zh?origin=lprLink
URL:https://www.ucsf.edu.ar/evento/activate-en-verano-con-la-ucsf-2/
LOCATION:UCSF\, Echagüe 7151\, Santa Fe Capital\, Santa Fe\, 3000\, Argentina
CATEGORIES:Ingreso,Santa Fe,Rosario,Posadas,Reconquista
ATTACH;FMTTYPE=image/jpeg:https://www.ucsf.edu.ar/wp-content/uploads/2024/02/activate-en-verano-feed-2025_1.jpg
END:VEVENT
END:VCALENDAR