BEGIN:VCALENDAR
VERSION:2.0
PRODID:-//UCSF - Universidad Católica de Santa Fe - ECPv5.14.2.1//NONSGML v1.0//EN
CALSCALE:GREGORIAN
METHOD:PUBLISH
X-WR-CALNAME:UCSF - Universidad Católica de Santa Fe
X-ORIGINAL-URL:https://www.ucsf.edu.ar
X-WR-CALDESC:Events for UCSF - Universidad Católica de Santa Fe
REFRESH-INTERVAL;VALUE=DURATION:PT1H
X-Robots-Tag:noindex
X-PUBLISHED-TTL:PT1H
BEGIN:VTIMEZONE
TZID:America/Argentina/Buenos_Aires
BEGIN:STANDARD
TZOFFSETFROM:-0300
TZOFFSETTO:-0300
TZNAME:-03
DTSTART:20250101T000000
END:STANDARD
END:VTIMEZONE
BEGIN:VEVENT
DTSTART;TZID=America/Argentina/Buenos_Aires:20250306T183000
DTEND;TZID=America/Argentina/Buenos_Aires:20250306T193000
DTSTAMP:20260420T051005
CREATED:20250226T191135Z
LAST-MODIFIED:20250305T221604Z
UID:80568-1741285800-1741289400@www.ucsf.edu.ar
SUMMARY:Presentación del plan de trabajo y actividades 2025 (LIIA)
DESCRIPTION:                                                             Escuela de verano \nEl Vicerrectorado Académico; el Laboratorio  LIIA y el Programa Universidad Abierta\, invitan a la  presentación del plan de trabajo y actividades correspondientes al año 2025. \nEl Laboratorio de Innovación e Inteligencia Artificial (LIIA) tiene como misión crear un espacio universitario dedicado a la innovación y al desarrollo y aplicación práctica de la inteligencia artificial. A través de la colaboración entre las distintas unidades académicas de la UCSF. \nEl laboratorio busca generar soluciones innovadoras que contribuyan a mejorar la calidad de vida de los ciudadanos\, impulsando un impacto positivo tanto a nivel local como global. \nDía y horario: jueves 6 de marzo\, a las 18:30 horas. \nModalidad: híbrido \nPor Zoom \nÚnase a la reunión de Zoom\nhttps://zoom.us/j/91405736661 \nID de reunión: 914 0573 6661 \nPresencial:  aula: 3.51 \nUCSF – Sede Virgen de Guadalupe \nCanónigo Echagüe 7151. Santa Fe \nInscripciones: https://www.eventbrite.com.ar/e/laboratorio-liia-presentacion-del-plan-de-trabajo-y-actividades-2025-tickets-1261550925779?aff=Inscripciones \nContacto: jose.olaguibe@ucsf.edu.ar
URL:https://www.ucsf.edu.ar/evento/presentacion-del-plan-de-trabajo-y-actividades-2025-liia/
LOCATION:UCSF Santa Fe\, Echagüe 7151\, Santa Fe\, Santa Fe\, Argentina
CATEGORIES:Pastoral,Alumnos,Cultura: coros y teatro,Santa Fe,Docentes,Deportes,Rosario,Ciclos de complementación,Posadas,Reconquista,Rafaela,Comunidad,Gualeguaychú,Bienestar universitario,Licenciatura en Medios Digitales (CCC),Sedes,Licenciatura en Negocios Digitales (CCC),Licenciatura en Psicomotricidad (CCC),Extensión,Licenciatura en Seguridad Alimentaria (CCC),Investigación,Profesorado en Historia (CCC),Profesorado en Lengua y Literatura (CCC)
ATTACH;FMTTYPE=image/jpeg:https://www.ucsf.edu.ar/wp-content/uploads/2023/05/Screenshot_20230510-192338_OneDrive.jpg
ORGANIZER;CN="Vicerrectorado%20Acad%C3%A9mico":MAILTO:vrecacad@ucsf.edu.ar
GEO:-31.6069451;-60.6709418
X-APPLE-STRUCTURED-LOCATION;VALUE=URI;X-ADDRESS=UCSF Santa Fe Echagüe 7151 Santa Fe Santa Fe Argentina;X-APPLE-RADIUS=500;X-TITLE=Echagüe 7151:geo:-60.6709418,-31.6069451
END:VEVENT
END:VCALENDAR