BEGIN:VCALENDAR
VERSION:2.0
PRODID:-//UCSF - Universidad Católica de Santa Fe - ECPv5.14.2.1//NONSGML v1.0//EN
CALSCALE:GREGORIAN
METHOD:PUBLISH
X-WR-CALNAME:UCSF - Universidad Católica de Santa Fe
X-ORIGINAL-URL:https://www.ucsf.edu.ar
X-WR-CALDESC:Events for UCSF - Universidad Católica de Santa Fe
REFRESH-INTERVAL;VALUE=DURATION:PT1H
X-Robots-Tag:noindex
X-PUBLISHED-TTL:PT1H
BEGIN:VTIMEZONE
TZID:America/Argentina/Buenos_Aires
BEGIN:STANDARD
TZOFFSETFROM:-0300
TZOFFSETTO:-0300
TZNAME:-03
DTSTART:20250101T000000
END:STANDARD
END:VTIMEZONE
BEGIN:VEVENT
DTSTART;TZID=America/Argentina/Buenos_Aires:20250805T183000
DTEND;TZID=America/Argentina/Buenos_Aires:20251028T203000
DTSTAMP:20260420T063105
CREATED:20250704T194853Z
LAST-MODIFIED:20250704T195205Z
UID:84105-1754418600-1761683400@www.ucsf.edu.ar
SUMMARY:Seminario Abierto de Posgrado. "Perspectivas Filosóficas del Quehacer Educativo"- MAE UCSF-
DESCRIPTION:
URL:https://www.ucsf.edu.ar/evento/seminario-abierto-de-posgrado-perspectivas-filosoficas-del-quehacer-educativo-mae-ucsf/
LOCATION:Virtual\, Argentina
CATEGORIES:A distancia,Santa Fe,Alumnos,Rosario,Docentes,Posadas,Personal UCSF,Reconquista,Carreras de Posgrado,Comunidad,Posgrados,Maestría en Educación,Sedes
ATTACH;FMTTYPE=image/png:https://www.ucsf.edu.ar/wp-content/uploads/2025/07/PERSPECTIVAS-FILOSOFICAS-DEL-QUEHACER-FILOSOFICO_feed-scaled.png
ORGANIZER;CN="Posgrado":MAILTO:posgrado@ucsf.edu.ar
END:VEVENT
BEGIN:VEVENT
DTSTART;TZID=America/Argentina/Buenos_Aires:20250904T090000
DTEND;TZID=America/Argentina/Buenos_Aires:20250904T150000
DTSTAMP:20260420T063105
CREATED:20250822T204332Z
LAST-MODIFIED:20250822T204332Z
UID:85796-1756976400-1756998000@www.ucsf.edu.ar
SUMMARY:La UCSF en la Expo Educativa de PERGAMINO\, ROSARIO
DESCRIPTION:El día jueves 4 de septiembre de 9 a 15 hs\, el Departamento Ingreso de la UCSF participará de la Expo Educativa Pergamino 2025 que se realizará en la Escuela Municipal de Bellas Artes (Alsina y Moreno). Será una gran oportunidad para que alumnos de las escuelas secundarias\, interesados y familias se acerquen a conocer la innovadora oferta académica que ofrece la UCSF para el Ingreso 2026.
URL:https://www.ucsf.edu.ar/evento/la-ucsf-en-la-expo-educativa-de-pergamino-rosario/
LOCATION:Escuela Municipal de Bellas Artes – Pergamino\, Rosario
CATEGORIES:Santa Fe,Rosario,Comunidad
END:VEVENT
BEGIN:VEVENT
DTSTART;TZID=America/Argentina/Buenos_Aires:20250905T140000
DTEND;TZID=America/Argentina/Buenos_Aires:20250905T170000
DTSTAMP:20260420T063105
CREATED:20250820T174057Z
LAST-MODIFIED:20250820T180935Z
UID:85532-1757080800-1757091600@www.ucsf.edu.ar
SUMMARY:Defensa de Tesis: Gonzalo Savogín - Maestría en Educación - Universidad Católica de Santa Fe -
DESCRIPTION:  \n 
URL:https://www.ucsf.edu.ar/evento/defensa-de-tesis-gonzalo-savogin-maestria-en-educacion-universidad-catolica-de-santa-fe/
LOCATION:UCSF Santa Fe\, Echagüe 7151\, Santa Fe\, Santa Fe\, Argentina
CATEGORIES:A distancia,Alumnos,Rosario,Docentes,Posadas,Personal UCSF,Reconquista,Carreras de Posgrado,Departamento de Posgrados,Comunidad,Posgrados,Maestría en Educación,Sedes
ATTACH;FMTTYPE=image/png:https://www.ucsf.edu.ar/wp-content/uploads/2025/08/Defensa-de-Tesis-Savogin-1.png
ORGANIZER;CN="Posgrado":MAILTO:posgrado@ucsf.edu.ar
GEO:-31.6069451;-60.6709418
X-APPLE-STRUCTURED-LOCATION;VALUE=URI;X-ADDRESS=UCSF Santa Fe Echagüe 7151 Santa Fe Santa Fe Argentina;X-APPLE-RADIUS=500;X-TITLE=Echagüe 7151:geo:-60.6709418,-31.6069451
END:VEVENT
BEGIN:VEVENT
DTSTART;TZID=America/Argentina/Buenos_Aires:20250905T180000
DTEND;TZID=America/Argentina/Buenos_Aires:20250905T180000
DTSTAMP:20260420T063106
CREATED:20250818T173127Z
LAST-MODIFIED:20250818T173127Z
UID:85408-1757095200-1757095200@www.ucsf.edu.ar
SUMMARY:La Imagología: una lectura literaria interdisciplinar de "Miguel Strogoff" de Julio Verne
DESCRIPTION:¿Te interesa redescubrir a Julio Verne\, revisar la aparente neutralidad de su relato de aventuras y abordar la novela Miguel Strogoff en clave imagológica? ¿Querés saber qué estudia la Imagología y qué incluye el concepto de imagotipo dentro de los Estudios Comparados? ¿De qué manera el abordaje imagológico establece vínculos con conceptos de la Historia Cultural\, el Análisis del Discurso y la Antropología? \n“La Imagología: una puerta de acceso a una lectura literaria interdisciplinar: civilización y barbarie en la novela Miguel Strogoff de Julio Verne” es un curso dirigido al público en general que presente interés e redescubrir a Julio Verne desde una lectura interdisciplinar de Miguel Strogoff. \n🖥️ Modalidad virtual sincrónica\n📅 Viernes 5 y 19 de septiembre |  18 a 21 h\n🎓 Público general: $13.00O \nSin costo para alumnos activos de Letras UCSF \n📩 Inscripciones y consultas: nverde@ucsf.edu.ar / extensionffyh@ucsf.edu.ar
URL:https://www.ucsf.edu.ar/evento/la-imagologia-una-lectura-literaria-interdisciplinar-de-miguel-strogoff-de-julio-verne/
LOCATION:UCSF Santa Fe\, Echagüe 7151\, Santa Fe\, Santa Fe\, Argentina
CATEGORIES:A distancia,Santa Fe,Alumnos,Rosario,Docentes,Ciclos de complementación,Reconquista,Filosofía y Humanidades,Concordia,Profesorado en Lengua y Literatura (CCC)
ATTACH;FMTTYPE=image/jpeg:https://www.ucsf.edu.ar/wp-content/uploads/2025/08/CURSO-la-imagologia-05-scaled.jpg
GEO:-31.6069451;-60.6709418
X-APPLE-STRUCTURED-LOCATION;VALUE=URI;X-ADDRESS=UCSF Santa Fe Echagüe 7151 Santa Fe Santa Fe Argentina;X-APPLE-RADIUS=500;X-TITLE=Echagüe 7151:geo:-60.6709418,-31.6069451
END:VEVENT
BEGIN:VEVENT
DTSTART;TZID=America/Argentina/Buenos_Aires:20250905T180000
DTEND;TZID=America/Argentina/Buenos_Aires:20250905T200000
DTSTAMP:20260420T063106
CREATED:20250828T193815Z
LAST-MODIFIED:20250905T184807Z
UID:86052-1757095200-1757102400@www.ucsf.edu.ar
SUMMARY:Webinar  "Primer juicio por jurados en la ciudad de Santa Fe: una mirada teórica - práctica" - UCSF
DESCRIPTION:Actividad no arancelada \n  \nInscripción \n  \nLINK de ZOOM \n  \n 
URL:https://www.ucsf.edu.ar/evento/primer-juicio-por-jurados-en-la-ciudad-de-santa-fe-una-mirada-teorica-practica-ucsf/
LOCATION:Vía Zoom\, Argentina
CATEGORIES:A distancia,Santa Fe,Alumnos,Rosario,Docentes,Especialización en Derecho Procesal,Posadas,Personal UCSF,Reconquista,Carreras de Posgrado,Doctorado en Ciencias Jurídicas,Comunidad,Sedes
ATTACH;FMTTYPE=image/jpeg:https://www.ucsf.edu.ar/wp-content/uploads/2025/08/Juicio-por-jurados_feed.jpg
ORGANIZER;CN="Posgrado":MAILTO:posgrado@ucsf.edu.ar
END:VEVENT
BEGIN:VEVENT
DTSTART;TZID=America/Argentina/Buenos_Aires:20250909T083000
DTEND;TZID=America/Argentina/Buenos_Aires:20250910T173000
DTSTAMP:20260420T063106
CREATED:20250822T221358Z
LAST-MODIFIED:20250822T221939Z
UID:85807-1757406600-1757525400@www.ucsf.edu.ar
SUMMARY:La UCSF en la EXPO ROSARIO
DESCRIPTION:El martes 9 y miércoles 10 de septiembre de 8.30 a 17.30 hs\, el Departamento Ingreso de la UCSF participará de la Expo Rosario 2025. El evento se desarrollará en el Salón Metropolitano del Shopping Alto Rosario\, ubicado en calle Junín 501\, en la ciudad de Rosario. Será una gran oportunidad para que alumnos de las escuelas secundarias\, interesados y familias se acerquen a conocer la innovadora oferta académica que ofrece la UCSF para el Ingreso 2026.
URL:https://www.ucsf.edu.ar/evento/la-ucsf-en-la-expo-rosario-2/
LOCATION:Salón Metropolitano del Shopping Alto Rosario\, Av. Intendente Lamas 610\, Rosario
CATEGORIES:Santa Fe,Rosario,Comunidad
GEO:-32.9115394;-60.6924839
X-APPLE-STRUCTURED-LOCATION;VALUE=URI;X-ADDRESS=Salón Metropolitano del Shopping Alto Rosario Av. Intendente Lamas 610 Rosario;X-APPLE-RADIUS=500;X-TITLE=Av. Intendente Lamas 610:geo:-60.6924839,-32.9115394
END:VEVENT
BEGIN:VEVENT
DTSTART;TZID=America/Argentina/Buenos_Aires:20250915T170000
DTEND;TZID=America/Argentina/Buenos_Aires:20250915T190000
DTSTAMP:20260420T063106
CREATED:20250822T135835Z
LAST-MODIFIED:20250902T142613Z
UID:85707-1757955600-1757962800@www.ucsf.edu.ar
SUMMARY:Procesos de salud- enfermedad- cuidado en la configuración de las experiencias de cronicidad
DESCRIPTION:La conferencia se desarrollará en formato Hibrido. Presencial en el Aula 3.51 y virtual sincrónico a través de la plataforma Zoom. \nPara participar se debe realizar inscripción a través del siguiente Forms: https://forms.gle/9cvuTj39VQhHAxxv9 \nMas Información: carolinabasilio@ucsf.edu.ar
URL:https://www.ucsf.edu.ar/evento/procesos-de-salud-enfermedad-cuidado-en-la-configuracion-de-las-experiencias-de-cronicidad/
LOCATION:UCSF Santa Fe\, Echagüe 7151\, Santa Fe\, Santa Fe\, Argentina
CATEGORIES:Pastoral,Santa Fe,Facultades,Alumnos,Docentes,Rosario,Carreras de Grado,Personal UCSF,Reconquista,Comunidad,Psicología,Bienestar universitario,Sedes,IIEP Instituto de Investigaciones y Extensión en Psicología,Licenciatura en Psicología,Licenciatura en Psicopedagogía,IIEP Instituto de Investigaciones y Extensión en Psicología
ATTACH;FMTTYPE=image/jpeg:https://www.ucsf.edu.ar/wp-content/uploads/2025/08/WhatsApp-Image-2025-07-31-at-11.20.56-2-e1755871078302.jpeg
ORGANIZER;CN="Facultad%20de%20Psicolog%C3%ADa":MAILTO:ralarcon@ucsf.edu.ar
GEO:-31.6069451;-60.6709418
X-APPLE-STRUCTURED-LOCATION;VALUE=URI;X-ADDRESS=UCSF Santa Fe Echagüe 7151 Santa Fe Santa Fe Argentina;X-APPLE-RADIUS=500;X-TITLE=Echagüe 7151:geo:-60.6709418,-31.6069451
END:VEVENT
BEGIN:VEVENT
DTSTART;TZID=America/Argentina/Buenos_Aires:20250916T190000
DTEND;TZID=America/Argentina/Buenos_Aires:20250919T200000
DTSTAMP:20260420T063106
CREATED:20250626T150723Z
LAST-MODIFIED:20250818T200031Z
UID:83809-1758049200-1758312000@www.ucsf.edu.ar
SUMMARY:Curso "Divulgación científica para una sociedad informada"
DESCRIPTION:Este curso busca promover en alumnos avanzados\, egresados\, docentes y profesionales de la ciencia\,  la comunicación y el periodismo\, el desarrollo de habilidades y estrategias de divulgación científica utilizando un lenguaje claro\, accesible y riguroso\, que promueva una sociedad mejor informada y consciente del papel de la ciencia. \nSe desarrollará en seis encuentros virtuales de una hora\, y será dictado por el Mg. Lic. Danilo Mettini\, la Lic.  Ileana Hotschewer y la Lic. Ma. Alejandra Dilda. \nSeis (6) clases 100% virtuales de 19 a 20 horas: \n\n16/9\n23/9\n7/10\n14/10\n21/10\n28/10\n\nCostos:  \n\n$20.000 estudiantes UCSF\n$50.000 egresados y docentes UCSF\n$60.000 público en general\n\nPara solicitar información sobre el curso escribir a extensionffyh@ucsf.edu.ar 
URL:https://www.ucsf.edu.ar/evento/curso-para-comunicadores-divulgacion-cientifica-para-una-sociedad-informada/
LOCATION:UCSF Santa Fe\, Echagüe 7151\, Santa Fe\, Santa Fe\, Argentina
CATEGORIES:A distancia,Santa Fe,Rosario,Reconquista,Filosofía y Humanidades,Licenciatura en Ciencias de la Comunicación,Concordia,Licenciatura en Medios Digitales (CCC),Profesorado en Ciencias de la Educación
ATTACH;FMTTYPE=image/jpeg:https://www.ucsf.edu.ar/wp-content/uploads/2025/06/Para-web.jpg
GEO:-31.6069451;-60.6709418
X-APPLE-STRUCTURED-LOCATION;VALUE=URI;X-ADDRESS=UCSF Santa Fe Echagüe 7151 Santa Fe Santa Fe Argentina;X-APPLE-RADIUS=500;X-TITLE=Echagüe 7151:geo:-60.6709418,-31.6069451
END:VEVENT
BEGIN:VEVENT
DTSTART;TZID=America/Argentina/Buenos_Aires:20250918T170000
DTEND;TZID=America/Argentina/Buenos_Aires:20250918T200000
DTSTAMP:20260420T063106
CREATED:20250909T124405Z
LAST-MODIFIED:20250909T124406Z
UID:86551-1758214800-1758225600@www.ucsf.edu.ar
SUMMARY:LIDERAZGO: CONCEPTUALIZACIONES Y PRÁCTICAS EFECTIVAS
DESCRIPTION:Módulos: \n“Paradigmas del liderazgo: evolución y desafíos actuales”. \n“Liderazgo conversacional: comunicación asertiva y estratégica”. \n“Engagement en equipos de trabajo: el rol del liderazgo” \n“Gestión del bienestar emocional”. \n18 de septiembre (presencial)\n25 de septiembre (sincrónico)\n2 de octubre (presencial)\n9 de octubre (sincrónico)\n16 de octubre (presencial)\n23 de octubre (presencial) \nHorarios:\nPresencial: jueves de 17 hs a 20 hs.\nSincrónico: jueves de 17 hs a 19 hs. \nDirector: Lic. Psicología Franco David Giupponi. \nDocente invitada: Salessi\, Solana. Doctora en Psicología.
URL:https://www.ucsf.edu.ar/evento/liderazgo-conceptualizaciones-y-practicas-efectivas/
LOCATION:UCSF Santa Fe\, Echagüe 7151\, Santa Fe\, Santa Fe\, Argentina
CATEGORIES:Alumnos,Santa Fe,Facultades,Docentes,Rosario,Carreras de Grado,Personal UCSF,Ciclos de complementación,Reconquista,Comunidad,Psicología,Sedes,IIEP Instituto de Investigaciones y Extensión en Psicología,Licenciatura en Psicología,Licenciatura en Psicopedagogía,IIEP Instituto de Investigaciones y Extensión en Psicología,OPI - Observatorio de Política Internacional
ATTACH;FMTTYPE=image/jpeg:https://www.ucsf.edu.ar/wp-content/uploads/2025/09/Liderazgo_feed-1.jpg
ORGANIZER;CN="Facultad%20de%20Psicolog%C3%ADa":MAILTO:ralarcon@ucsf.edu.ar
GEO:-31.6069451;-60.6709418
X-APPLE-STRUCTURED-LOCATION;VALUE=URI;X-ADDRESS=UCSF Santa Fe Echagüe 7151 Santa Fe Santa Fe Argentina;X-APPLE-RADIUS=500;X-TITLE=Echagüe 7151:geo:-60.6709418,-31.6069451
END:VEVENT
BEGIN:VEVENT
DTSTART;TZID=America/Argentina/Buenos_Aires:20250922T140000
DTEND;TZID=America/Argentina/Buenos_Aires:20250922T163000
DTSTAMP:20260420T063106
CREATED:20250909T124916Z
LAST-MODIFIED:20250918T134006Z
UID:86555-1758549600-1758558600@www.ucsf.edu.ar
SUMMARY:Jornadas de Introducción a la Terapia de Aceptación y Compromiso
DESCRIPTION:Disertante: Lic. Carestía Lostaló\, María Paula \nDestinatarios: Estudiantes de la carrera de Licenciatura en Psicología o Psicología y profesionales de la psicología interesados en ampliar su repertorio clínico. \nActividad arancelada\, con inscripción previa al siguiente correo: iquiroz@ucsf.edu.ar \nLa formación se dictará los días lunes\, a partir del mes de septiembre hasta octubre de 2025. \n22 de septiembre \n29 de septiembre \n6 de octubre \nHorarios: 14 a 16.30hs \nModalidad: Virtual Sincrónico por Zoom \nOrganiza: Facultad de Psicología de la UCSF
URL:https://www.ucsf.edu.ar/evento/jornadas-de-introduccion-a-la-terapia-de-aceptacion-y-compromiso/
LOCATION:Vía Zoom\, Argentina
CATEGORIES:Santa Fe,Facultades,Alumnos,Docentes,Rosario,Carreras de Grado,Ciclos de complementación,Reconquista,Comunidad,Psicología,Bienestar universitario,Sedes,IIEP Instituto de Investigaciones y Extensión en Psicología,Licenciatura en Psicología,Licenciatura en Psicopedagogía,IIEP Instituto de Investigaciones y Extensión en Psicología
ATTACH;FMTTYPE=image/jpeg:https://www.ucsf.edu.ar/wp-content/uploads/2025/09/WhatsApp-Image-2025-09-18-at-9.52.50-AM.jpeg
ORGANIZER;CN="Facultad%20de%20Psicolog%C3%ADa":MAILTO:ralarcon@ucsf.edu.ar
END:VEVENT
BEGIN:VEVENT
DTSTART;TZID=America/Argentina/Buenos_Aires:20250925T160000
DTEND;TZID=America/Argentina/Buenos_Aires:20250925T180000
DTSTAMP:20260420T063106
CREATED:20250922T124802Z
LAST-MODIFIED:20250922T125124Z
UID:87090-1758816000-1758823200@www.ucsf.edu.ar
SUMMARY:Charla Introductoria “Envejeciendo PlenaMente”.
DESCRIPTION:El Vicerrectorado Académico\, a través del Programa Universidad Abierta y la Facultad de Ciencia de la Salud\, comunican que se encuentra abierta la inscripción para la Charla Introductoria “Envejeciendo PlenaMente”. Talleres de desarrollo integral para el adulto mayor de 55 años.  \nObjetivo de la charla:\n• Concientizar sobre factores que promueven el bienestar en la etapa de envejecimiento.\n• Difundir la apertura de talleres quincenales de desarrollo Integral del Adulto mayor a 55 años.\nObjetivos específicos:\n• Promover el cambio de estereotipos negativos relacionados a esta franja etaria. Envejecer no es detenerse… ¡Es transformarse!\n• Estimular hábitos positivos.\n• Conocer nuevas oportunidades\, despertar nuevos intereses. \nDocente/ disertantes: Lic. María Josefina Cavalieri \nDías y horarios: jueves 25 de septiembre\, de 16 a 18 horas \nDestinatarios: adultos mayores de 55 años \nModalidad: presencial: aula 3.51. Sede Virgen de Guadalupe. Santa Fe \nInscripciones en este link: https://www.eventbrite.com.ar/e/charla-introductoria-envejeciendo-plenamente-tickets-1729756059939?aff=Inscripciones \nCV abreviado: \nLicenciada en Terapia Ocupacional Egresada de la UNL- Facultad de Bioquímica y Cs. Biológicas\, Santa Fe. Año 2009. 17 años de experiencia laboral en Centros de Rehabilitación y atención clínica en Consultorio. 7 años de experiencia en Rehabilitación cognitiva y Evaluación neurocognitiva. 7 años de experiencia en Coordinación de Talleres grupales de Estimulación cognitiva y neuromotriz. Especializaciones: – Terapia Ocupacional en Patologías Neurológicas- 2014 (Univ. Favaloro) – Rehabilitación Cognitiva- 2018 (Fundación Ineco) – Neurociencias\, Neuropsicólogía y Rehabilitación Cognitiva- 2023 (Universidad Favaloro) \nInformes: mjcavali@yahoo.com.ar\nnsturla@ucsf.edu.ar \n 
URL:https://www.ucsf.edu.ar/evento/charla-introductoria-envejeciendo-plenamente/
LOCATION:UCSF Santa Fe\, Echagüe 7151\, Santa Fe\, Santa Fe\, Argentina
CATEGORIES:Santa Fe,Rosario,Docentes,Posadas,Personal UCSF,Reconquista,Rafaela,Gualeguaychú
ORGANIZER;CN="Vicerrectorado%20Acad%C3%A9mico":MAILTO:vrecacad@ucsf.edu.ar
GEO:-31.6069451;-60.6709418
X-APPLE-STRUCTURED-LOCATION;VALUE=URI;X-ADDRESS=UCSF Santa Fe Echagüe 7151 Santa Fe Santa Fe Argentina;X-APPLE-RADIUS=500;X-TITLE=Echagüe 7151:geo:-60.6709418,-31.6069451
END:VEVENT
BEGIN:VEVENT
DTSTART;TZID=America/Argentina/Buenos_Aires:20250926T080000
DTEND;TZID=America/Argentina/Buenos_Aires:20251010T210000
DTSTAMP:20260420T063106
CREATED:20250926T151628Z
LAST-MODIFIED:20250926T152328Z
UID:87403-1758873600-1760130000@www.ucsf.edu.ar
SUMMARY:ENTRELAZADOS - Muestra de Trabajos de Cátedra
DESCRIPTION:La Facultad de Arquitectura y Diseño (FAD) de la Universidad Católica de Santa Fe\, inaugura la Muestra de trabajos de cátedra “Entrelazados”. Es una actividad de extensión académica organizada por el Instituto de Morfología y Comunicación de la Forma. \nLa exposición está orientada a hacer visible la producción de los estudiantes y la labor de los docentes con la intención de visibilizar\, compartir\, aportar\, profundizar y revitalizar la comunicación entre las cátedras del área de comunicación y forma de las distintitas sedes de la FAD. \nA través de la muestra se pretende compartir/vincular los modos de enseñanza y aprendizaje de las materias de las carreras Arquitectura\, Lic. en Diseño Industrial\, Lic. en Diseño de Videojuegos y Tecnologías Creativas\, presentes en las distintas Sedes de la UCSF. Al mismo tiempo que se busca fortalecer la idea de identidad de la UCSF\, potenciando los lazos de unidad entre los docentes y alumnos y fortalecer los vínculos con la comunidad toda. \nLa actividad tiene como meta fortalecer el Instituto hacia una mirada integral sobre la comunicación visual como campo ampliado\, potenciando su vinculación con la arquitectura\, el diseño y la representación proyectual contemporánea. \nPor ello ENTRELAZADOS o ENTRE LAZOS dialoga en la semana de los estudiantes e inicio de la primavera como un espacio de florecimiento y vínculos que se refuerzan y se entretejen. \nNos entendemos “Entrelazados”\, enlazados o entretejidos unos con otros\, como comunidad universitaria donde cada elemento forma parte de un todo que se va tejiendo. \nLUGAR / MODALIDAD: \nLa Muestra “Entrelazados” se llevará a cabo a partir del 25 de septiembre de 2025 en las cuatro sedes de la Universidad: Santa Fe\, Rosario\, Rafaela y Posadas a lo largo de dos semanas\, mediante una exposición colectiva de trabajos de estudiantes seleccionados\, y actividades complementarias definidas por cada sede\, tales como charlas\, instalaciones\, talleres o presentaciones. \nHall UCSF\, Sede Virgen de Guadalupe\, Echagüe 7151\, Santa Fe\, Argentina \nTerraza 1° Piso UCSF\, Sede Santos Mártires\, Rademacher 3943 – Posadas – Argentina \nHall UCSF\, Sede San José\, Saavedra 472\, Rafaela\, Argentina \n1° Piso UCSF\, Sede Rosario\, Moreno 1056\, Rosario\, Santa Fe\, Argentina \nFECHA: DÍA Y HORARIOS  \n26 de septiembre al 9 de octubre
URL:https://www.ucsf.edu.ar/evento/entrelazados-m-u-e-s-t-r-a-de-t-r-a-b-a-j-o-s-de-c-a-t-e-d-r-a/
LOCATION:UCSF Santa Fe\, Echagüe 7151\, Santa Fe\, Santa Fe\, Argentina
CATEGORIES:Arquitectura y Diseño,Santa Fe,Facultades,Arquitectura,Rosario,Posadas,Rafaela,Sedes,Licenciatura en Diseño de Videojuegos y Tecnologías Creativas,Licenciatura en Diseño Industrial
ATTACH;FMTTYPE=image/jpeg:https://www.ucsf.edu.ar/wp-content/uploads/2025/09/Entrelazados_feed-scaled.jpg
GEO:-31.6069451;-60.6709418
X-APPLE-STRUCTURED-LOCATION;VALUE=URI;X-ADDRESS=UCSF Santa Fe Echagüe 7151 Santa Fe Santa Fe Argentina;X-APPLE-RADIUS=500;X-TITLE=Echagüe 7151:geo:-60.6709418,-31.6069451
END:VEVENT
END:VCALENDAR