BEGIN:VCALENDAR
VERSION:2.0
PRODID:-//UCSF - Universidad Católica de Santa Fe - ECPv5.14.2.1//NONSGML v1.0//EN
CALSCALE:GREGORIAN
METHOD:PUBLISH
X-WR-CALNAME:UCSF - Universidad Católica de Santa Fe
X-ORIGINAL-URL:https://www.ucsf.edu.ar
X-WR-CALDESC:Events for UCSF - Universidad Católica de Santa Fe
REFRESH-INTERVAL;VALUE=DURATION:PT1H
X-Robots-Tag:noindex
X-PUBLISHED-TTL:PT1H
BEGIN:VTIMEZONE
TZID:America/Argentina/Buenos_Aires
BEGIN:STANDARD
TZOFFSETFROM:-0300
TZOFFSETTO:-0300
TZNAME:-03
DTSTART:20250101T000000
END:STANDARD
END:VTIMEZONE
BEGIN:VEVENT
DTSTART;VALUE=DATE:20251004
DTEND;VALUE=DATE:20261006
DTSTAMP:20260419T133312
CREATED:20251002T203627Z
LAST-MODIFIED:20251002T204554Z
UID:87688-1759536000-1791244799@www.ucsf.edu.ar
SUMMARY:Convocatoria para publicación de artículos en Krínein Revista de Educación - Edición Especial-
DESCRIPTION:
URL:https://www.ucsf.edu.ar/evento/convocatoria-para-publicacion-de-articulos-en-krinein-revista-de-educacion-edicion-especila/
LOCATION:UCSF Santa Fe\, Echagüe 7151\, Santa Fe\, Santa Fe\, Argentina
CATEGORIES:A distancia,Santa Fe,Especialización en Gestión de la Transformación Digital,Maestría en Evaluación de Impacto y Gestión Ambiental,Alumnos,Rosario,Especialización en Análisis Económico y Gestión en las Cadenas de Valor Agroalimentarias,Docentes,Posadas,Especialización en Derecho Procesal,Personal UCSF,Reconquista,Carreras de Posgrado,Especialización en Gestión Integral del Hábitat,Departamento de Posgrados,Doctorado en Ciencias Jurídicas,Comunidad,Doctorado en Educación,Maestría en Sustentabilidad Ambiental,Posgrados,Maestría en Educación,Sedes,Maestría en Proyecto Arquitectónico y Urbano,Maestría en Relaciones Internacionales
ATTACH;FMTTYPE=image/jpeg:https://www.ucsf.edu.ar/wp-content/uploads/2025/10/Convocatoria-Krinein-25_generica-con-espacio-para-link-1.jpg
ORGANIZER;CN="Posgrado":MAILTO:posgrado@ucsf.edu.ar
GEO:-31.6069451;-60.6709418
X-APPLE-STRUCTURED-LOCATION;VALUE=URI;X-ADDRESS=UCSF Santa Fe Echagüe 7151 Santa Fe Santa Fe Argentina;X-APPLE-RADIUS=500;X-TITLE=Echagüe 7151:geo:-60.6709418,-31.6069451
END:VEVENT
BEGIN:VEVENT
DTSTART;VALUE=DATE:20251217
DTEND;VALUE=DATE:20251230
DTSTAMP:20260419T133312
CREATED:20251215T225417Z
LAST-MODIFIED:20251215T225833Z
UID:90433-1765929600-1767052799@www.ucsf.edu.ar
SUMMARY:Muestra de arte "Aguas" - UCSF Sede Rosario
DESCRIPTION:Despedimos un prolifico año 2025 en Rosario con la Muestra de óleos de Marcela Waigandt a la que denominamos “AGUAS”. \nEn ella la artista no sólo da cuenta de su versatilidad en el manejo de esta delicada técnica\, sino de la composición del paisaje\, que denota esmerado conocimiento y el manejo del cromatismo aplicado a las escenas representadas y a las diversas tonalidades que el agua requiere\, aplicado a mares\, ríos y lagos. \nUn cierre de año brillante con una artista de alta calidad y donde nos acompañó el Director del Museo de la Ciudad\, Lic. Ricardo Valquinta\, artistas y público en general. \n\nLugar: Hall UCSF Sede Rosario (Moreno 1056)\nFecha: Hasta el 29/12/25\nInvita: GECULT; UCSF Sede Rosario\n\n 
URL:https://www.ucsf.edu.ar/evento/muestra-de-arte-aguas-ucsf-sede-rosario/
LOCATION:UCSF Sede Rosario\, Moreno 1056\, Rosario\, Santa Fe\, 2000\, Argentina
CATEGORIES:Rosario
ATTACH;FMTTYPE=image/jpeg:https://www.ucsf.edu.ar/wp-content/uploads/2025/12/WhatsApp-Image-2025-12-15-at-17.10.44.jpeg
GEO:-32.9491666;-60.6519119
X-APPLE-STRUCTURED-LOCATION;VALUE=URI;X-ADDRESS=UCSF Sede Rosario Moreno 1056 Rosario Santa Fe 2000 Argentina;X-APPLE-RADIUS=500;X-TITLE=Moreno 1056:geo:-60.6519119,-32.9491666
END:VEVENT
BEGIN:VEVENT
DTSTART;TZID=America/Argentina/Buenos_Aires:20251218T080000
DTEND;TZID=America/Argentina/Buenos_Aires:20251218T140000
DTSTAMP:20260419T133312
CREATED:20251210T190652Z
LAST-MODIFIED:20251210T192951Z
UID:90243-1766044800-1766066400@www.ucsf.edu.ar
SUMMARY:Jornada Interdisciplinaria de Cirugía General: Innovación en el Arte Quirúrgico
DESCRIPTION:El Vicerrectorado Académico\, a través del Programa Universidad Abierta; la Facultad de Ciencia de la Salud de la UCSF\, el Hospital José María Cullen y el Colegio de Médicos de Santa Fe comunican\, que se llevará a cabo en nuestra sede “Virgen de Guadalupe” la “Jornada Interdisciplinaria de Cirugía General: Innovación en el Arte Quirúrgico”. \nFundamentos: \nLa cirugía general se encuentra en constante evolución\, impulsada por avances tecnológicos y la necesidad de mejorar la seguridad y eficacia de los procedimientos. Abordar temas como la cirugía robótica\, técnicas mínimamente invasivas y tratamientos innovadores permite a los profesionales adaptarse a los estándares internacionales y ofrecer mejores resultados a los pacientes. Asimismo\, la actualización en patologías complejas como el cáncer de recto y el trauma esplénico es esencial para reducir complicaciones y optimizar la recuperación. La incorporación de métodos como la radiofrecuencia y la endoscopía segura contribuye a procedimientos menos invasivos y con menor riesgo. Por otro lado\, la reconstrucción microquirúrgica y el manejo del síndrome aórtico agudo son pilares para enfrentar situaciones críticas con éxito. Finalmente\, el liderazgo y la gestión en equipos quirúrgicos son fundamentales para garantizar una práctica colaborativa y eficiente\, asegurando la calidad asistencial y el bienestar del paciente. \nTemas a desarrollar en la jornada\n• Cómo desarrollar un programa de cirugía robótica en la Argentina – Dr. Agnesio\, Héctor Rodolfo\n• Cáncer de recto ¿Es tan complejo como parece? – Dr. Landi\, Leonardo\n• TNO en trauma esplénico: ¿Qué hay de nuevo? – Dra. García\, Jesica\n• NIVATS – Dr. Álvarez Padilla\, Facundo\n• Radiofrecuencia y TOETVA en el tratamiento de nódulos tiroideos – Dr. Marozzi\, Agustín\n• Endoscopía segura – Dr. Rudolf\, Joaquín\n• Reconstrucción microquirúrgica aplicada al servicio de cirugía general – Dr. Sander\, Matías\n• Síndrome aórtico agudo – Dra. Battú\, Camila\n• Liderazgo… ¿Y después qué? – Dr. Pekolj\, Juan \nDía y horario: jueves 18 de diciembre\, de 8 a 14 horas. \nAula 3.7 (UCSF- C. Echagüe 7151\, Santa Fe) \nModalidad: híbrida \nConsultar link de Zoom \nInformes: federico.fookespaccamiccio@ucsf.edu.ar \n                    nsturla@ucsf.edu.ar
URL:https://www.ucsf.edu.ar/evento/jornada-interdisciplinaria-de-cirugia-general-innovacion-en-el-arte-quirurgico/
LOCATION:UCSF Santa Fe\, Echagüe 7151\, Santa Fe\, Santa Fe\, Argentina
CATEGORIES:Santa Fe,Rosario,Posadas,Reconquista,Rafaela,Gualeguaychú
ORGANIZER;CN="Vicerrectorado%20Acad%C3%A9mico":MAILTO:vrecacad@ucsf.edu.ar
GEO:-31.6069451;-60.6709418
X-APPLE-STRUCTURED-LOCATION;VALUE=URI;X-ADDRESS=UCSF Santa Fe Echagüe 7151 Santa Fe Santa Fe Argentina;X-APPLE-RADIUS=500;X-TITLE=Echagüe 7151:geo:-60.6709418,-31.6069451
END:VEVENT
END:VCALENDAR