BEGIN:VCALENDAR
VERSION:2.0
PRODID:-//UCSF - Universidad Católica de Santa Fe - ECPv5.14.2.1//NONSGML v1.0//EN
CALSCALE:GREGORIAN
METHOD:PUBLISH
X-WR-CALNAME:UCSF - Universidad Católica de Santa Fe
X-ORIGINAL-URL:https://www.ucsf.edu.ar
X-WR-CALDESC:Events for UCSF - Universidad Católica de Santa Fe
REFRESH-INTERVAL;VALUE=DURATION:PT1H
X-Robots-Tag:noindex
X-PUBLISHED-TTL:PT1H
BEGIN:VTIMEZONE
TZID:America/Sao_Paulo
BEGIN:STANDARD
TZOFFSETFROM:-0200
TZOFFSETTO:-0300
TZNAME:-03
DTSTART:20180218T020000
END:STANDARD
BEGIN:DAYLIGHT
TZOFFSETFROM:-0300
TZOFFSETTO:-0200
TZNAME:-02
DTSTART:20181104T030000
END:DAYLIGHT
END:VTIMEZONE
BEGIN:VEVENT
DTSTART;TZID=America/Sao_Paulo:20180301T080000
DTEND;TZID=America/Sao_Paulo:20180301T120000
DTSTAMP:20260424T065656
CREATED:20180227T183327Z
LAST-MODIFIED:20180227T183327Z
UID:15136-1519891200-1519905600@www.ucsf.edu.ar
SUMMARY:Inicio Curso de Ingreso - Sede Posadas
DESCRIPTION:
URL:https://www.ucsf.edu.ar/evento/inicio-curso-de-ingreso-sede-posadas/
LOCATION:UCSF Sede Santos Mártires – Posadas\, Rademacher 3943\, Posadas\, Misiones\, Argentina
CATEGORIES:Home principal,Arquitectura y Diseño,Facultades,Posadas,Derecho y Ciencia Política,Sedes
GEO:-27.3859693;-55.896416
X-APPLE-STRUCTURED-LOCATION;VALUE=URI;X-ADDRESS=UCSF Sede Santos Mártires – Posadas Rademacher 3943 Posadas Misiones Argentina;X-APPLE-RADIUS=500;X-TITLE=Rademacher 3943:geo:-55.896416,-27.3859693
END:VEVENT
BEGIN:VEVENT
DTSTART;TZID=America/Sao_Paulo:20180301T080000
DTEND;TZID=America/Sao_Paulo:20180301T120000
DTSTAMP:20260424T065656
CREATED:20180227T183327Z
LAST-MODIFIED:20180227T183327Z
UID:41355-1519891200-1519905600@www.ucsf.edu.ar
SUMMARY:Inicio Curso de Ingreso - Sede Posadas
DESCRIPTION:
URL:https://www.ucsf.edu.ar/evento/inicio-curso-de-ingreso-sede-posadas-2/
LOCATION:UCSF Sede Santos Mártires – Posadas\, Rademacher 3943\, Posadas\, Misiones\, Argentina
CATEGORIES:Home principal,Arquitectura y Diseño,Facultades,Posadas,Sedes
GEO:-27.3859693;-55.896416
X-APPLE-STRUCTURED-LOCATION;VALUE=URI;X-ADDRESS=UCSF Sede Santos Mártires – Posadas Rademacher 3943 Posadas Misiones Argentina;X-APPLE-RADIUS=500;X-TITLE=Rademacher 3943:geo:-55.896416,-27.3859693
END:VEVENT
BEGIN:VEVENT
DTSTART;TZID=America/Sao_Paulo:20180301T080000
DTEND;TZID=America/Sao_Paulo:20180301T120000
DTSTAMP:20260424T065656
CREATED:20180227T183529Z
LAST-MODIFIED:20180227T183529Z
UID:15139-1519891200-1519905600@www.ucsf.edu.ar
SUMMARY:Inicio Curso de Ingreso - Sede Rafaela
DESCRIPTION:
URL:https://www.ucsf.edu.ar/evento/inicio-curso-de-ingreso-sede-rafaela/
LOCATION:Untitled\, Argentina
CATEGORIES:Home principal,Arquitectura y Diseño,Facultades,Ciencias de la Salud,Rafaela,Sedes
END:VEVENT
BEGIN:VEVENT
DTSTART;TZID=America/Sao_Paulo:20180301T080000
DTEND;TZID=America/Sao_Paulo:20180301T120000
DTSTAMP:20260424T065656
CREATED:20180227T183529Z
LAST-MODIFIED:20180227T183529Z
UID:41356-1519891200-1519905600@www.ucsf.edu.ar
SUMMARY:Inicio Curso de Ingreso - Sede Rafaela
DESCRIPTION:
URL:https://www.ucsf.edu.ar/evento/inicio-curso-de-ingreso-sede-rafaela-2/
LOCATION:Untitled\, Argentina
CATEGORIES:Home principal,Arquitectura y Diseño,Facultades,Ciencias de la Salud,Rafaela,Sedes
END:VEVENT
BEGIN:VEVENT
DTSTART;TZID=America/Sao_Paulo:20180301T080000
DTEND;TZID=America/Sao_Paulo:20180301T120000
DTSTAMP:20260424T065656
CREATED:20180227T183715Z
LAST-MODIFIED:20180227T183715Z
UID:15140-1519891200-1519905600@www.ucsf.edu.ar
SUMMARY:Inicio Curso de Ingreso - Sede Reconquista
DESCRIPTION:
URL:https://www.ucsf.edu.ar/evento/inicio-curso-de-ingreso-sede-reconquista/
LOCATION:UCSF Sede Reconquista\, Ludueña 612\, Reconquista\, Santa Fe\, Argentina
CATEGORIES:Home principal,Facultades,Ciencias de la Salud,Ciencias Económicas,Derecho y Ciencia Política,Reconquista,Sedes
GEO:-29.1437691;-59.641047
X-APPLE-STRUCTURED-LOCATION;VALUE=URI;X-ADDRESS=UCSF Sede Reconquista Ludueña 612 Reconquista Santa Fe Argentina;X-APPLE-RADIUS=500;X-TITLE=Ludueña 612:geo:-59.641047,-29.1437691
END:VEVENT
BEGIN:VEVENT
DTSTART;TZID=America/Sao_Paulo:20180301T080000
DTEND;TZID=America/Sao_Paulo:20180301T120000
DTSTAMP:20260424T065656
CREATED:20180227T183715Z
LAST-MODIFIED:20180227T183715Z
UID:41357-1519891200-1519905600@www.ucsf.edu.ar
SUMMARY:Inicio Curso de Ingreso - Sede Reconquista
DESCRIPTION:
URL:https://www.ucsf.edu.ar/evento/inicio-curso-de-ingreso-sede-reconquista-2/
LOCATION:UCSF Sede Reconquista\, Ludueña 612\, Reconquista\, Santa Fe\, Argentina
CATEGORIES:Home principal,Facultades,Ciencias de la Salud,Ciencias Económicas,Reconquista,Sedes
GEO:-29.1437691;-59.641047
X-APPLE-STRUCTURED-LOCATION;VALUE=URI;X-ADDRESS=UCSF Sede Reconquista Ludueña 612 Reconquista Santa Fe Argentina;X-APPLE-RADIUS=500;X-TITLE=Ludueña 612:geo:-59.641047,-29.1437691
END:VEVENT
BEGIN:VEVENT
DTSTART;TZID=America/Sao_Paulo:20180301T080000
DTEND;TZID=America/Sao_Paulo:20180301T120000
DTSTAMP:20260424T065656
CREATED:20180227T184237Z
LAST-MODIFIED:20180227T184237Z
UID:15141-1519891200-1519905600@www.ucsf.edu.ar
SUMMARY:Inicio Curso de Ingreso - Sede Rosario
DESCRIPTION:
URL:https://www.ucsf.edu.ar/evento/inicio-curso-de-ingreso-sede-rosario/
LOCATION:UCSF Sede Rosario\, Moreno 1056\, Rosario\, Santa Fe\, 2000\, Argentina
CATEGORIES:Home principal,Arquitectura y Diseño,Facultades,Rosario,Ciencias de la Salud,Sedes
GEO:-32.9491666;-60.6519119
X-APPLE-STRUCTURED-LOCATION;VALUE=URI;X-ADDRESS=UCSF Sede Rosario Moreno 1056 Rosario Santa Fe 2000 Argentina;X-APPLE-RADIUS=500;X-TITLE=Moreno 1056:geo:-60.6519119,-32.9491666
END:VEVENT
BEGIN:VEVENT
DTSTART;TZID=America/Sao_Paulo:20180301T080000
DTEND;TZID=America/Sao_Paulo:20180301T120000
DTSTAMP:20260424T065656
CREATED:20180227T184237Z
LAST-MODIFIED:20180227T184237Z
UID:41358-1519891200-1519905600@www.ucsf.edu.ar
SUMMARY:Inicio Curso de Ingreso - Sede Rosario
DESCRIPTION:
URL:https://www.ucsf.edu.ar/evento/inicio-curso-de-ingreso-sede-rosario-2/
LOCATION:UCSF Sede Rosario\, Moreno 1056\, Rosario\, Santa Fe\, 2000\, Argentina
CATEGORIES:Home principal,Arquitectura y Diseño,Facultades,Rosario,Ciencias de la Salud,Sedes
GEO:-32.9491666;-60.6519119
X-APPLE-STRUCTURED-LOCATION;VALUE=URI;X-ADDRESS=UCSF Sede Rosario Moreno 1056 Rosario Santa Fe 2000 Argentina;X-APPLE-RADIUS=500;X-TITLE=Moreno 1056:geo:-60.6519119,-32.9491666
END:VEVENT
BEGIN:VEVENT
DTSTART;TZID=America/Sao_Paulo:20180301T150000
DTEND;TZID=America/Sao_Paulo:20180301T190000
DTSTAMP:20260424T065656
CREATED:20180227T182904Z
LAST-MODIFIED:20180227T183032Z
UID:15133-1519916400-1519930800@www.ucsf.edu.ar
SUMMARY:Inicio Curso de Ingreso - Santa Fe
DESCRIPTION:
URL:https://www.ucsf.edu.ar/evento/inicio-curso-de-ingreso-santa-fe/
LOCATION:UCSF Santa Fe\, Echagüe 7151\, Santa Fe\, Santa Fe\, Argentina
CATEGORIES:Home principal,Arquitectura y Diseño,Ciencias Agropecuarias,Santa Fe,Facultades,Ciencias de la Salud,Ciencias Económicas,Derecho y Ciencia Política,Psicología,Sedes
GEO:-31.6069451;-60.6709418
X-APPLE-STRUCTURED-LOCATION;VALUE=URI;X-ADDRESS=UCSF Santa Fe Echagüe 7151 Santa Fe Santa Fe Argentina;X-APPLE-RADIUS=500;X-TITLE=Echagüe 7151:geo:-60.6709418,-31.6069451
END:VEVENT
BEGIN:VEVENT
DTSTART;TZID=America/Sao_Paulo:20180301T150000
DTEND;TZID=America/Sao_Paulo:20180301T190000
DTSTAMP:20260424T065656
CREATED:20180227T182904Z
LAST-MODIFIED:20180227T182904Z
UID:41354-1519916400-1519930800@www.ucsf.edu.ar
SUMMARY:Inicio Curso de Ingreso - Santa Fe
DESCRIPTION:
URL:https://www.ucsf.edu.ar/evento/inicio-curso-de-ingreso-santa-fe-2/
LOCATION:UCSF Santa Fe\, Echagüe 7151\, Santa Fe\, Santa Fe\, Argentina
CATEGORIES:Home principal,Arquitectura y Diseño,Ciencias Agropecuarias,Santa Fe,Facultades,Ciencias de la Salud,Ciencias Económicas,Psicología,Sedes
GEO:-31.6069451;-60.6709418
X-APPLE-STRUCTURED-LOCATION;VALUE=URI;X-ADDRESS=UCSF Santa Fe Echagüe 7151 Santa Fe Santa Fe Argentina;X-APPLE-RADIUS=500;X-TITLE=Echagüe 7151:geo:-60.6709418,-31.6069451
END:VEVENT
BEGIN:VEVENT
DTSTART;TZID=America/Sao_Paulo:20180308T190000
DTEND;TZID=America/Sao_Paulo:20180308T200000
DTSTAMP:20260424T065656
CREATED:20180308T131938Z
LAST-MODIFIED:20180308T131938Z
UID:15226-1520535600-1520539200@www.ucsf.edu.ar
SUMMARY:Santa Misa con motivo a celebrarse el “Día Internacional de la Mujer”
DESCRIPTION:Mons. José Ma. Arancedo invita a unirse a la oración y participación de la Santa Misa con motivo a celebrarse el “Día Internacional de la Mujer”\, el jueves 8 de marzo a la hora 19\, en la Catedral Metropolitana – Parroquia Todos los Santos (Ciudad Sede).
URL:https://www.ucsf.edu.ar/evento/santa-misa-con-motivo-a-celebrarse-el-dia-internacional-de-la-mujer/
END:VEVENT
BEGIN:VEVENT
DTSTART;TZID=America/Sao_Paulo:20180308T190000
DTEND;TZID=America/Sao_Paulo:20180308T200000
DTSTAMP:20260424T065656
CREATED:20180308T131938Z
LAST-MODIFIED:20180308T131938Z
UID:41366-1520535600-1520539200@www.ucsf.edu.ar
SUMMARY:Santa Misa con motivo a celebrarse el “Día Internacional de la Mujer”
DESCRIPTION:Mons. José Ma. Arancedo invita a unirse a la oración y participación de la Santa Misa con motivo a celebrarse el “Día Internacional de la Mujer”\, el jueves 8 de marzo a la hora 19\, en la Catedral Metropolitana – Parroquia Todos los Santos (Ciudad Sede).
URL:https://www.ucsf.edu.ar/evento/santa-misa-con-motivo-a-celebrarse-el-dia-internacional-de-la-mujer-2/
END:VEVENT
BEGIN:VEVENT
DTSTART;TZID=America/Sao_Paulo:20180309T160000
DTEND;TZID=America/Sao_Paulo:20180309T210000
DTSTAMP:20260424T065656
CREATED:20180227T182256Z
LAST-MODIFIED:20180228T192443Z
UID:15131-1520611200-1520629200@www.ucsf.edu.ar
SUMMARY:Curso abierto: La figura política del mal en los totalitarismos - Rosario
DESCRIPTION:Este curso pretende analizar filosóficamente las circunstancias políticas y sociales que hicieron posible el surgimiento de los regímenes totalitarios como así también las consecuencias en el plano antropológico y moral que provocaron en un tiempo pasado que siempre amenazan con volver. No se requiere conocimientos previos de ninguna disciplina. \nContinúa sábado 10 de marzo de 8 a 13 hs.
URL:https://www.ucsf.edu.ar/evento/seminario-sobre-la-figura-politica-del-mal-en-los-totalitarismos/
CATEGORIES:Home principal,Facultades,Rosario,Sedes
END:VEVENT
BEGIN:VEVENT
DTSTART;TZID=America/Sao_Paulo:20180309T160000
DTEND;TZID=America/Sao_Paulo:20180309T210000
DTSTAMP:20260424T065656
CREATED:20180227T182256Z
LAST-MODIFIED:20180227T182256Z
UID:41353-1520611200-1520629200@www.ucsf.edu.ar
SUMMARY:Curso abierto: La figura política del mal en los totalitarismos - Rosario
DESCRIPTION:Este curso pretende analizar filosóficamente las circunstancias políticas y sociales que hicieron posible el surgimiento de los regímenes totalitarios como así también las consecuencias en el plano antropológico y moral que provocaron en un tiempo pasado que siempre amenazan con volver. No se requiere conocimientos previos de ninguna disciplina. \nContinúa sábado 10 de marzo de 8 a 13 hs.
URL:https://www.ucsf.edu.ar/evento/seminario-sobre-la-figura-politica-del-mal-en-los-totalitarismos-2/
CATEGORIES:Home principal,Facultades,Rosario,Sedes
END:VEVENT
BEGIN:VEVENT
DTSTART;TZID=America/Sao_Paulo:20180326T180000
DTEND;TZID=America/Sao_Paulo:20180326T220000
DTSTAMP:20260424T065656
CREATED:20180312T220800Z
LAST-MODIFIED:20180312T220800Z
UID:15337-1522087200-1522101600@www.ucsf.edu.ar
SUMMARY:Diplomatura en Vínculos Familiares
DESCRIPTION:Una propuesta de formación para fortalecer y cultivar lo que más nos importa: nuestra familia.\nUn espacio de reflexión y estudio interdisciplinario en el que la universidad pone la ciencia al servicio de la familia\, la comunidad de vida y amor vital para el desarrollo del hombre y de la sociedad.\n12 módulos con docentes locales e invitados.\nCupos limitados.
URL:https://www.ucsf.edu.ar/evento/diplomatura-en-vinculos-familiares/2018-03-26/
LOCATION:UCSF Santa Fe\, Echagüe 7151\, Santa Fe\, Santa Fe\, Argentina
CATEGORIES:IMF Instituto para el Matrimonio y la Familia
GEO:-31.6069451;-60.6709418
X-APPLE-STRUCTURED-LOCATION;VALUE=URI;X-ADDRESS=UCSF Santa Fe Echagüe 7151 Santa Fe Santa Fe Argentina;X-APPLE-RADIUS=500;X-TITLE=Echagüe 7151:geo:-60.6709418,-31.6069451
END:VEVENT
BEGIN:VEVENT
DTSTART;TZID=America/Sao_Paulo:20180326T180000
DTEND;TZID=America/Sao_Paulo:20180326T220000
DTSTAMP:20260424T065656
CREATED:20180312T220800Z
LAST-MODIFIED:20180312T220800Z
UID:41374-1522087200-1522101600@www.ucsf.edu.ar
SUMMARY:Diplomatura en Vínculos Familiares
DESCRIPTION:Una propuesta de formación para fortalecer y cultivar lo que más nos importa: nuestra familia.\nUn espacio de reflexión y estudio interdisciplinario en el que la universidad pone la ciencia al servicio de la familia\, la comunidad de vida y amor vital para el desarrollo del hombre y de la sociedad.\n12 módulos con docentes locales e invitados.\nCupos limitados.
URL:https://www.ucsf.edu.ar/evento/diplomatura-en-vinculos-familiares-2/2018-03-26/
LOCATION:UCSF Santa Fe\, Echagüe 7151\, Santa Fe\, Santa Fe\, Argentina
CATEGORIES:IMF Instituto para el Matrimonio y la Familia
GEO:-31.6069451;-60.6709418
X-APPLE-STRUCTURED-LOCATION;VALUE=URI;X-ADDRESS=UCSF Santa Fe Echagüe 7151 Santa Fe Santa Fe Argentina;X-APPLE-RADIUS=500;X-TITLE=Echagüe 7151:geo:-60.6709418,-31.6069451
END:VEVENT
BEGIN:VEVENT
DTSTART;TZID=America/Sao_Paulo:20180403T160000
DTEND;TZID=America/Sao_Paulo:20180403T180000
DTSTAMP:20260424T065656
CREATED:20180314T112029Z
LAST-MODIFIED:20180314T141721Z
UID:15363-1522771200-1522778400@www.ucsf.edu.ar
SUMMARY:Reconquista-Conferencia Actualización “Impuesto a las ganancias y bienes personales periodo 2017.
DESCRIPTION:El Instituto de Investigaciones Contables de la Facultad de Ciencias Económicas de la UCSF organiza e invita a la Conferencia de Actualización Impositiva “Impuesto a las ganancias y bienes personales 2017. Aspectos destacables de la Reforma Tributaria para 2018”\, a realizarse el martes 3 de abril a las 16 hs. en la Sede de la UCSF Reconquista (Ludueña 612). \nLa misma estará a cargo del Dr. CPN Julio César Yódice. \nLos objetivos de esta jornada son: \n· Profundizar los conocimientos específicos en materia de liquidación del impuesto a las ganancias y sobre los bienes personales. \n· Conocer las principales modificaciones normativas y su impacto en la liquidación anual de dichos impuestos. \n· Revisar los aspectos más destacables de la reforma impositiva con efecto en el año 2018. \nEste curso está destinado a alumnos avanzados de la carrera de Contador Público y otras afines\, a egresados\, profesionales e interesados en la temática. \nEl costo para alumnos es de $180\, para docentes y egresados de la UCSF\, $250 y para profesionales\, $300. \nSe entregarán certificados. \nPara mayores informes comunicarse con la Sede Reconquista de la UCSF al mail: mlocampo.ucsf@gmail.com o telefónicamente al 03482-424794.
URL:https://www.ucsf.edu.ar/evento/sede-reconquista-actualizacion-impositiva-impuesto-a-las-ganancias-y-bienes-personales-2017/
LOCATION:Untitled\, Argentina
CATEGORIES:Facultades,Ciencias Económicas,Reconquista,Sedes
ORGANIZER;CN="Facultad%20de%20Ciencias%20Econ%C3%B3micas%20-%20Sede%20Reconquista":MAILTO:mlocampo@ucsf.edu.ar
END:VEVENT
BEGIN:VEVENT
DTSTART;TZID=America/Sao_Paulo:20180403T160000
DTEND;TZID=America/Sao_Paulo:20180403T180000
DTSTAMP:20260424T065656
CREATED:20180314T112029Z
LAST-MODIFIED:20180314T112029Z
UID:41375-1522771200-1522778400@www.ucsf.edu.ar
SUMMARY:Reconquista-Conferencia Actualización “Impuesto a las ganancias y bienes personales periodo 2017.
DESCRIPTION:El Instituto de Investigaciones Contables de la Facultad de Ciencias Económicas de la UCSF organiza e invita a la Conferencia de Actualización Impositiva “Impuesto a las ganancias y bienes personales 2017. Aspectos destacables de la Reforma Tributaria para 2018”\, a realizarse el martes 3 de abril a las 16 hs. en la Sede de la UCSF Reconquista (Ludueña 612). \nLa misma estará a cargo del Dr. CPN Julio César Yódice. \nLos objetivos de esta jornada son: \n· Profundizar los conocimientos específicos en materia de liquidación del impuesto a las ganancias y sobre los bienes personales. \n· Conocer las principales modificaciones normativas y su impacto en la liquidación anual de dichos impuestos. \n· Revisar los aspectos más destacables de la reforma impositiva con efecto en el año 2018. \nEste curso está destinado a alumnos avanzados de la carrera de Contador Público y otras afines\, a egresados\, profesionales e interesados en la temática. \nEl costo para alumnos es de $180\, para docentes y egresados de la UCSF\, $250 y para profesionales\, $300. \nSe entregarán certificados. \nPara mayores informes comunicarse con la Sede Reconquista de la UCSF al mail: mlocampo.ucsf@gmail.com o telefónicamente al 03482-424794.
URL:https://www.ucsf.edu.ar/evento/sede-reconquista-actualizacion-impositiva-impuesto-a-las-ganancias-y-bienes-personales-2017-2/
LOCATION:Untitled\, Argentina
CATEGORIES:Facultades,Ciencias Económicas,Reconquista,Sedes
ORGANIZER;CN="Facultad%20de%20Ciencias%20Econ%C3%B3micas%20-%20Sede%20Reconquista":MAILTO:mlocampo@ucsf.edu.ar
END:VEVENT
BEGIN:VEVENT
DTSTART;TZID=America/Sao_Paulo:20180404T160000
DTEND;TZID=America/Sao_Paulo:20180404T180000
DTSTAMP:20260424T065656
CREATED:20180312T142257Z
LAST-MODIFIED:20180312T142257Z
UID:15303-1522857600-1522864800@www.ucsf.edu.ar
SUMMARY:Reunión informativa sobre el Programa de Movilidad Estudiantil
DESCRIPTION:
URL:https://www.ucsf.edu.ar/evento/reunion-informativa-sobre-el-programa-de-movilidad-estudiantil/
LOCATION:UCSF Santa Fe\, Echagüe 7151\, Santa Fe\, Santa Fe\, Argentina
CATEGORIES:Home principal,Arquitectura y Diseño,Ciencias Agropecuarias,Santa Fe,Facultades,Ciencias de la Salud,Ciencias Económicas,Derecho y Ciencia Política,Psicología,Sedes
GEO:-31.6069451;-60.6709418
X-APPLE-STRUCTURED-LOCATION;VALUE=URI;X-ADDRESS=UCSF Santa Fe Echagüe 7151 Santa Fe Santa Fe Argentina;X-APPLE-RADIUS=500;X-TITLE=Echagüe 7151:geo:-60.6709418,-31.6069451
END:VEVENT
BEGIN:VEVENT
DTSTART;TZID=America/Sao_Paulo:20180404T160000
DTEND;TZID=America/Sao_Paulo:20180404T180000
DTSTAMP:20260424T065656
CREATED:20180312T142257Z
LAST-MODIFIED:20180312T142257Z
UID:41373-1522857600-1522864800@www.ucsf.edu.ar
SUMMARY:Reunión informativa sobre el Programa de Movilidad Estudiantil
DESCRIPTION:
URL:https://www.ucsf.edu.ar/evento/reunion-informativa-sobre-el-programa-de-movilidad-estudiantil-2/
LOCATION:UCSF Santa Fe\, Echagüe 7151\, Santa Fe\, Santa Fe\, Argentina
CATEGORIES:Home principal,Arquitectura y Diseño,Ciencias Agropecuarias,Santa Fe,Facultades,Ciencias de la Salud,Ciencias Económicas,Psicología,Sedes
GEO:-31.6069451;-60.6709418
X-APPLE-STRUCTURED-LOCATION;VALUE=URI;X-ADDRESS=UCSF Santa Fe Echagüe 7151 Santa Fe Santa Fe Argentina;X-APPLE-RADIUS=500;X-TITLE=Echagüe 7151:geo:-60.6709418,-31.6069451
END:VEVENT
BEGIN:VEVENT
DTSTART;TZID=America/Sao_Paulo:20180405T180000
DTEND;TZID=America/Sao_Paulo:20180405T200000
DTSTAMP:20260424T065656
CREATED:20180305T132750Z
LAST-MODIFIED:20180312T172902Z
UID:15177-1522951200-1522958400@www.ucsf.edu.ar
SUMMARY:Acto de Colación Santa Fe
DESCRIPTION:Egresados de: Ciencias Económicas\, Psicología\, Ciencias de la Salud\, Ciencias de la Tierra y Filosofía\nEncontrá la lista de egresados en el link de la derecha.
URL:https://www.ucsf.edu.ar/evento/acto-de-colacion-sede-santa-fe/
LOCATION:UCSF Santa Fe\, Echagüe 7151\, Santa Fe\, Santa Fe\, Argentina
CATEGORIES:Home principal,Santa Fe,Facultades,Ciencias de la Salud,Ciencias Económicas,Psicología,Sedes
GEO:-31.6069451;-60.6709418
X-APPLE-STRUCTURED-LOCATION;VALUE=URI;X-ADDRESS=UCSF Santa Fe Echagüe 7151 Santa Fe Santa Fe Argentina;X-APPLE-RADIUS=500;X-TITLE=Echagüe 7151:geo:-60.6709418,-31.6069451
END:VEVENT
BEGIN:VEVENT
DTSTART;TZID=America/Sao_Paulo:20180405T180000
DTEND;TZID=America/Sao_Paulo:20180405T200000
DTSTAMP:20260424T065656
CREATED:20180305T132750Z
LAST-MODIFIED:20180305T132750Z
UID:41359-1522951200-1522958400@www.ucsf.edu.ar
SUMMARY:Acto de Colación Santa Fe
DESCRIPTION:Egresados de: Ciencias Económicas\, Psicología\, Ciencias de la Salud\, Ciencias de la Tierra y Filosofía\nEncontrá la lista de egresados en el link de la derecha.
URL:https://www.ucsf.edu.ar/evento/acto-de-colacion-sede-santa-fe-2/
LOCATION:UCSF Santa Fe\, Echagüe 7151\, Santa Fe\, Santa Fe\, Argentina
CATEGORIES:Home principal,Santa Fe,Facultades,Ciencias de la Salud,Ciencias Económicas,Psicología,Sedes
GEO:-31.6069451;-60.6709418
X-APPLE-STRUCTURED-LOCATION;VALUE=URI;X-ADDRESS=UCSF Santa Fe Echagüe 7151 Santa Fe Santa Fe Argentina;X-APPLE-RADIUS=500;X-TITLE=Echagüe 7151:geo:-60.6709418,-31.6069451
END:VEVENT
BEGIN:VEVENT
DTSTART;TZID=America/Sao_Paulo:20180406T180000
DTEND;TZID=America/Sao_Paulo:20180406T200000
DTSTAMP:20260424T065656
CREATED:20180305T133146Z
LAST-MODIFIED:20180312T172954Z
UID:15179-1523037600-1523044800@www.ucsf.edu.ar
SUMMARY:Acto de Colación Santa Fe
DESCRIPTION:Egresados de: Derecho y Ciencia Política\, Humanidades y Arquitectura\nEncontrá la lista de egresados en el link de la derecha
URL:https://www.ucsf.edu.ar/evento/acto-de-colacion-santa-fe/
LOCATION:UCSF Santa Fe\, Echagüe 7151\, Santa Fe\, Santa Fe\, Argentina
CATEGORIES:Home principal,Arquitectura y Diseño,Santa Fe,Facultades,Derecho y Ciencia Política,Sedes
GEO:-31.6069451;-60.6709418
X-APPLE-STRUCTURED-LOCATION;VALUE=URI;X-ADDRESS=UCSF Santa Fe Echagüe 7151 Santa Fe Santa Fe Argentina;X-APPLE-RADIUS=500;X-TITLE=Echagüe 7151:geo:-60.6709418,-31.6069451
END:VEVENT
BEGIN:VEVENT
DTSTART;TZID=America/Sao_Paulo:20180406T180000
DTEND;TZID=America/Sao_Paulo:20180406T200000
DTSTAMP:20260424T065656
CREATED:20180305T133146Z
LAST-MODIFIED:20180305T133146Z
UID:41360-1523037600-1523044800@www.ucsf.edu.ar
SUMMARY:Acto de Colación Santa Fe
DESCRIPTION:Egresados de: Derecho y Ciencia Política\, Humanidades y Arquitectura\nEncontrá la lista de egresados en el link de la derecha
URL:https://www.ucsf.edu.ar/evento/acto-de-colacion-santa-fe-2/
LOCATION:UCSF Santa Fe\, Echagüe 7151\, Santa Fe\, Santa Fe\, Argentina
CATEGORIES:Home principal,Arquitectura y Diseño,Santa Fe,Facultades,Sedes
GEO:-31.6069451;-60.6709418
X-APPLE-STRUCTURED-LOCATION;VALUE=URI;X-ADDRESS=UCSF Santa Fe Echagüe 7151 Santa Fe Santa Fe Argentina;X-APPLE-RADIUS=500;X-TITLE=Echagüe 7151:geo:-60.6709418,-31.6069451
END:VEVENT
BEGIN:VEVENT
DTSTART;TZID=America/Sao_Paulo:20180413T180000
DTEND;TZID=America/Sao_Paulo:20180413T200000
DTSTAMP:20260424T065656
CREATED:20180305T133555Z
LAST-MODIFIED:20180312T175207Z
UID:15181-1523642400-1523649600@www.ucsf.edu.ar
SUMMARY:Acto de Colación Sede Reconquista
DESCRIPTION:Encontrá la lista de egresados en el link de la derecha
URL:https://www.ucsf.edu.ar/evento/acto-de-colacion-sede-reconquista/
LOCATION:Untitled\, Argentina
CATEGORIES:Home principal,Facultades,Ciencias Económicas,Reconquista,Derecho y Ciencia Política,Sedes
END:VEVENT
BEGIN:VEVENT
DTSTART;TZID=America/Sao_Paulo:20180413T180000
DTEND;TZID=America/Sao_Paulo:20180413T200000
DTSTAMP:20260424T065656
CREATED:20180305T133555Z
LAST-MODIFIED:20180305T133555Z
UID:41361-1523642400-1523649600@www.ucsf.edu.ar
SUMMARY:Acto de Colación Sede Reconquista
DESCRIPTION:Encontrá la lista de egresados en el link de la derecha
URL:https://www.ucsf.edu.ar/evento/acto-de-colacion-sede-reconquista-2/
LOCATION:Untitled\, Argentina
CATEGORIES:Home principal,Facultades,Ciencias Económicas,Reconquista,Sedes
END:VEVENT
BEGIN:VEVENT
DTSTART;TZID=America/Sao_Paulo:20180416T180000
DTEND;TZID=America/Sao_Paulo:20180416T200000
DTSTAMP:20260424T065656
CREATED:20180322T182124Z
LAST-MODIFIED:20180322T182124Z
UID:15506-1523901600-1523908800@www.ucsf.edu.ar
SUMMARY:Presentación del Protocolo de objeción de conciencia frente al aborto no punible
DESCRIPTION:
URL:https://www.ucsf.edu.ar/evento/presentacion-del-protocolo-de-objecion-de-conciencia-frente-al-aborto-no-punible/
LOCATION:UCSF Santa Fe\, Echagüe 7151\, Santa Fe\, Santa Fe\, Argentina
CATEGORIES:Abogacía,Home principal,Santa Fe,Facultades,Licenciatura en Bioimágenes,Licenciatura en Gerontología (CCC),Ciencias de la Salud,Carreras de Grado,Farmacia,Licenciatura en Enfermería,Sedes,Licenciatura en Fonoaudiología,IEHDS Instituto de Ecología Humana y Desarrollo Sustentable,Licenciatura en Nutrición,Licenciatura en Obstetricia,Licenciatura en Terapia Ocupacional,IIFCS Instituto de Investigación de la Facultad de Ciencias de la Salud
GEO:-31.6069451;-60.6709418
X-APPLE-STRUCTURED-LOCATION;VALUE=URI;X-ADDRESS=UCSF Santa Fe Echagüe 7151 Santa Fe Santa Fe Argentina;X-APPLE-RADIUS=500;X-TITLE=Echagüe 7151:geo:-60.6709418,-31.6069451
END:VEVENT
BEGIN:VEVENT
DTSTART;TZID=America/Sao_Paulo:20180416T180000
DTEND;TZID=America/Sao_Paulo:20180416T200000
DTSTAMP:20260424T065656
CREATED:20180322T182124Z
LAST-MODIFIED:20180322T182124Z
UID:41376-1523901600-1523908800@www.ucsf.edu.ar
SUMMARY:Presentación del Protocolo de objeción de conciencia frente al aborto no punible
DESCRIPTION:
URL:https://www.ucsf.edu.ar/evento/presentacion-del-protocolo-de-objecion-de-conciencia-frente-al-aborto-no-punible-2/
LOCATION:UCSF Santa Fe\, Echagüe 7151\, Santa Fe\, Santa Fe\, Argentina
CATEGORIES:Abogacía,Home principal,Santa Fe,Facultades,Licenciatura en Bioimágenes,Licenciatura en Gerontología (CCC),Ciencias de la Salud,Carreras de Grado,Farmacia,Licenciatura en Enfermería,Sedes,Licenciatura en Fonoaudiología,IEHDS Instituto de Ecología Humana y Desarrollo Sustentable,Licenciatura en Nutrición,Licenciatura en Obstetricia,Licenciatura en Terapia Ocupacional,IIFCS Instituto de Investigación de la Facultad de Ciencias de la Salud
GEO:-31.6069451;-60.6709418
X-APPLE-STRUCTURED-LOCATION;VALUE=URI;X-ADDRESS=UCSF Santa Fe Echagüe 7151 Santa Fe Santa Fe Argentina;X-APPLE-RADIUS=500;X-TITLE=Echagüe 7151:geo:-60.6709418,-31.6069451
END:VEVENT
BEGIN:VEVENT
DTSTART;TZID=America/Sao_Paulo:20180417T090000
DTEND;TZID=America/Sao_Paulo:20180417T140000
DTSTAMP:20260424T065656
CREATED:20180416T140302Z
LAST-MODIFIED:20180416T190109Z
UID:15709-1523955600-1523973600@www.ucsf.edu.ar
SUMMARY:Campaña del "Día mundial de la Voz”
DESCRIPTION:Las docentes y alumnas de la Licenciatura en Fonoaudiología\, llevarán a cabo la jornada del “Día Mundial de la Voz”\, el martes 17 de abril de 9 a 14\, en la que se realizarán evaluaciones funcionales vocales a todos los interesados. Las actividades se realizarán en el aula 3.17 de nuestra universidad.
URL:https://www.ucsf.edu.ar/evento/campana-del-dia-mundial-de-la-voz/
LOCATION:UCSF Santa Fe\, Echagüe 7151\, Santa Fe\, Santa Fe\, Argentina
CATEGORIES:Home principal,Santa Fe,Facultades,Ciencias de la Salud,Sedes
GEO:-31.6069451;-60.6709418
X-APPLE-STRUCTURED-LOCATION;VALUE=URI;X-ADDRESS=UCSF Santa Fe Echagüe 7151 Santa Fe Santa Fe Argentina;X-APPLE-RADIUS=500;X-TITLE=Echagüe 7151:geo:-60.6709418,-31.6069451
END:VEVENT
BEGIN:VEVENT
DTSTART;TZID=America/Sao_Paulo:20180417T090000
DTEND;TZID=America/Sao_Paulo:20180417T140000
DTSTAMP:20260424T065656
CREATED:20180416T140302Z
LAST-MODIFIED:20180416T140302Z
UID:41378-1523955600-1523973600@www.ucsf.edu.ar
SUMMARY:Campaña del "Día mundial de la Voz”
DESCRIPTION:Las docentes y alumnas de la Licenciatura en Fonoaudiología\, llevarán a cabo la jornada del “Día Mundial de la Voz”\, el martes 17 de abril de 9 a 14\, en la que se realizarán evaluaciones funcionales vocales a todos los interesados. Las actividades se realizarán en el aula 3.17 de nuestra universidad.
URL:https://www.ucsf.edu.ar/evento/campana-del-dia-mundial-de-la-voz-2/
LOCATION:UCSF Santa Fe\, Echagüe 7151\, Santa Fe\, Santa Fe\, Argentina
CATEGORIES:Home principal,Santa Fe,Facultades,Ciencias de la Salud,Sedes
GEO:-31.6069451;-60.6709418
X-APPLE-STRUCTURED-LOCATION;VALUE=URI;X-ADDRESS=UCSF Santa Fe Echagüe 7151 Santa Fe Santa Fe Argentina;X-APPLE-RADIUS=500;X-TITLE=Echagüe 7151:geo:-60.6709418,-31.6069451
END:VEVENT
END:VCALENDAR