BEGIN:VCALENDAR
VERSION:2.0
PRODID:-//UCSF - Universidad Católica de Santa Fe - ECPv5.14.2.1//NONSGML v1.0//EN
CALSCALE:GREGORIAN
METHOD:PUBLISH
X-WR-CALNAME:UCSF - Universidad Católica de Santa Fe
X-ORIGINAL-URL:https://www.ucsf.edu.ar
X-WR-CALDESC:Events for UCSF - Universidad Católica de Santa Fe
REFRESH-INTERVAL;VALUE=DURATION:PT1H
X-Robots-Tag:noindex
X-PUBLISHED-TTL:PT1H
BEGIN:VTIMEZONE
TZID:America/Sao_Paulo
BEGIN:STANDARD
TZOFFSETFROM:-0200
TZOFFSETTO:-0300
TZNAME:-03
DTSTART:20190217T020000
END:STANDARD
END:VTIMEZONE
BEGIN:VEVENT
DTSTART;TZID=America/Sao_Paulo:20190301T173000
DTEND;TZID=America/Sao_Paulo:20190301T203000
DTSTAMP:20260423T113053
CREATED:20190218T111709Z
LAST-MODIFIED:20190225T174554Z
UID:21648-1551461400-1551472200@www.ucsf.edu.ar
SUMMARY:Ciclo de Conferencias sobre Promoción y Protección de la Vida Humana
DESCRIPTION:El Aborto: La peor catástrofe social y sanitaria desde 1810\nDr. Fernando Secin \nUrología Oncológica y Laparoscópica.\nGraduado en el Memorial Sloan Kettering Cáncer Center\, Nueva York.\nDoctor en Medicina y Docente autorizado en Urología de la Facultad de Medicina de Buenos Aires.\nMiembro titular y especialista Jerarquizado de la Sociedad Argentina de Urología.\nMN 87.402 \nObjetivos\nDescribir los motivos por los que el aborto constituye la peor catástrofe socia y sanitaria de la Historia de nuestro País. \n \nLo que todos Callan: El día después del Aborto\nDra. María José Mancino\nMedica especialista en Psiquiatría. (Mat: 14221/44391) \nObjetivo:\nDesarrollar propuestas comunitarias superadoras  para en la mujer en situación de vulnerabilidad. \nOrientadora Familiar por la Universidad Austral\, Buenos Aires.\nMáster en Psicoinmunoendocrinología de la Universidad de Favaloro\, Buenos Aires.\nGraduada en el Hospital Agostino Gemelli\, Roma.\nIntegrante del proyecto Raquel de Rosario\nPresidente y Fundadora de Médicos por la Vida Argentina \nDirigido:\nAlumnos\, jóvenes\, docentes nivel primario\, secundario y universitario. Movimientos pastorales\, movimiento universitario. Agentes pastorales. Comunidad Universitaria de la UCSF en todas sus Sedes. Interesados en la temática. \ninscripciones ON LINE ABAJO \nOrganiza: \nUniversidad Católica de Santa Fe.\nViderrectorado de Formación. Instituto de Bioética J Lejeune.\nInstituto para el Matrimonio y la Familia de la UCSF.\nEquipo Arquidiocesano de seguimiento legislativo y de docencia sobre la dignidad de la vida humana desde la Concepción. \nCentro de asistencia a la vida naciente. Grávida Santa Fe.\nMédicos por la vida. \nSe otorgan certificados! \nConociendo a nuestros disertantes\, defendiendo las dos Vidas en el Congreso. \n \n\n[/vc_column_text][/vc_column][/vc_row]
URL:https://www.ucsf.edu.ar/evento/ciclo-de-conferencias-presenciales-y-virtuales-sobre-promocion-y-proteccion-de-la-vida-humana/
LOCATION:UCSF Santa Fe\, Echagüe 7151\, Santa Fe\, Santa Fe\, Argentina
CATEGORIES:PUA, Programa Universidad Abierta,Santa Fe,Facultades,Ciencias de la Salud,Carreras de Grado,Licenciatura en Bioimágenes,Licenciatura en Gerontología (CCC),Rafaela,Licenciatura en Enfermería,Sedes,IEHDS Instituto de Ecología Humana y Desarrollo Sustentable,Licenciatura en Fonoaudiología,Institutos,Licenciatura en Kinesiología y Fisioterapia,Licenciatura en Nutrición,Licenciatura en Obstetricia,Licenciatura en Terapia Ocupacional,IIFCS Instituto de Investigación de la Facultad de Ciencias de la Salud
ORGANIZER;CN="Instituto%20para%20el%20Matrimonio%20y%20la%20Familia":MAILTO:matyfam@ucsf.edu.ar
GEO:-31.6069451;-60.6709418
X-APPLE-STRUCTURED-LOCATION;VALUE=URI;X-ADDRESS=UCSF Santa Fe Echagüe 7151 Santa Fe Santa Fe Argentina;X-APPLE-RADIUS=500;X-TITLE=Echagüe 7151:geo:-60.6709418,-31.6069451
END:VEVENT
BEGIN:VEVENT
DTSTART;TZID=America/Sao_Paulo:20190301T173000
DTEND;TZID=America/Sao_Paulo:20190301T203000
DTSTAMP:20260423T113053
CREATED:20190218T111709Z
LAST-MODIFIED:20190218T111709Z
UID:41473-1551461400-1551472200@www.ucsf.edu.ar
SUMMARY:Ciclo de Conferencias sobre Promoción y Protección de la Vida Humana
DESCRIPTION:El Aborto: La peor catástrofe social y sanitaria desde 1810\nDr. Fernando Secin \nUrología Oncológica y Laparoscópica.\nGraduado en el Memorial Sloan Kettering Cáncer Center\, Nueva York.\nDoctor en Medicina y Docente autorizado en Urología de la Facultad de Medicina de Buenos Aires.\nMiembro titular y especialista Jerarquizado de la Sociedad Argentina de Urología.\nMN 87.402 \nObjetivos\nDescribir los motivos por los que el aborto constituye la peor catástrofe socia y sanitaria de la Historia de nuestro País. \n \nLo que todos Callan: El día después del Aborto\nDra. María José Mancino\nMedica especialista en Psiquiatría. (Mat: 14221/44391) \nObjetivo:\nDesarrollar propuestas comunitarias superadoras  para en la mujer en situación de vulnerabilidad. \nOrientadora Familiar por la Universidad Austral\, Buenos Aires.\nMáster en Psicoinmunoendocrinología de la Universidad de Favaloro\, Buenos Aires.\nGraduada en el Hospital Agostino Gemelli\, Roma.\nIntegrante del proyecto Raquel de Rosario\nPresidente y Fundadora de Médicos por la Vida Argentina \nDirigido:\nAlumnos\, jóvenes\, docentes nivel primario\, secundario y universitario. Movimientos pastorales\, movimiento universitario. Agentes pastorales. Comunidad Universitaria de la UCSF en todas sus Sedes. Interesados en la temática. \ninscripciones ON LINE ABAJO \nOrganiza: \nUniversidad Católica de Santa Fe.\nViderrectorado de Formación. Instituto de Bioética J Lejeune.\nInstituto para el Matrimonio y la Familia de la UCSF.\nEquipo Arquidiocesano de seguimiento legislativo y de docencia sobre la dignidad de la vida humana desde la Concepción. \nCentro de asistencia a la vida naciente. Grávida Santa Fe.\nMédicos por la vida. \nSe otorgan certificados! \nConociendo a nuestros disertantes\, defendiendo las dos Vidas en el Congreso. \n \n\n[/vc_column_text][/vc_column][/vc_row]
URL:https://www.ucsf.edu.ar/evento/ciclo-de-conferencias-presenciales-y-virtuales-sobre-promocion-y-proteccion-de-la-vida-humana-2/
LOCATION:UCSF Santa Fe\, Echagüe 7151\, Santa Fe\, Santa Fe\, Argentina
CATEGORIES:PUA, Programa Universidad Abierta,Santa Fe,Facultades,Ciencias de la Salud,Carreras de Grado,Licenciatura en Bioimágenes,Licenciatura en Gerontología (CCC),Rafaela,Licenciatura en Enfermería,Sedes,IEHDS Instituto de Ecología Humana y Desarrollo Sustentable,Licenciatura en Fonoaudiología,Institutos,Licenciatura en Kinesiología y Fisioterapia,Licenciatura en Nutrición,Licenciatura en Obstetricia,Licenciatura en Terapia Ocupacional,IIFCS Instituto de Investigación de la Facultad de Ciencias de la Salud
ORGANIZER;CN="Instituto%20para%20el%20Matrimonio%20y%20la%20Familia":MAILTO:matyfam@ucsf.edu.ar
GEO:-31.6069451;-60.6709418
X-APPLE-STRUCTURED-LOCATION;VALUE=URI;X-ADDRESS=UCSF Santa Fe Echagüe 7151 Santa Fe Santa Fe Argentina;X-APPLE-RADIUS=500;X-TITLE=Echagüe 7151:geo:-60.6709418,-31.6069451
END:VEVENT
BEGIN:VEVENT
DTSTART;TZID=America/Sao_Paulo:20190306T080000
DTEND;TZID=America/Sao_Paulo:20190306T130000
DTSTAMP:20260423T113053
CREATED:20190213T121958Z
LAST-MODIFIED:20190213T185107Z
UID:21520-1551859200-1551877200@www.ucsf.edu.ar
SUMMARY:Curso de Ingreso Universitario
DESCRIPTION:
URL:https://www.ucsf.edu.ar/evento/curso-de-ingreso-universitario/
LOCATION:UCSF Santa Fe\, Echagüe 7151\, Santa Fe\, Santa Fe\, Argentina
CATEGORIES:Santa Fe,Facultades,Rosario,Carreras de Grado,Posadas,Reconquista,Rafaela,Sedes
GEO:-31.6069451;-60.6709418
X-APPLE-STRUCTURED-LOCATION;VALUE=URI;X-ADDRESS=UCSF Santa Fe Echagüe 7151 Santa Fe Santa Fe Argentina;X-APPLE-RADIUS=500;X-TITLE=Echagüe 7151:geo:-60.6709418,-31.6069451
END:VEVENT
BEGIN:VEVENT
DTSTART;TZID=America/Sao_Paulo:20190306T080000
DTEND;TZID=America/Sao_Paulo:20190306T130000
DTSTAMP:20260423T113053
CREATED:20190213T121958Z
LAST-MODIFIED:20190213T121958Z
UID:41471-1551859200-1551877200@www.ucsf.edu.ar
SUMMARY:Curso de Ingreso Universitario
DESCRIPTION:
URL:https://www.ucsf.edu.ar/evento/curso-de-ingreso-universitario-2/
LOCATION:UCSF Santa Fe\, Echagüe 7151\, Santa Fe\, Santa Fe\, Argentina
CATEGORIES:Santa Fe,Facultades,Rosario,Carreras de Grado,Posadas,Reconquista,Rafaela,Sedes
GEO:-31.6069451;-60.6709418
X-APPLE-STRUCTURED-LOCATION;VALUE=URI;X-ADDRESS=UCSF Santa Fe Echagüe 7151 Santa Fe Santa Fe Argentina;X-APPLE-RADIUS=500;X-TITLE=Echagüe 7151:geo:-60.6709418,-31.6069451
END:VEVENT
BEGIN:VEVENT
DTSTART;TZID=America/Sao_Paulo:20190315T170000
DTEND;TZID=America/Sao_Paulo:20190315T180000
DTSTAMP:20260423T113053
CREATED:20190309T152925Z
LAST-MODIFIED:20190309T153037Z
UID:22369-1552669200-1552672800@www.ucsf.edu.ar
SUMMARY:CONSIDERACIONES BIOETICAS EN TORNO A LA DEFENSA DE LA VIDA HUMANA NACIENTE.
DESCRIPTION:Ciclo de conferencias Virtuales sobre la Promoción y Protección de la Vida Humana desde la Concepción \nMarzo y Abril: \nSeguirlo y participa desde tu casa\, desde tu celular o tablet\, solo con un click. \n\n \nCONSIDERACIONES BIOETICAS EN TORNO A LA DEFENSA DE LA VIDA HUMANA NACIENTE \nViernes 15 de marzo. \n17 hs. \nMgter. Carmen Ederle \nProfesora Superior en Ciencias Naturales 2. Magister en Ética Biomédica 3. Directora del Instituto de Bioética “Jerome Lejeune” – UCSF \nObjetivos Generales: \n1) Explicar el alcance del concepto de aborto. \n2) Reflexionar sobre el aborto desde los principios bioéticos. \n3) Valorar propuestas de ayuda a favor de la vida naciente. \n  \nSe entregan Certificados! \nInscripciones son line en el vinculo abajo. \n 
URL:https://www.ucsf.edu.ar/evento/consideraciones-bioeticas-en-torno-a-la-defensa-de-la-vida-humana-naciente/
LOCATION:UCSF Santa Fe\, Echagüe 7151\, Santa Fe\, Santa Fe\, Argentina
CATEGORIES:PUA, Programa Universidad Abierta,Santa Fe,Facultades,Ciencias de la Salud,Carreras de Grado,Licenciatura en Bioimágenes,Licenciatura en Gerontología (CCC),Rafaela,Licenciatura en Enfermería,Sedes,IEHDS Instituto de Ecología Humana y Desarrollo Sustentable,Licenciatura en Fonoaudiología,Institutos,Licenciatura en Kinesiología y Fisioterapia,Licenciatura en Nutrición,Licenciatura en Obstetricia,Licenciatura en Terapia Ocupacional,IIFCS Instituto de Investigación de la Facultad de Ciencias de la Salud
GEO:-31.6069451;-60.6709418
X-APPLE-STRUCTURED-LOCATION;VALUE=URI;X-ADDRESS=UCSF Santa Fe Echagüe 7151 Santa Fe Santa Fe Argentina;X-APPLE-RADIUS=500;X-TITLE=Echagüe 7151:geo:-60.6709418,-31.6069451
END:VEVENT
BEGIN:VEVENT
DTSTART;TZID=America/Sao_Paulo:20190315T170000
DTEND;TZID=America/Sao_Paulo:20190315T180000
DTSTAMP:20260423T113053
CREATED:20190309T152925Z
LAST-MODIFIED:20190309T152925Z
UID:41486-1552669200-1552672800@www.ucsf.edu.ar
SUMMARY:CONSIDERACIONES BIOETICAS EN TORNO A LA DEFENSA DE LA VIDA HUMANA NACIENTE.
DESCRIPTION:Ciclo de conferencias Virtuales sobre la Promoción y Protección de la Vida Humana desde la Concepción \nMarzo y Abril: \nSeguirlo y participa desde tu casa\, desde tu celular o tablet\, solo con un click. \n\n \nCONSIDERACIONES BIOETICAS EN TORNO A LA DEFENSA DE LA VIDA HUMANA NACIENTE \nViernes 15 de marzo. \n17 hs. \nMgter. Carmen Ederle \nProfesora Superior en Ciencias Naturales 2. Magister en Ética Biomédica 3. Directora del Instituto de Bioética “Jerome Lejeune” – UCSF \nObjetivos Generales: \n1) Explicar el alcance del concepto de aborto. \n2) Reflexionar sobre el aborto desde los principios bioéticos. \n3) Valorar propuestas de ayuda a favor de la vida naciente. \n  \nSe entregan Certificados! \nInscripciones son line en el vinculo abajo. \n 
URL:https://www.ucsf.edu.ar/evento/consideraciones-bioeticas-en-torno-a-la-defensa-de-la-vida-humana-naciente-2/
LOCATION:UCSF Santa Fe\, Echagüe 7151\, Santa Fe\, Santa Fe\, Argentina
CATEGORIES:PUA, Programa Universidad Abierta,Santa Fe,Facultades,Ciencias de la Salud,Carreras de Grado,Licenciatura en Bioimágenes,Licenciatura en Gerontología (CCC),Rafaela,Licenciatura en Enfermería,Sedes,IEHDS Instituto de Ecología Humana y Desarrollo Sustentable,Licenciatura en Fonoaudiología,Institutos,Licenciatura en Kinesiología y Fisioterapia,Licenciatura en Nutrición,Licenciatura en Obstetricia,Licenciatura en Terapia Ocupacional,IIFCS Instituto de Investigación de la Facultad de Ciencias de la Salud
GEO:-31.6069451;-60.6709418
X-APPLE-STRUCTURED-LOCATION;VALUE=URI;X-ADDRESS=UCSF Santa Fe Echagüe 7151 Santa Fe Santa Fe Argentina;X-APPLE-RADIUS=500;X-TITLE=Echagüe 7151:geo:-60.6709418,-31.6069451
END:VEVENT
BEGIN:VEVENT
DTSTART;TZID=America/Sao_Paulo:20190322T170000
DTEND;TZID=America/Sao_Paulo:20190322T180000
DTSTAMP:20260423T113053
CREATED:20190316T143545Z
LAST-MODIFIED:20190316T153955Z
UID:22620-1553274000-1553277600@www.ucsf.edu.ar
SUMMARY:“LA OBJECION DE CONCIENCIA COMO DERECHO HUMANO”
DESCRIPTION:Inscripciones on line abajo.(Eventioz) \nDra. Maria Marta Didier\nhttps://www.ucsf.edu.ar/la-legalizacion-del-aborto-y-el-derecho-a-la-igualdad/ \n.Abogada (Universidad Nacional del Litoral). \n.Doctora en Derecho. (Universidad Austral). \n.Profesora titular de “Filosofía del Derecho”. \n.Directora del Instituto de Filosofía del Derecho \ny Derechos Humanos \nde la Facultad de Derecho y Ciencia Política \nde la Universidad Católica de Santa Fe. \n.Directora del Doctorado en Ciencia Jurídica \nde la Universidad Católica de Santa Fe. \nObjetivos Generales: \n1)Conocer el contenido y límites del derecho a la \nobjeción de conciencia \nen el sistema jurídico argentino y \nen el sistema internacional de derechos humanos. \n2)Desarrollar las vinculaciones existentes \nentre libertad de conciencia y religión\, con el derecho a la igualdad\, \ncon la dignidad humana y con el Estado democrático de Derecho. \n3)Comprender la importancia del ejercicio de la objeción de conciencia \ncomo cumplimiento del deber ético – profesional y como forma de desobediencia a la norma injusta. \n4)Explicitar los diferentes ámbitos en que puede ser ejercido \nel derecho a la objeción de conciencia\, así como los deberes y facultades que conlleva su ejercicio. \nDirigido: \nAlumnos\, Jóvenes\, Docentes primario\, secundario \ny Universitarios. \nMovimientos pastorales\, Movimiento Universitario. \nAgentes pastorales. \nComunidad Universitaria de la UCSF en todas sus Sedes. Público en general\, \ninteresado en la temática. \n \nOrganiza: \nFacultad de Ciencias de la Salud de la Universidad Católica de Santa Fe. \nEquipo por la Vida de la Arquidiócesis de Santa Fe. \nInstituto de Bioética J Lejeune. \nInstituto para el Matrimonio y la Familia de la UCSF. \nInstituto de Bioética J Lejeune. \nGrávida Santa Fe. \nInstrucciones \n  \nDesde este link  \nhttps://abclearning.adobeconnect.com/_a1158560517/rz2kglhvu4vg/  \npodrán acceder a la videoconferencia que comenzará a partir de las 17:00 hs. \nLes llegara el Link 30 minutos antes del Seminario Web. \nCómo accederán? Entrarán como “Invitado”. En el espacio “Nombre” escribir su Nombre y Apellido y\, por último\, clic en “Entrar en la Sala”. Aguardar hasta que se cargue la plataforma en sus pc.
URL:https://www.ucsf.edu.ar/evento/la-objecion-de-conciencia-como-derecho-humano/
LOCATION:UCSF Santa Fe\, Echagüe 7151\, Santa Fe\, Santa Fe\, Argentina
CATEGORIES:PUA, Programa Universidad Abierta,Santa Fe,Facultades,Ciencias de la Salud,Carreras de Grado,Licenciatura en Bioimágenes,Licenciatura en Gerontología (CCC),Rafaela,Licenciatura en Enfermería,Sedes,IEHDS Instituto de Ecología Humana y Desarrollo Sustentable,Licenciatura en Fonoaudiología,Institutos,Licenciatura en Kinesiología y Fisioterapia,Licenciatura en Nutrición,Licenciatura en Obstetricia,Licenciatura en Terapia Ocupacional
GEO:-31.6069451;-60.6709418
X-APPLE-STRUCTURED-LOCATION;VALUE=URI;X-ADDRESS=UCSF Santa Fe Echagüe 7151 Santa Fe Santa Fe Argentina;X-APPLE-RADIUS=500;X-TITLE=Echagüe 7151:geo:-60.6709418,-31.6069451
END:VEVENT
BEGIN:VEVENT
DTSTART;TZID=America/Sao_Paulo:20190322T170000
DTEND;TZID=America/Sao_Paulo:20190322T180000
DTSTAMP:20260423T113053
CREATED:20190316T143545Z
LAST-MODIFIED:20190316T143545Z
UID:41488-1553274000-1553277600@www.ucsf.edu.ar
SUMMARY:“LA OBJECION DE CONCIENCIA COMO DERECHO HUMANO”
DESCRIPTION:Inscripciones on line abajo.(Eventioz) \nDra. Maria Marta Didier\nhttps://www.ucsf.edu.ar/la-legalizacion-del-aborto-y-el-derecho-a-la-igualdad/ \n.Abogada (Universidad Nacional del Litoral). \n.Doctora en Derecho. (Universidad Austral). \n.Profesora titular de “Filosofía del Derecho”. \n.Directora del Instituto de Filosofía del Derecho \ny Derechos Humanos \nde la Facultad de Derecho y Ciencia Política \nde la Universidad Católica de Santa Fe. \n.Directora del Doctorado en Ciencia Jurídica \nde la Universidad Católica de Santa Fe. \nObjetivos Generales: \n1)Conocer el contenido y límites del derecho a la \nobjeción de conciencia \nen el sistema jurídico argentino y \nen el sistema internacional de derechos humanos. \n2)Desarrollar las vinculaciones existentes \nentre libertad de conciencia y religión\, con el derecho a la igualdad\, \ncon la dignidad humana y con el Estado democrático de Derecho. \n3)Comprender la importancia del ejercicio de la objeción de conciencia \ncomo cumplimiento del deber ético – profesional y como forma de desobediencia a la norma injusta. \n4)Explicitar los diferentes ámbitos en que puede ser ejercido \nel derecho a la objeción de conciencia\, así como los deberes y facultades que conlleva su ejercicio. \nDirigido: \nAlumnos\, Jóvenes\, Docentes primario\, secundario \ny Universitarios. \nMovimientos pastorales\, Movimiento Universitario. \nAgentes pastorales. \nComunidad Universitaria de la UCSF en todas sus Sedes. Público en general\, \ninteresado en la temática. \n \nOrganiza: \nFacultad de Ciencias de la Salud de la Universidad Católica de Santa Fe. \nEquipo por la Vida de la Arquidiócesis de Santa Fe. \nInstituto de Bioética J Lejeune. \nInstituto para el Matrimonio y la Familia de la UCSF. \nInstituto de Bioética J Lejeune. \nGrávida Santa Fe. \nInstrucciones \n  \nDesde este link  \nhttps://abclearning.adobeconnect.com/_a1158560517/rz2kglhvu4vg/  \npodrán acceder a la videoconferencia que comenzará a partir de las 17:00 hs. \nLes llegara el Link 30 minutos antes del Seminario Web. \nCómo accederán? Entrarán como “Invitado”. En el espacio “Nombre” escribir su Nombre y Apellido y\, por último\, clic en “Entrar en la Sala”. Aguardar hasta que se cargue la plataforma en sus pc.
URL:https://www.ucsf.edu.ar/evento/la-objecion-de-conciencia-como-derecho-humano-2/
LOCATION:UCSF Santa Fe\, Echagüe 7151\, Santa Fe\, Santa Fe\, Argentina
CATEGORIES:PUA, Programa Universidad Abierta,Santa Fe,Facultades,Ciencias de la Salud,Carreras de Grado,Licenciatura en Bioimágenes,Licenciatura en Gerontología (CCC),Rafaela,Licenciatura en Enfermería,Sedes,IEHDS Instituto de Ecología Humana y Desarrollo Sustentable,Licenciatura en Fonoaudiología,Institutos,Licenciatura en Kinesiología y Fisioterapia,Licenciatura en Nutrición,Licenciatura en Obstetricia,Licenciatura en Terapia Ocupacional
GEO:-31.6069451;-60.6709418
X-APPLE-STRUCTURED-LOCATION;VALUE=URI;X-ADDRESS=UCSF Santa Fe Echagüe 7151 Santa Fe Santa Fe Argentina;X-APPLE-RADIUS=500;X-TITLE=Echagüe 7151:geo:-60.6709418,-31.6069451
END:VEVENT
BEGIN:VEVENT
DTSTART;TZID=America/Sao_Paulo:20190329T170000
DTEND;TZID=America/Sao_Paulo:20190329T180000
DTSTAMP:20260423T113053
CREATED:20190324T133653Z
LAST-MODIFIED:20190324T133806Z
UID:22865-1553878800-1553882400@www.ucsf.edu.ar
SUMMARY:"LA DIGNIDAD DEL EMBRION HUMANO: UNA PERSONA EN LA PRIMERA ETAPA DE LA VIDA".
DESCRIPTION:“LA DIGNIDAD DEL EMBRION HUMANO: UNA PERSONA EN LA PRIMERA ETAPA DE LA VIDA”.\n Viernes 29 de marzo. \nDra. Elisabet Miranda \nMedica Generalista y Familiar. Coordinadora del CS Bº U. Secretaria Comité de Docencia e Investigación\, SE. Tutora en terreno residentes de MGyF.\nBioeticista clínica (CAECE). Docente universitaria de licenciatura en Obstetricia UCSF (Salud Pública y Colectiva\, Perinatología basada en las Evidencias\, Metodología de la Investigación Científica). Tutora universitaria de las carreras Lic. En obstetricia y Lic. En terapia ocupacional. Maestrando en Gestión de Sistemas y Servicios de Salud (UNR).\nMadre\, esposa y militante de ACA. \nObjetivos Generales:\n1) Desarrollar motivos biomédicos que demuestran la razón humana del embrión.\n2) El embrión y la etapa prenatal. \n  \n 
URL:https://www.ucsf.edu.ar/evento/la-dignidad-del-embrion-humano-una-persona-en-la-primera-etapa-de-la-vida/
LOCATION:UCSF Santa Fe\, Echagüe 7151\, Santa Fe\, Santa Fe\, Argentina
CATEGORIES:Santa Fe,Facultades,Ciencias de la Salud,Carreras de Grado,Licenciatura en Bioimágenes,Licenciatura en Gerontología (CCC),Rafaela,Licenciatura en Enfermería,Sedes,IEHDS Instituto de Ecología Humana y Desarrollo Sustentable,Licenciatura en Fonoaudiología,Institutos,Licenciatura en Kinesiología y Fisioterapia,Licenciatura en Nutrición,Licenciatura en Obstetricia,Licenciatura en Terapia Ocupacional,IIFCS Instituto de Investigación de la Facultad de Ciencias de la Salud
GEO:-31.6069451;-60.6709418
X-APPLE-STRUCTURED-LOCATION;VALUE=URI;X-ADDRESS=UCSF Santa Fe Echagüe 7151 Santa Fe Santa Fe Argentina;X-APPLE-RADIUS=500;X-TITLE=Echagüe 7151:geo:-60.6709418,-31.6069451
END:VEVENT
BEGIN:VEVENT
DTSTART;TZID=America/Sao_Paulo:20190329T170000
DTEND;TZID=America/Sao_Paulo:20190329T180000
DTSTAMP:20260423T113053
CREATED:20190324T133653Z
LAST-MODIFIED:20190324T133653Z
UID:41490-1553878800-1553882400@www.ucsf.edu.ar
SUMMARY:"LA DIGNIDAD DEL EMBRION HUMANO: UNA PERSONA EN LA PRIMERA ETAPA DE LA VIDA".
DESCRIPTION:“LA DIGNIDAD DEL EMBRION HUMANO: UNA PERSONA EN LA PRIMERA ETAPA DE LA VIDA”.\n Viernes 29 de marzo. \nDra. Elisabet Miranda \nMedica Generalista y Familiar. Coordinadora del CS Bº U. Secretaria Comité de Docencia e Investigación\, SE. Tutora en terreno residentes de MGyF.\nBioeticista clínica (CAECE). Docente universitaria de licenciatura en Obstetricia UCSF (Salud Pública y Colectiva\, Perinatología basada en las Evidencias\, Metodología de la Investigación Científica). Tutora universitaria de las carreras Lic. En obstetricia y Lic. En terapia ocupacional. Maestrando en Gestión de Sistemas y Servicios de Salud (UNR).\nMadre\, esposa y militante de ACA. \nObjetivos Generales:\n1) Desarrollar motivos biomédicos que demuestran la razón humana del embrión.\n2) El embrión y la etapa prenatal. \n  \n 
URL:https://www.ucsf.edu.ar/evento/la-dignidad-del-embrion-humano-una-persona-en-la-primera-etapa-de-la-vida-2/
LOCATION:UCSF Santa Fe\, Echagüe 7151\, Santa Fe\, Santa Fe\, Argentina
CATEGORIES:Santa Fe,Facultades,Ciencias de la Salud,Carreras de Grado,Licenciatura en Bioimágenes,Licenciatura en Gerontología (CCC),Rafaela,Licenciatura en Enfermería,Sedes,IEHDS Instituto de Ecología Humana y Desarrollo Sustentable,Licenciatura en Fonoaudiología,Institutos,Licenciatura en Kinesiología y Fisioterapia,Licenciatura en Nutrición,Licenciatura en Obstetricia,Licenciatura en Terapia Ocupacional,IIFCS Instituto de Investigación de la Facultad de Ciencias de la Salud
GEO:-31.6069451;-60.6709418
X-APPLE-STRUCTURED-LOCATION;VALUE=URI;X-ADDRESS=UCSF Santa Fe Echagüe 7151 Santa Fe Santa Fe Argentina;X-APPLE-RADIUS=500;X-TITLE=Echagüe 7151:geo:-60.6709418,-31.6069451
END:VEVENT
END:VCALENDAR