BEGIN:VCALENDAR
VERSION:2.0
PRODID:-//UCSF - Universidad Católica de Santa Fe - ECPv5.14.2.1//NONSGML v1.0//EN
CALSCALE:GREGORIAN
METHOD:PUBLISH
X-WR-CALNAME:UCSF - Universidad Católica de Santa Fe
X-ORIGINAL-URL:https://www.ucsf.edu.ar
X-WR-CALDESC:Events for UCSF - Universidad Católica de Santa Fe
REFRESH-INTERVAL;VALUE=DURATION:PT1H
X-Robots-Tag:noindex
X-PUBLISHED-TTL:PT1H
BEGIN:VTIMEZONE
TZID:America/Sao_Paulo
BEGIN:STANDARD
TZOFFSETFROM:-0200
TZOFFSETTO:-0300
TZNAME:-03
DTSTART:20190217T020000
END:STANDARD
END:VTIMEZONE
BEGIN:VEVENT
DTSTART;VALUE=DATE:20190701
DTEND;VALUE=DATE:20190702
DTSTAMP:20260423T045518
CREATED:20190226T175248Z
LAST-MODIFIED:20190226T175756Z
UID:21976-1561939200-1562025599@www.ucsf.edu.ar
SUMMARY:Formación en Bioética para docentes - Bioética y Derechos Humanos
DESCRIPTION:Formación para docentes de todos los niveles.\nModalidad 100% virtual\nhttp://bit.ly/BioeticayDerechosHumanos
URL:https://www.ucsf.edu.ar/evento/formacion-en-bioetica-para-docentes-bioetica-y-derechos-humanos/
LOCATION:UCSF Santa Fe\, Echagüe 7151\, Santa Fe\, Santa Fe\, Argentina
CATEGORIES:Santa Fe,Facultades,Rosario,IB Instituto de Bioética Jerome Lejeune,Posadas,Reconquista,Rafaela,Vicerrectorado de Formación,Gualeguaychú,Sedes,Institutos
ORGANIZER;CN="Instituto%20de%20Bio%C3%A9tica%20%22J%C3%A8r%C3%B4me%20Lejeune%22":MAILTO:bioetica@ucsf.edu.ar
GEO:-31.6069451;-60.6709418
X-APPLE-STRUCTURED-LOCATION;VALUE=URI;X-ADDRESS=UCSF Santa Fe Echagüe 7151 Santa Fe Santa Fe Argentina;X-APPLE-RADIUS=500;X-TITLE=Echagüe 7151:geo:-60.6709418,-31.6069451
END:VEVENT
BEGIN:VEVENT
DTSTART;VALUE=DATE:20190701
DTEND;VALUE=DATE:20190702
DTSTAMP:20260423T045518
CREATED:20190226T175248Z
LAST-MODIFIED:20190226T175248Z
UID:41476-1561939200-1562025599@www.ucsf.edu.ar
SUMMARY:Formación en Bioética para docentes - Bioética y Derechos Humanos
DESCRIPTION:Formación para docentes de todos los niveles.\nModalidad 100% virtual\nhttp://bit.ly/BioeticayDerechosHumanos
URL:https://www.ucsf.edu.ar/evento/formacion-en-bioetica-para-docentes-bioetica-y-derechos-humanos-2/
LOCATION:UCSF Santa Fe\, Echagüe 7151\, Santa Fe\, Santa Fe\, Argentina
CATEGORIES:Santa Fe,Facultades,Rosario,IB Instituto de Bioética Jerome Lejeune,Posadas,Reconquista,Rafaela,Vicerrectorado de Formación,Gualeguaychú,Sedes,Institutos
ORGANIZER;CN="Instituto%20de%20Bio%C3%A9tica%20%22J%C3%A8r%C3%B4me%20Lejeune%22":MAILTO:bioetica@ucsf.edu.ar
GEO:-31.6069451;-60.6709418
X-APPLE-STRUCTURED-LOCATION;VALUE=URI;X-ADDRESS=UCSF Santa Fe Echagüe 7151 Santa Fe Santa Fe Argentina;X-APPLE-RADIUS=500;X-TITLE=Echagüe 7151:geo:-60.6709418,-31.6069451
END:VEVENT
BEGIN:VEVENT
DTSTART;TZID=America/Sao_Paulo:20190704T150000
DTEND;TZID=America/Sao_Paulo:20190704T200000
DTSTAMP:20260423T045518
CREATED:20190703T120153Z
LAST-MODIFIED:20190703T132120Z
UID:23716-1562252400-1562270400@www.ucsf.edu.ar
SUMMARY:Reconquista- Último encuentro del Programa de Entrenamiento para Alta Gerencia
DESCRIPTION:El jueves 4 de julio se desarrollará el último encuentro del Entrenamiento para Alta Gerencia\, organizado por la Facultad de Ciencias Económicas en la Sede Reconquista.\nEn esta ocasión los participantes desarrollaran actividades referidas a mejorar las habilidades de Liderazgo. \nEn encuentros anteriores los asistentes\, han adquirido técnicas y ejercicios prácticos para mejorar aspectos de comunicación\, escucha efectiva\, estrategia\, decisiones\, coaching. \nPara esta actividad se contó con el apoyo y presencia de empresarios de reconocidas empresas de la región como Proyección Electroluz\, Vicentin SAIC\, IDEA SA\, Unión Agrícola de Avellaneda Coop. Ltda\, Mercado Modelo\,FRIAR\, BH Carpinteria\, DOLBI y Alberto Prieto SA.
URL:https://www.ucsf.edu.ar/evento/reconquista-tercer-modulo-del-programa-de-entrenamiento-para-alta-gerencia/
LOCATION:UCSF Sede Reconquista\, Ludueña 612\, Reconquista\, Santa Fe\, Argentina
CATEGORIES:Facultades,Ciencias Económicas,Reconquista,Sedes
GEO:-29.1437691;-59.641047
X-APPLE-STRUCTURED-LOCATION;VALUE=URI;X-ADDRESS=UCSF Sede Reconquista Ludueña 612 Reconquista Santa Fe Argentina;X-APPLE-RADIUS=500;X-TITLE=Ludueña 612:geo:-59.641047,-29.1437691
END:VEVENT
BEGIN:VEVENT
DTSTART;TZID=America/Sao_Paulo:20190704T150000
DTEND;TZID=America/Sao_Paulo:20190704T200000
DTSTAMP:20260423T045518
CREATED:20190703T120153Z
LAST-MODIFIED:20190703T120153Z
UID:41513-1562252400-1562270400@www.ucsf.edu.ar
SUMMARY:Reconquista- Último encuentro del Programa de Entrenamiento para Alta Gerencia
DESCRIPTION:El jueves 4 de julio se desarrollará el último encuentro del Entrenamiento para Alta Gerencia\, organizado por la Facultad de Ciencias Económicas en la Sede Reconquista.\nEn esta ocasión los participantes desarrollaran actividades referidas a mejorar las habilidades de Liderazgo. \nEn encuentros anteriores los asistentes\, han adquirido técnicas y ejercicios prácticos para mejorar aspectos de comunicación\, escucha efectiva\, estrategia\, decisiones\, coaching. \nPara esta actividad se contó con el apoyo y presencia de empresarios de reconocidas empresas de la región como Proyección Electroluz\, Vicentin SAIC\, IDEA SA\, Unión Agrícola de Avellaneda Coop. Ltda\, Mercado Modelo\,FRIAR\, BH Carpinteria\, DOLBI y Alberto Prieto SA.
URL:https://www.ucsf.edu.ar/evento/reconquista-tercer-modulo-del-programa-de-entrenamiento-para-alta-gerencia-2/
LOCATION:UCSF Sede Reconquista\, Ludueña 612\, Reconquista\, Santa Fe\, Argentina
CATEGORIES:Facultades,Ciencias Económicas,Reconquista,Sedes
GEO:-29.1437691;-59.641047
X-APPLE-STRUCTURED-LOCATION;VALUE=URI;X-ADDRESS=UCSF Sede Reconquista Ludueña 612 Reconquista Santa Fe Argentina;X-APPLE-RADIUS=500;X-TITLE=Ludueña 612:geo:-59.641047,-29.1437691
END:VEVENT
END:VCALENDAR