BEGIN:VCALENDAR
VERSION:2.0
PRODID:-//UCSF - Universidad Católica de Santa Fe - ECPv5.14.2.1//NONSGML v1.0//EN
CALSCALE:GREGORIAN
METHOD:PUBLISH
X-WR-CALNAME:UCSF - Universidad Católica de Santa Fe
X-ORIGINAL-URL:https://www.ucsf.edu.ar
X-WR-CALDESC:Events for UCSF - Universidad Católica de Santa Fe
REFRESH-INTERVAL;VALUE=DURATION:PT1H
X-Robots-Tag:noindex
X-PUBLISHED-TTL:PT1H
BEGIN:VTIMEZONE
TZID:America/Argentina/Buenos_Aires
BEGIN:STANDARD
TZOFFSETFROM:-0300
TZOFFSETTO:-0300
TZNAME:-03
DTSTART:20190101T000000
END:STANDARD
TZID:America/Sao_Paulo
BEGIN:STANDARD
TZOFFSETFROM:-0200
TZOFFSETTO:-0300
TZNAME:-03
DTSTART:20190217T020000
END:STANDARD
END:VTIMEZONE
BEGIN:VEVENT
DTSTART;TZID=America/Argentina/Buenos_Aires:20191018T180000
DTEND;TZID=America/Argentina/Buenos_Aires:20191206T203000
DTSTAMP:20260423T015646
CREATED:20190924T190705Z
LAST-MODIFIED:20190924T191004Z
UID:27873-1571421600-1575664200@www.ucsf.edu.ar
SUMMARY:Capacitación en CNC y Mecanizado Asistido por Computadora
DESCRIPTION:La Facultad de Arquitectura de la UCSF Sede Rosario organiza la capacitación en conocimientos de software para elaborar programas de mecanizado en 2 y 3 ejes destinados a fabricación de productos\, moldes\, matrices y herramental en cualquier máquina CNC. \nLa misma estará a cargo del Ing. Miguel Pérez y está destinada a profesionales egresados y estudiantes de Ingeniería\, Diseño Industrial\, Técnicos y operarios. \nEl módulo 1\, Mecanizado en 2 ejes\, se desarrollará los días: 18 y 25 de octubre y 1 y 8 de noviembre. \nEl módulo 2\, Mecanizado en 3 ejes\, se desarrollará los días: 15\, 22 y 29 de noviembre y 6 de diciembre. \n  \nEl horario de las clases es de 18 a 20:30 hs. y el lugar es la Sede Rosario de la UCSF\, sita en Mendoza 4197. \n  \nMás información: juliotoledo@ucsf.edu.ar \n 
URL:https://www.ucsf.edu.ar/evento/capacitacion-en-cnc-y-mecanizado-asistido-por-computadora/
LOCATION:Santa Fe
CATEGORIES:Arquitectura y Diseño,Facultades,Arquitectura,Rosario,Carreras de Grado,Sedes,Licenciatura en Diseño Industrial
END:VEVENT
BEGIN:VEVENT
DTSTART;TZID=America/Argentina/Buenos_Aires:20191018T180000
DTEND;TZID=America/Argentina/Buenos_Aires:20191206T203000
DTSTAMP:20260423T015646
CREATED:20190924T190705Z
LAST-MODIFIED:20190924T190705Z
UID:41545-1571421600-1575664200@www.ucsf.edu.ar
SUMMARY:Capacitación en CNC y Mecanizado Asistido por Computadora
DESCRIPTION:La Facultad de Arquitectura de la UCSF Sede Rosario organiza la capacitación en conocimientos de software para elaborar programas de mecanizado en 2 y 3 ejes destinados a fabricación de productos\, moldes\, matrices y herramental en cualquier máquina CNC. \nLa misma estará a cargo del Ing. Miguel Pérez y está destinada a profesionales egresados y estudiantes de Ingeniería\, Diseño Industrial\, Técnicos y operarios. \nEl módulo 1\, Mecanizado en 2 ejes\, se desarrollará los días: 18 y 25 de octubre y 1 y 8 de noviembre. \nEl módulo 2\, Mecanizado en 3 ejes\, se desarrollará los días: 15\, 22 y 29 de noviembre y 6 de diciembre. \n  \nEl horario de las clases es de 18 a 20:30 hs. y el lugar es la Sede Rosario de la UCSF\, sita en Mendoza 4197. \n  \nMás información: juliotoledo@ucsf.edu.ar \n 
URL:https://www.ucsf.edu.ar/evento/capacitacion-en-cnc-y-mecanizado-asistido-por-computadora-2/
LOCATION:Santa Fe
CATEGORIES:Arquitectura y Diseño,Facultades,Arquitectura,Rosario,Carreras de Grado,Sedes,Licenciatura en Diseño Industrial
END:VEVENT
BEGIN:VEVENT
DTSTART;TZID=America/Sao_Paulo:20191101T180000
DTEND;TZID=America/Sao_Paulo:20191101T200000
DTSTAMP:20260423T015646
CREATED:20190308T141433Z
LAST-MODIFIED:20190308T141433Z
UID:41480-1572631200-1572638400@www.ucsf.edu.ar
SUMMARY:Cierre de actividades 2019 Instituto de Ecología Humana y Desarrollo Sustentable
DESCRIPTION:Presentación de Informes de los Proyectos de Investigación del Instituto
URL:https://www.ucsf.edu.ar/evento/cierre-de-actividades-2019-instituto-de-ecologia-humana-y-desarrollo-sustentable-2/
LOCATION:Untitled\, Santa Fe\, Argentina
CATEGORIES:IEHDS Instituto de Ecología Humana y Desarrollo Sustentable,Institutos
END:VEVENT
BEGIN:VEVENT
DTSTART;TZID=America/Sao_Paulo:20191101T180000
DTEND;TZID=America/Sao_Paulo:20191101T200000
DTSTAMP:20260423T015646
CREATED:20190308T141433Z
LAST-MODIFIED:20190308T141433Z
UID:22326-1572631200-1572638400@www.ucsf.edu.ar
SUMMARY:Cierre de actividades 2019 Instituto de Ecología Humana y Desarrollo Sustentable
DESCRIPTION:Presentación de Informes de los Proyectos de Investigación del Instituto
URL:https://www.ucsf.edu.ar/evento/cierre-de-actividades-2019-instituto-de-ecologia-humana-y-desarrollo-sustentable/
LOCATION:Untitled\, Santa Fe\, Argentina
CATEGORIES:IEHDS Instituto de Ecología Humana y Desarrollo Sustentable,Institutos
END:VEVENT
BEGIN:VEVENT
DTSTART;TZID=America/Argentina/Buenos_Aires:20191107T183000
DTEND;TZID=America/Argentina/Buenos_Aires:20191107T203000
DTSTAMP:20260423T015646
CREATED:20191021T184529Z
LAST-MODIFIED:20191021T184644Z
UID:28864-1573151400-1573158600@www.ucsf.edu.ar
SUMMARY:Presentación del libro OCEÁNICA. Poemas aparecidos
DESCRIPTION:La Editorial UCSF invita a la presentación de Oceánica. Poemas aparecidos de Estanislao Giménez Corte\, docente de nuestra institución\, escritor y periodista. \nLa presentación estará a cargo de Susana Ibañez. \nAcompañará la presentación el pianista Daniel Paolantonio. \nEsta publicación reúne una serie de textos escritos\, olvidados\, releídos y reescritos a lo largo de muchos años. Como práctica irregular pero poderosa\, como forma lateral a mi trabajo académico y de ensayista\, esa tarea ha si -sin embargo- tan ocasional como persistente. De allí la categoría de aparición: como voz que sale y no encuentra cauce en otro género; como voz que “pide” la forma poética\, aun la informe\, la libre; como voz no atada a rima ni a estructura alguna pero que en simultáneo busca instintivamente la síntesis\, la figura\, la cadencia y la imagen. EGC \n 
URL:https://www.ucsf.edu.ar/evento/presentacion-del-libro-oceanica-poemas-aparecidos/
LOCATION:Santa Fe
CATEGORIES:Home principal,Santa Fe,Editorial,Sedes
END:VEVENT
BEGIN:VEVENT
DTSTART;TZID=America/Argentina/Buenos_Aires:20191107T183000
DTEND;TZID=America/Argentina/Buenos_Aires:20191107T203000
DTSTAMP:20260423T015646
CREATED:20191021T184529Z
LAST-MODIFIED:20191021T184529Z
UID:41560-1573151400-1573158600@www.ucsf.edu.ar
SUMMARY:Presentación del libro OCEÁNICA. Poemas aparecidos
DESCRIPTION:La Editorial UCSF invita a la presentación de Oceánica. Poemas aparecidos de Estanislao Giménez Corte\, docente de nuestra institución\, escritor y periodista. \nLa presentación estará a cargo de Susana Ibañez. \nAcompañará la presentación el pianista Daniel Paolantonio. \nEsta publicación reúne una serie de textos escritos\, olvidados\, releídos y reescritos a lo largo de muchos años. Como práctica irregular pero poderosa\, como forma lateral a mi trabajo académico y de ensayista\, esa tarea ha si -sin embargo- tan ocasional como persistente. De allí la categoría de aparición: como voz que sale y no encuentra cauce en otro género; como voz que “pide” la forma poética\, aun la informe\, la libre; como voz no atada a rima ni a estructura alguna pero que en simultáneo busca instintivamente la síntesis\, la figura\, la cadencia y la imagen. EGC \n 
URL:https://www.ucsf.edu.ar/evento/presentacion-del-libro-oceanica-poemas-aparecidos-2/
LOCATION:Santa Fe
CATEGORIES:Home principal,Santa Fe,Editorial,Sedes
END:VEVENT
BEGIN:VEVENT
DTSTART;TZID=America/Argentina/Buenos_Aires:20191113T130000
DTEND;TZID=America/Argentina/Buenos_Aires:20191113T143000
DTSTAMP:20260423T015646
CREATED:20191108T171340Z
LAST-MODIFIED:20191111T123909Z
UID:29517-1573650000-1573655400@www.ucsf.edu.ar
SUMMARY:DEFENSA ORAL DE TRABAJO INTEGRADOR FINAL - Especialización en Terapias Cognitivas-
DESCRIPTION:La Dirección de Posgrado invita al acto de Defensa de TIF en el marco de la carrera de Posgrado “ESPECIALIZACIÓN EN TERAPIAS COGNITIVAS” el próximo miércoles 13 de noviembre a las 13:00 hs. \nAlumna: Luciana BRASCA \nTribunal Evaluador: Mgter. Mariela R. Cordero;  Esp. Ana Lis Di Giacomo y el Dr. Diego Desuque \nAula: 1.28
URL:https://www.ucsf.edu.ar/evento/defensa-oral-de-trabajo-integrador-final-especializacion-en-terapias-cognitivas/
LOCATION:Santa Fe
CATEGORIES:Especialización en Terapias Cognitivas,Carreras de Posgrado
END:VEVENT
BEGIN:VEVENT
DTSTART;TZID=America/Argentina/Buenos_Aires:20191113T130000
DTEND;TZID=America/Argentina/Buenos_Aires:20191113T143000
DTSTAMP:20260423T015646
CREATED:20191108T171340Z
LAST-MODIFIED:20191108T171340Z
UID:41565-1573650000-1573655400@www.ucsf.edu.ar
SUMMARY:DEFENSA ORAL DE TRABAJO INTEGRADOR FINAL - Especialización en Terapias Cognitivas-
DESCRIPTION:La Dirección de Posgrado invita al acto de Defensa de TIF en el marco de la carrera de Posgrado “ESPECIALIZACIÓN EN TERAPIAS COGNITIVAS” el próximo miércoles 13 de noviembre a las 13:00 hs. \nAlumna: Luciana BRASCA \nTribunal Evaluador: Mgter. Mariela R. Cordero;  Esp. Ana Lis Di Giacomo y el Dr. Diego Desuque \nAula: 1.28
URL:https://www.ucsf.edu.ar/evento/defensa-oral-de-trabajo-integrador-final-especializacion-en-terapias-cognitivas-2/
LOCATION:Untitled\, Santa Fe\, Argentina
CATEGORIES:Especialización en Terapias Cognitivas,Carreras de Posgrado
END:VEVENT
BEGIN:VEVENT
DTSTART;TZID=America/Argentina/Buenos_Aires:20191113T153000
DTEND;TZID=America/Argentina/Buenos_Aires:20191113T163000
DTSTAMP:20260423T015646
CREATED:20191102T092925Z
LAST-MODIFIED:20191102T092925Z
UID:41563-1573659000-1573662600@www.ucsf.edu.ar
SUMMARY:Estudia Obstetricia en Rafaela: Clase preuniversitaria abierta.
DESCRIPTION:\, \nLleva fotocopia de tu DNI y pre- inscribite ese mismo día y pregunta de los beneficios en la inscripciòn de los 10 primeros pre-inscriptos. \nhttps://www.ucsf.edu.ar/carreras/licenciatura-en-obstetricia/ \n  \n 
URL:https://www.ucsf.edu.ar/evento/estudia-obstetricia-en-rafaela-clase-preuniversitaria-abierta-2/
LOCATION:Untitled\, Santa Fe\, Argentina
CATEGORIES:Santa Fe,Facultades,Ciencias de la Salud,Carreras de Grado,Rafaela,Sedes
END:VEVENT
BEGIN:VEVENT
DTSTART;TZID=America/Argentina/Buenos_Aires:20191113T153000
DTEND;TZID=America/Argentina/Buenos_Aires:20191113T163000
DTSTAMP:20260423T015646
CREATED:20191102T092925Z
LAST-MODIFIED:20191102T104407Z
UID:29272-1573659000-1573662600@www.ucsf.edu.ar
SUMMARY:Estudia Obstetricia en Rafaela: Clase preuniversitaria abierta.
DESCRIPTION:\, \nLleva fotocopia de tu DNI y pre- inscribite ese mismo día y pregunta de los beneficios en la inscripciòn de los 10 primeros pre-inscriptos. \nhttps://www.ucsf.edu.ar/carreras/licenciatura-en-obstetricia/ \n  \n 
URL:https://www.ucsf.edu.ar/evento/estudia-obstetricia-en-rafaela-clase-preuniversitaria-abierta/
LOCATION:Santa Fe
CATEGORIES:Santa Fe,Facultades,Ciencias de la Salud,Carreras de Grado,Rafaela,Sedes
END:VEVENT
BEGIN:VEVENT
DTSTART;TZID=America/Argentina/Buenos_Aires:20191113T163000
DTEND;TZID=America/Argentina/Buenos_Aires:20191113T173000
DTSTAMP:20260423T015646
CREATED:20191025T151806Z
LAST-MODIFIED:20191102T104744Z
UID:29055-1573662600-1573666200@www.ucsf.edu.ar
SUMMARY:Estudia Terapia Ocupacional (Rafaela): Clase abierta ingreso 2020.
DESCRIPTION:Título:\nLicenciado en Terapia Ocupacional \nResolución Ministerial 4345-17 \nDuración:\n4 años y medio \nTítulos intermedios:\nAcompañante Terapéutico Ocupacional (3 años) \nSedes donde cursar:\nSanta Fe\nRafaela\nReconquista \n  \nEstudia Terapia Ocupacional 2020: Santa Fe\, Rafaela\, Reconquista. \n \nBeneficios por inscripción temprana\nSi te inscribís desde el 1 de julio hasta el 31 de octubre de 2019 accedes al beneficio de la bonificación de la cuota 2. \nSi te inscribís entre el 1 de noviembre y el 31 de diciembre de 2019 recibirás la bonificación del 50% de la cuota 2. \n 
URL:https://www.ucsf.edu.ar/evento/estudia-terapia-ocupacional-rafaela-clase-abierta-ingreso-2020/
LOCATION:Santa Fe
CATEGORIES:Santa Fe,Facultades,Ciencias de la Salud,Carreras de Grado,Rafaela,Sedes,Institutos,Licenciatura en Terapia Ocupacional
END:VEVENT
BEGIN:VEVENT
DTSTART;TZID=America/Argentina/Buenos_Aires:20191113T163000
DTEND;TZID=America/Argentina/Buenos_Aires:20191113T173000
DTSTAMP:20260423T015646
CREATED:20191025T151806Z
LAST-MODIFIED:20191025T151806Z
UID:41562-1573662600-1573666200@www.ucsf.edu.ar
SUMMARY:Estudia Terapia Ocupacional (Rafaela): Clase abierta ingreso 2020.
DESCRIPTION:Título:\nLicenciado en Terapia Ocupacional \nResolución Ministerial 4345-17 \nDuración:\n4 años y medio \nTítulos intermedios:\nAcompañante Terapéutico Ocupacional (3 años) \nSedes donde cursar:\nSanta Fe\nRafaela\nReconquista \n  \nEstudia Terapia Ocupacional 2020: Santa Fe\, Rafaela\, Reconquista. \n \nBeneficios por inscripción temprana\nSi te inscribís desde el 1 de julio hasta el 31 de octubre de 2019 accedes al beneficio de la bonificación de la cuota 2. \nSi te inscribís entre el 1 de noviembre y el 31 de diciembre de 2019 recibirás la bonificación del 50% de la cuota 2. \n 
URL:https://www.ucsf.edu.ar/evento/estudia-terapia-ocupacional-rafaela-clase-abierta-ingreso-2020-2/
LOCATION:Untitled\, Santa Fe\, Argentina
CATEGORIES:Santa Fe,Facultades,Ciencias de la Salud,Carreras de Grado,Rafaela,Sedes,Institutos,Licenciatura en Terapia Ocupacional
END:VEVENT
BEGIN:VEVENT
DTSTART;TZID=America/Argentina/Buenos_Aires:20191120T180000
DTEND;TZID=America/Argentina/Buenos_Aires:20191120T180000
DTSTAMP:20260423T015646
CREATED:20191120T132000Z
LAST-MODIFIED:20191120T132000Z
UID:41567-1574272800-1574272800@www.ucsf.edu.ar
SUMMARY:Hoy Terapia Ocupacional en Santa Fe! Clase abierta. Te esperamos!
DESCRIPTION:HOY MIÉRCOLES. \n20 de noviembre. 18 hs. \nPRE INSCRIBITE ENTREGANDO EN ALUMNADO \n FOTOCOPIA DEL DNI
URL:https://www.ucsf.edu.ar/evento/hoy-terapia-ocupacional-en-santa-fe-clase-abierta-te-esperamos-2/
LOCATION:Santa Fe
CATEGORIES:Santa Fe,Facultades,Ciencias de la Salud,Carreras de Grado,Sedes,Licenciatura en Terapia Ocupacional
END:VEVENT
BEGIN:VEVENT
DTSTART;TZID=America/Argentina/Buenos_Aires:20191120T180000
DTEND;TZID=America/Argentina/Buenos_Aires:20191120T180000
DTSTAMP:20260423T015646
CREATED:20191120T132000Z
LAST-MODIFIED:20191120T132758Z
UID:29874-1574272800-1574272800@www.ucsf.edu.ar
SUMMARY:Hoy Terapia Ocupacional en Santa Fe! Clase abierta. Te esperamos!
DESCRIPTION:HOY MIÉRCOLES. \n20 de noviembre. 18 hs. \nPRE INSCRIBITE ENTREGANDO EN ALUMNADO \n FOTOCOPIA DEL DNI
URL:https://www.ucsf.edu.ar/evento/hoy-terapia-ocupacional-en-santa-fe-clase-abierta-te-esperamos/
LOCATION:Santa Fe
CATEGORIES:Santa Fe,Facultades,Ciencias de la Salud,Carreras de Grado,Sedes,Licenciatura en Terapia Ocupacional
END:VEVENT
BEGIN:VEVENT
DTSTART;TZID=America/Argentina/Buenos_Aires:20191122T150000
DTEND;TZID=America/Argentina/Buenos_Aires:20191122T160000
DTSTAMP:20260423T015646
CREATED:20191119T210421Z
LAST-MODIFIED:20191119T211120Z
UID:29852-1574434800-1574438400@www.ucsf.edu.ar
SUMMARY:Clase Preuniversitaria de Obstetricia en Rosario. te esperamos!
DESCRIPTION:EN ROSARIO \n20 DE NOVIEMBRE. 15 HS \nTe esperamos para el Ingreso 2020!  \nClase preuniversitaria. Libre y gratuita.
URL:https://www.ucsf.edu.ar/evento/clase-preuniversitaria-de-obstetricia-en-rosario-te-esperamos/
LOCATION:Santa Fe
CATEGORIES:Santa Fe,Facultades,Ciencias de la Salud,Carreras de Grado,Sedes
END:VEVENT
BEGIN:VEVENT
DTSTART;TZID=America/Argentina/Buenos_Aires:20191122T150000
DTEND;TZID=America/Argentina/Buenos_Aires:20191122T160000
DTSTAMP:20260423T015646
CREATED:20191119T210421Z
LAST-MODIFIED:20191119T210421Z
UID:41566-1574434800-1574438400@www.ucsf.edu.ar
SUMMARY:Clase Preuniversitaria de Obstetricia en Rosario. te esperamos!
DESCRIPTION:EN ROSARIO \n20 DE NOVIEMBRE. 15 HS \nTe esperamos para el Ingreso 2020!  \nClase preuniversitaria. Libre y gratuita.
URL:https://www.ucsf.edu.ar/evento/clase-preuniversitaria-de-obstetricia-en-rosario-te-esperamos-2/
LOCATION:Santa Fe
CATEGORIES:Santa Fe,Facultades,Ciencias de la Salud,Carreras de Grado,Sedes
END:VEVENT
BEGIN:VEVENT
DTSTART;TZID=America/Argentina/Buenos_Aires:20191127T090000
DTEND;TZID=America/Argentina/Buenos_Aires:20191127T170000
DTSTAMP:20260423T015646
CREATED:20191107T194815Z
LAST-MODIFIED:20191107T195551Z
UID:29492-1574845200-1574874000@www.ucsf.edu.ar
SUMMARY:Seminario-taller IMPLEMENTACIÓN DE PROCESOS LOCALES DE ACCESO AL SUELO Y A LA VIVIENDA
DESCRIPTION:Seminario-taller \nIMPLEMENTACIÓN DE PROCESOS LOCALES DE ACCESO AL SUELO Y A LA VIVIENDA \ndictado por la Dra. Arq. Daniela Gargantini
URL:https://www.ucsf.edu.ar/evento/seminario-taller-implementacion-de-procesos-locales-de-acceso-al-suelo-y-a-la-vivienda/
LOCATION:Santa Fe
CATEGORIES:Arquitectura,Carreras de Grado,Carreras de Posgrado,Especialización en Gestión Integral del Hábitat
END:VEVENT
BEGIN:VEVENT
DTSTART;TZID=America/Argentina/Buenos_Aires:20191127T090000
DTEND;TZID=America/Argentina/Buenos_Aires:20191127T170000
DTSTAMP:20260423T015646
CREATED:20191107T194815Z
LAST-MODIFIED:20191107T194815Z
UID:41564-1574845200-1574874000@www.ucsf.edu.ar
SUMMARY:Seminario-taller IMPLEMENTACIÓN DE PROCESOS LOCALES DE ACCESO AL SUELO Y A LA VIVIENDA
DESCRIPTION:Seminario-taller \nIMPLEMENTACIÓN DE PROCESOS LOCALES DE ACCESO AL SUELO Y A LA VIVIENDA \ndictado por la Dra. Arq. Daniela Gargantini
URL:https://www.ucsf.edu.ar/evento/seminario-taller-implementacion-de-procesos-locales-de-acceso-al-suelo-y-a-la-vivienda-2/
LOCATION:Santa Fe
CATEGORIES:Arquitectura,Carreras de Grado,Carreras de Posgrado,Especialización en Gestión Integral del Hábitat
END:VEVENT
END:VCALENDAR