BEGIN:VCALENDAR
VERSION:2.0
PRODID:-//UCSF - Universidad Católica de Santa Fe - ECPv5.14.2.1//NONSGML v1.0//EN
CALSCALE:GREGORIAN
METHOD:PUBLISH
X-WR-CALNAME:UCSF - Universidad Católica de Santa Fe
X-ORIGINAL-URL:https://www.ucsf.edu.ar
X-WR-CALDESC:Events for UCSF - Universidad Católica de Santa Fe
REFRESH-INTERVAL;VALUE=DURATION:PT1H
X-Robots-Tag:noindex
X-PUBLISHED-TTL:PT1H
BEGIN:VTIMEZONE
TZID:America/Argentina/Buenos_Aires
BEGIN:STANDARD
TZOFFSETFROM:-0300
TZOFFSETTO:-0300
TZNAME:-03
DTSTART:20190101T000000
END:STANDARD
END:VTIMEZONE
BEGIN:VEVENT
DTSTART;TZID=America/Argentina/Buenos_Aires:20191018T180000
DTEND;TZID=America/Argentina/Buenos_Aires:20191206T203000
DTSTAMP:20260423T015653
CREATED:20190924T190705Z
LAST-MODIFIED:20190924T191004Z
UID:27873-1571421600-1575664200@www.ucsf.edu.ar
SUMMARY:Capacitación en CNC y Mecanizado Asistido por Computadora
DESCRIPTION:La Facultad de Arquitectura de la UCSF Sede Rosario organiza la capacitación en conocimientos de software para elaborar programas de mecanizado en 2 y 3 ejes destinados a fabricación de productos\, moldes\, matrices y herramental en cualquier máquina CNC. \nLa misma estará a cargo del Ing. Miguel Pérez y está destinada a profesionales egresados y estudiantes de Ingeniería\, Diseño Industrial\, Técnicos y operarios. \nEl módulo 1\, Mecanizado en 2 ejes\, se desarrollará los días: 18 y 25 de octubre y 1 y 8 de noviembre. \nEl módulo 2\, Mecanizado en 3 ejes\, se desarrollará los días: 15\, 22 y 29 de noviembre y 6 de diciembre. \n  \nEl horario de las clases es de 18 a 20:30 hs. y el lugar es la Sede Rosario de la UCSF\, sita en Mendoza 4197. \n  \nMás información: juliotoledo@ucsf.edu.ar \n 
URL:https://www.ucsf.edu.ar/evento/capacitacion-en-cnc-y-mecanizado-asistido-por-computadora/
LOCATION:Santa Fe
CATEGORIES:Arquitectura y Diseño,Facultades,Arquitectura,Rosario,Carreras de Grado,Sedes,Licenciatura en Diseño Industrial
END:VEVENT
BEGIN:VEVENT
DTSTART;TZID=America/Argentina/Buenos_Aires:20191018T180000
DTEND;TZID=America/Argentina/Buenos_Aires:20191206T203000
DTSTAMP:20260423T015653
CREATED:20190924T190705Z
LAST-MODIFIED:20190924T190705Z
UID:41545-1571421600-1575664200@www.ucsf.edu.ar
SUMMARY:Capacitación en CNC y Mecanizado Asistido por Computadora
DESCRIPTION:La Facultad de Arquitectura de la UCSF Sede Rosario organiza la capacitación en conocimientos de software para elaborar programas de mecanizado en 2 y 3 ejes destinados a fabricación de productos\, moldes\, matrices y herramental en cualquier máquina CNC. \nLa misma estará a cargo del Ing. Miguel Pérez y está destinada a profesionales egresados y estudiantes de Ingeniería\, Diseño Industrial\, Técnicos y operarios. \nEl módulo 1\, Mecanizado en 2 ejes\, se desarrollará los días: 18 y 25 de octubre y 1 y 8 de noviembre. \nEl módulo 2\, Mecanizado en 3 ejes\, se desarrollará los días: 15\, 22 y 29 de noviembre y 6 de diciembre. \n  \nEl horario de las clases es de 18 a 20:30 hs. y el lugar es la Sede Rosario de la UCSF\, sita en Mendoza 4197. \n  \nMás información: juliotoledo@ucsf.edu.ar \n 
URL:https://www.ucsf.edu.ar/evento/capacitacion-en-cnc-y-mecanizado-asistido-por-computadora-2/
LOCATION:Santa Fe
CATEGORIES:Arquitectura y Diseño,Facultades,Arquitectura,Rosario,Carreras de Grado,Sedes,Licenciatura en Diseño Industrial
END:VEVENT
BEGIN:VEVENT
DTSTART;TZID=America/Argentina/Buenos_Aires:20191211T080000
DTEND;TZID=America/Argentina/Buenos_Aires:20191211T170000
DTSTAMP:20260423T015653
CREATED:20191212T110541Z
LAST-MODIFIED:20191212T110541Z
UID:41569-1576051200-1576083600@www.ucsf.edu.ar
SUMMARY:Invitación Defensa de Tesis - Doctorado en Derecho - Doctoranda Iza Amelia de Casstro (Brasil)
DESCRIPTION:La Dirección de Posgrado de la Universidad Católica de Santa Fe invita al acto de Defensa de Tesis que se llevará a cabo el próximo lunes 16 de diciembre del corriente año\, comprendida dentro del marco de la Carrera de Posgrado\, Doctorado en Derecho \n  \nCandidato: Iza Amelia de Castro Albuquerque (Brasil) \nDirección de Tesis: Dr.  Sandro Nahmias Melo (Brasil) \nTítulo de Tesis: \nHUELGA AMBIENTAL EN EL ORDENAMIENTO JURÍDICO BRASILEÑO \nTRIBUNAL EXAMINADOR \nDra. María Valeria Berros (Santa Fe) \nDr. Leonardo Villafañe (Posadas) \nDr. Mauro Raúl Bonato (Rosario) \n  \nHorario de Defensa: 17:00 hs            Aula: 1.28
URL:https://www.ucsf.edu.ar/evento/invitacion-defensa-de-tesis-doctorado-en-derecho-doctoranda-iza-amelia-de-casstro-brasil-2/
LOCATION:Santa Fe
CATEGORIES:Home principal,Carreras de Posgrado
END:VEVENT
BEGIN:VEVENT
DTSTART;TZID=America/Argentina/Buenos_Aires:20191211T080000
DTEND;TZID=America/Argentina/Buenos_Aires:20191211T170000
DTSTAMP:20260423T015653
CREATED:20191212T110541Z
LAST-MODIFIED:20191213T134835Z
UID:30629-1576051200-1576083600@www.ucsf.edu.ar
SUMMARY:Invitación Defensa de Tesis - Doctorado en Derecho - Doctoranda Iza Amelia de Casstro (Brasil)
DESCRIPTION:La Dirección de Posgrado de la Universidad Católica de Santa Fe invita al acto de Defensa de Tesis que se llevará a cabo el próximo lunes 16 de diciembre del corriente año\, comprendida dentro del marco de la Carrera de Posgrado\, Doctorado en Derecho \n  \nCandidato: Iza Amelia de Castro Albuquerque (Brasil) \nDirección de Tesis: Dr.  Sandro Nahmias Melo (Brasil) \nTítulo de Tesis: \nHUELGA AMBIENTAL EN EL ORDENAMIENTO JURÍDICO BRASILEÑO \nTRIBUNAL EXAMINADOR \nDra. María Valeria Berros (Santa Fe) \nDr. Leonardo Villafañe (Posadas) \nDr. Mauro Raúl Bonato (Rosario) \n  \nHorario de Defensa: 17:00 hs            Aula: 1.28
URL:https://www.ucsf.edu.ar/evento/invitacion-defensa-de-tesis-doctorado-en-derecho-doctoranda-iza-amelia-de-casstro-brasil/
LOCATION:Santa Fe
CATEGORIES:Home principal,Carreras de Posgrado
END:VEVENT
BEGIN:VEVENT
DTSTART;VALUE=DATE:20191216
DTEND;VALUE=DATE:20191220
DTSTAMP:20260423T015653
CREATED:20191217T005216Z
LAST-MODIFIED:20191217T005216Z
UID:30802-1576454400-1576799999@www.ucsf.edu.ar
SUMMARY:Invitación Defensa de TIF - María Verónica Quinodoz - Especialización en Terapias Cognitivas
DESCRIPTION:La Dirección de Posgrado de la Universidad Católica de Santa Fe invita al acto de Defensa de TIF que se llevará a cabo el próximo miércoles 19 de diciembre del corriente año\, comprendida dentro del marco de la Carrera de Posgrado\, Especialización en terapias Cognitivas \nCandidato: María Verónica Quinodoz\nDirección de Tesis: Esp. María Ana Lis Di Giacomo \nTÍTULO DE TESIS:\nTratamiento de la Depresión desde el Enfoque Cognitivo – Conductual \nTribunal Examinador:\nDra. Luciana Brasca\nMgter. Mariela Rene Cordero\nMgter. Lucrecia Constanza Cerini \nHorario de Defensa: 14:30 hs\nAula: 2.51
URL:https://www.ucsf.edu.ar/evento/invitacion-defensa-de-tif-maria-veronica-quinodoz-especializacion-en-terapias-cognitivas/
LOCATION:Santa Fe
CATEGORIES:Especialización en Terapias Cognitivas,Carreras de Posgrado
END:VEVENT
BEGIN:VEVENT
DTSTART;VALUE=DATE:20191216
DTEND;VALUE=DATE:20191220
DTSTAMP:20260423T015653
CREATED:20191217T005216Z
LAST-MODIFIED:20191217T005216Z
UID:41571-1576454400-1576799999@www.ucsf.edu.ar
SUMMARY:Invitación Defensa de TIF - María Verónica Quinodoz - Especialización en Terapias Cognitivas
DESCRIPTION:La Dirección de Posgrado de la Universidad Católica de Santa Fe invita al acto de Defensa de TIF que se llevará a cabo el próximo miércoles 19 de diciembre del corriente año\, comprendida dentro del marco de la Carrera de Posgrado\, Especialización en terapias Cognitivas \nCandidato: María Verónica Quinodoz\nDirección de Tesis: Esp. María Ana Lis Di Giacomo \nTÍTULO DE TESIS:\nTratamiento de la Depresión desde el Enfoque Cognitivo – Conductual \nTribunal Examinador:\nDra. Luciana Brasca\nMgter. Mariela Rene Cordero\nMgter. Lucrecia Constanza Cerini \nHorario de Defensa: 14:30 hs\nAula: 2.51
URL:https://www.ucsf.edu.ar/evento/invitacion-defensa-de-tif-maria-veronica-quinodoz-especializacion-en-terapias-cognitivas-2/
LOCATION:Santa Fe
CATEGORIES:Especialización en Terapias Cognitivas,Carreras de Posgrado
END:VEVENT
BEGIN:VEVENT
DTSTART;VALUE=DATE:20191216
DTEND;VALUE=DATE:20191220
DTSTAMP:20260423T015653
CREATED:20191217T004304Z
LAST-MODIFIED:20191217T004701Z
UID:30799-1576454400-1576799999@www.ucsf.edu.ar
SUMMARY:Invitación Defensa de TIF - Carlos Gabriel Ponce - Especialización en Terapias Cognitivas
DESCRIPTION:La Dirección de Posgrado de la Universidad Católica de Santa Fe invita al acto de Defensa de TIF que se llevará a cabo el próximo miércoles 19 de diciembre del corriente año\, comprendida dentro del marco de la Carrera de Posgrado\, Especialización en Terapias Cognitivas \nCandidato:                                   Carlos Gabriel Ponce \nDirección de Tesis:                    Dr. Andrés Fernando López Pell \nTÍTULO DE TESIS: \nTerapia cognitiva para el Trastorno de ansiedad generalizada \nTribunal Examinador: \nDra. Luciana Brasca \nMgter. Mariela Rene Cordero \nMgter. Lucrecia Constanza Cerini \nHorario de Defensa: 13:30 hs \nAula: 2.51
URL:https://www.ucsf.edu.ar/evento/invitacion-defensa-de-tif-carlos-gabriel-ponce-especializacion-en-terapias-cognitivas/
LOCATION:Santa Fe
CATEGORIES:Especialización en Terapias Cognitivas,Carreras de Posgrado
END:VEVENT
BEGIN:VEVENT
DTSTART;VALUE=DATE:20191216
DTEND;VALUE=DATE:20191220
DTSTAMP:20260423T015653
CREATED:20191217T004304Z
LAST-MODIFIED:20191217T004304Z
UID:41570-1576454400-1576799999@www.ucsf.edu.ar
SUMMARY:Invitación Defensa de TIF - Carlos Gabriel Ponce - Especialización en Terapias Cognitivas
DESCRIPTION:La Dirección de Posgrado de la Universidad Católica de Santa Fe invita al acto de Defensa de TIF que se llevará a cabo el próximo miércoles 19 de diciembre del corriente año\, comprendida dentro del marco de la Carrera de Posgrado\, Especialización en Terapias Cognitivas \nCandidato:                                   Carlos Gabriel Ponce \nDirección de Tesis:                    Dr. Andrés Fernando López Pell \nTÍTULO DE TESIS: \nTerapia cognitiva para el Trastorno de ansiedad generalizada \nTribunal Examinador: \nDra. Luciana Brasca \nMgter. Mariela Rene Cordero \nMgter. Lucrecia Constanza Cerini \nHorario de Defensa: 13:30 hs \nAula: 2.51
URL:https://www.ucsf.edu.ar/evento/invitacion-defensa-de-tif-carlos-gabriel-ponce-especializacion-en-terapias-cognitivas-2/
LOCATION:Santa Fe
CATEGORIES:Especialización en Terapias Cognitivas,Carreras de Posgrado
END:VEVENT
END:VCALENDAR