BEGIN:VCALENDAR
VERSION:2.0
PRODID:-//UCSF - Universidad Católica de Santa Fe - ECPv5.14.2.1//NONSGML v1.0//EN
CALSCALE:GREGORIAN
METHOD:PUBLISH
X-WR-CALNAME:UCSF - Universidad Católica de Santa Fe
X-ORIGINAL-URL:https://www.ucsf.edu.ar
X-WR-CALDESC:Events for UCSF - Universidad Católica de Santa Fe
REFRESH-INTERVAL;VALUE=DURATION:PT1H
X-Robots-Tag:noindex
X-PUBLISHED-TTL:PT1H
BEGIN:VTIMEZONE
TZID:America/Argentina/Buenos_Aires
BEGIN:STANDARD
TZOFFSETFROM:-0300
TZOFFSETTO:-0300
TZNAME:-03
DTSTART:20200101T000000
END:STANDARD
END:VTIMEZONE
BEGIN:VEVENT
DTSTART;TZID=America/Argentina/Buenos_Aires:20200219T080000
DTEND;TZID=America/Argentina/Buenos_Aires:20200219T080000
DTSTAMP:20260422T153716
CREATED:20191121T142117Z
LAST-MODIFIED:20191121T142117Z
UID:41568-1582099200-1582099200@www.ucsf.edu.ar
SUMMARY:JORNADA INTERNACIONAL DE ACTUALIZACIÓN EN AUDIOLOGÍA AVANZADA...
DESCRIPTION:JORNADA INTERNACIONAL DE ACTUALIZACIÓN EN AUDIOLOGÍA AVANZADA\, DISPOSITIVOS DE CORRECCIÓN\, Y REHABILITACIÓN AUDITIVA \n\nPROGRAMA  \nMiércoles 19 de Febrero de 2020 \n9 a 10hs: Acreditaciones \n10 a 11hs: CAFETERÍA: Un espacio de encuentro informal\, donde los invitaremos a conocernos y compartir un rico café \n  \n11 a 13hs.“Regiones cocleares muertas. Fisiopatología y detección.” Dr. Blake M.D; Ph.D.  \nInstituto de Fisiología y Biofísica Bernardo Houssay (IFIBIO – UBA-CONICET) \nFacultad de Medicina – Universidad de Buenos Aires \n13 a 13.30hs: Turno de preguntas \n  \n13.30 a 15hs: Almuerzo libre \n  \n15.30 a 17hs: “Evaluaciones objetivas\, trazados y correspondencias entre estudios clínicos” Prof. Dr. Vicente Curcio – Director de la Especialidad en Audiología de la – UMSA – \n17 a 17.30hs: Turno de preguntas \n  \nJueves 20 de Febrero de 2020 \n9.30 – 11.00 hs. Prueba de Habla en Ruido: Una herramienta necesaria para la evaluación del desempeño auditivo y la optimización del equipamiento.” Ing. Horacio Cristiani-  Director de la Mutualidad Argentina De Hipoacúsicos. Prof. USAL y UMSA. Lic. Valeria Serra – Especialista en Audiología. Prof. UCSF. – Directora de curso avanzado en Audiología UCSF –       \n11.00 – 11.30hs Break \n  \n11.30 – 13hs “Conectividad. Teleaudiología. ¿Nuestro futuro?” Msc. José Luis Blanco López (invitado extranjero) – Director de Formación en Audiología Empresa Oticon (España) \n13 a 13.30hs: Turno de preguntas \n  \n13.30 a 15hs: Almuerzo libre \n  \n15.30 a 17hs: “Procesamiento auditivo central vs. Sinaptopatia coclear” Dra. Alicia Bianchi. Doctora en Fonoaudiología\, Prof. UMSA \n  \n17 a 17.30hs: Turno de preguntas \n20hs: Encuentro Coral en la Casa de la Cultura \nViernes 21 de Febrero de 2020 \n9.30 – 11.00 hs. “Beneficios del Equipamiento adecuado o cuando los audífonos no alcanzan” Dra. Fga. Silvia Mastroiani. Audióloga Principal de IC-EM: Implantes Cocleares Equipo Multicéntrico: Dr.Daniel Orfila. Prof. Lic. en Fgía. y de la Especialización en Audiología -UMSA. \n  \n11.00 – 11.30hs Break \n  \n11.30-13hs. “Avances en prótesis implantables” Dr. Prof. Manuel Manrique (invitado extranjero) Especialista en ORL. Director del departamento de ORL de la Clínica Universitaria de Navarra (España) \n13 a 13.30hs: Turno de preguntas
URL:https://www.ucsf.edu.ar/evento/jornada-de-actualizacion-en-audiologia-avanzada-dispositivos-de-correccionrehabilitacion-auditiva-2/
LOCATION:Untitled\, Santa Fe\, Argentina
CATEGORIES:Santa Fe,Facultades,Ciencias de la Salud,Carreras de Grado,Rafaela,Sedes,Licenciatura en Fonoaudiología
END:VEVENT
BEGIN:VEVENT
DTSTART;TZID=America/Argentina/Buenos_Aires:20200219T080000
DTEND;TZID=America/Argentina/Buenos_Aires:20200219T080000
DTSTAMP:20260422T153716
CREATED:20191121T142117Z
LAST-MODIFIED:20191203T220901Z
UID:29931-1582099200-1582099200@www.ucsf.edu.ar
SUMMARY:JORNADA INTERNACIONAL DE ACTUALIZACIÓN EN AUDIOLOGÍA AVANZADA...
DESCRIPTION:JORNADA INTERNACIONAL DE ACTUALIZACIÓN EN AUDIOLOGÍA AVANZADA\, DISPOSITIVOS DE CORRECCIÓN\, Y REHABILITACIÓN AUDITIVA \n\nPROGRAMA  \nMiércoles 19 de Febrero de 2020 \n9 a 10hs: Acreditaciones \n10 a 11hs: CAFETERÍA: Un espacio de encuentro informal\, donde los invitaremos a conocernos y compartir un rico café \n  \n11 a 13hs.“Regiones cocleares muertas. Fisiopatología y detección.” Dr. Blake M.D; Ph.D.  \nInstituto de Fisiología y Biofísica Bernardo Houssay (IFIBIO – UBA-CONICET) \nFacultad de Medicina – Universidad de Buenos Aires \n13 a 13.30hs: Turno de preguntas \n  \n13.30 a 15hs: Almuerzo libre \n  \n15.30 a 17hs: “Evaluaciones objetivas\, trazados y correspondencias entre estudios clínicos” Prof. Dr. Vicente Curcio – Director de la Especialidad en Audiología de la – UMSA – \n17 a 17.30hs: Turno de preguntas \n  \nJueves 20 de Febrero de 2020 \n9.30 – 11.00 hs. Prueba de Habla en Ruido: Una herramienta necesaria para la evaluación del desempeño auditivo y la optimización del equipamiento.” Ing. Horacio Cristiani-  Director de la Mutualidad Argentina De Hipoacúsicos. Prof. USAL y UMSA. Lic. Valeria Serra – Especialista en Audiología. Prof. UCSF. – Directora de curso avanzado en Audiología UCSF –       \n11.00 – 11.30hs Break \n  \n11.30 – 13hs “Conectividad. Teleaudiología. ¿Nuestro futuro?” Msc. José Luis Blanco López (invitado extranjero) – Director de Formación en Audiología Empresa Oticon (España) \n13 a 13.30hs: Turno de preguntas \n  \n13.30 a 15hs: Almuerzo libre \n  \n15.30 a 17hs: “Procesamiento auditivo central vs. Sinaptopatia coclear” Dra. Alicia Bianchi. Doctora en Fonoaudiología\, Prof. UMSA \n  \n17 a 17.30hs: Turno de preguntas \n20hs: Encuentro Coral en la Casa de la Cultura \nViernes 21 de Febrero de 2020 \n9.30 – 11.00 hs. “Beneficios del Equipamiento adecuado o cuando los audífonos no alcanzan” Dra. Fga. Silvia Mastroiani. Audióloga Principal de IC-EM: Implantes Cocleares Equipo Multicéntrico: Dr.Daniel Orfila. Prof. Lic. en Fgía. y de la Especialización en Audiología -UMSA. \n  \n11.00 – 11.30hs Break \n  \n11.30-13hs. “Avances en prótesis implantables” Dr. Prof. Manuel Manrique (invitado extranjero) Especialista en ORL. Director del departamento de ORL de la Clínica Universitaria de Navarra (España) \n13 a 13.30hs: Turno de preguntas
URL:https://www.ucsf.edu.ar/evento/jornada-de-actualizacion-en-audiologia-avanzada-dispositivos-de-correccionrehabilitacion-auditiva/
LOCATION:Santa Fe
CATEGORIES:Santa Fe,Facultades,Ciencias de la Salud,Carreras de Grado,Rafaela,Sedes,Licenciatura en Fonoaudiología
END:VEVENT
BEGIN:VEVENT
DTSTART;TZID=America/Argentina/Buenos_Aires:20200220T080000
DTEND;TZID=America/Argentina/Buenos_Aires:20200220T170000
DTSTAMP:20260422T153716
CREATED:20200220T185537Z
LAST-MODIFIED:20200220T185537Z
UID:32434-1582185600-1582218000@www.ucsf.edu.ar
SUMMARY:prueba
DESCRIPTION:ggg
URL:https://www.ucsf.edu.ar/evento/prueba/
LOCATION:Santa Fe
CATEGORIES:Santa Fe,Sedes
END:VEVENT
BEGIN:VEVENT
DTSTART;TZID=America/Argentina/Buenos_Aires:20200220T080000
DTEND;TZID=America/Argentina/Buenos_Aires:20200220T170000
DTSTAMP:20260422T153716
CREATED:20200220T185537Z
LAST-MODIFIED:20200220T185537Z
UID:41573-1582185600-1582218000@www.ucsf.edu.ar
SUMMARY:prueba
DESCRIPTION:ggg
URL:https://www.ucsf.edu.ar/evento/prueba-2/
LOCATION:Santa Fe
CATEGORIES:Santa Fe,Sedes
END:VEVENT
BEGIN:VEVENT
DTSTART;TZID=America/Argentina/Buenos_Aires:20200226T120000
DTEND;TZID=America/Argentina/Buenos_Aires:20200226T130000
DTSTAMP:20260422T153716
CREATED:20200220T204004Z
LAST-MODIFIED:20200220T204041Z
UID:32452-1582718400-1582722000@www.ucsf.edu.ar
SUMMARY:Misa "Miércoles de Ceniza"
DESCRIPTION:La Cuaresma comienza este 26 de Febrero con el Miércoles de Ceniza. Cuarenta días que la Iglesia nos invita a la conversión del corazón. \nCon el gesto de la imposición de la ceniza sobre nuestras cabezas queremos reconocernos pequeños\, pecadores\, necesitados del perdón y del don de la conversión. \nInvitamos a toda la Comunidad Educativa a participar de la Misa de bendición e imposición de las cenizas\, que se celebrará el 26/2 a las 12 hs. en la Capilla de la Universidad.
URL:https://www.ucsf.edu.ar/evento/misa-miercoles-de-ceniza/
LOCATION:Santa Fe
CATEGORIES:Santa Fe,Facultades,Vicerrectorado de Formación
END:VEVENT
BEGIN:VEVENT
DTSTART;TZID=America/Argentina/Buenos_Aires:20200226T120000
DTEND;TZID=America/Argentina/Buenos_Aires:20200226T130000
DTSTAMP:20260422T153716
CREATED:20200220T204004Z
LAST-MODIFIED:20200220T204004Z
UID:41574-1582718400-1582722000@www.ucsf.edu.ar
SUMMARY:Misa "Miércoles de Ceniza"
DESCRIPTION:La Cuaresma comienza este 26 de Febrero con el Miércoles de Ceniza. Cuarenta días que la Iglesia nos invita a la conversión del corazón. \nCon el gesto de la imposición de la ceniza sobre nuestras cabezas queremos reconocernos pequeños\, pecadores\, necesitados del perdón y del don de la conversión. \nInvitamos a toda la Comunidad Educativa a participar de la Misa de bendición e imposición de las cenizas\, que se celebrará el 26/2 a las 12 hs. en la Capilla de la Universidad.
URL:https://www.ucsf.edu.ar/evento/misa-miercoles-de-ceniza-2/
LOCATION:Santa Fe
CATEGORIES:Santa Fe,Facultades,Vicerrectorado de Formación
END:VEVENT
BEGIN:VEVENT
DTSTART;TZID=America/Argentina/Buenos_Aires:20200228T170000
DTEND;TZID=America/Argentina/Buenos_Aires:20200228T190000
DTSTAMP:20260422T153716
CREATED:20200220T185203Z
LAST-MODIFIED:20200221T185824Z
UID:32431-1582909200-1582916400@www.ucsf.edu.ar
SUMMARY:Reunión Informativa - Doctorado en Ciencia Jurídica
DESCRIPTION:Doctorado en Ciencia Jurídica\nDictamen favorable de la Comisión Nacional de Evaluación y Acreditación Universitaria (CONEAU) en sesión 410/2014.\nResolución  Nº 1969/2018 del Ministerio de Educación de la Nación.\nReunión Informativa: Viernes 28 de febrero de 2020\, a las 17 hs. Aula 3.52\nInscripciones abiertas\nInformes: mdidier@ucsf.edu.ar
URL:https://www.ucsf.edu.ar/evento/reunion-informativa-doctorado-en-ciencia-juridica-viernes-28-de-febrero-1700-hs-aula-3-52/
LOCATION:UCSF Santa Fe\, Echagüe 7151\, Santa Fe\, Santa Fe\, Argentina
CATEGORIES:Carreras de Posgrado,Doctorado en Ciencias Jurídicas
GEO:-31.6069451;-60.6709418
X-APPLE-STRUCTURED-LOCATION;VALUE=URI;X-ADDRESS=UCSF Santa Fe Echagüe 7151 Santa Fe Santa Fe Argentina;X-APPLE-RADIUS=500;X-TITLE=Echagüe 7151:geo:-60.6709418,-31.6069451
END:VEVENT
BEGIN:VEVENT
DTSTART;TZID=America/Argentina/Buenos_Aires:20200228T170000
DTEND;TZID=America/Argentina/Buenos_Aires:20200228T190000
DTSTAMP:20260422T153716
CREATED:20200220T185203Z
LAST-MODIFIED:20200220T185203Z
UID:41572-1582909200-1582916400@www.ucsf.edu.ar
SUMMARY:Reunión Informativa - Doctorado en Ciencia Jurídica
DESCRIPTION:Doctorado en Ciencia Jurídica\nDictamen favorable de la Comisión Nacional de Evaluación y Acreditación Universitaria (CONEAU) en sesión 410/2014.\nResolución  Nº 1969/2018 del Ministerio de Educación de la Nación.\nReunión Informativa: Viernes 28 de febrero de 2020\, a las 17 hs. Aula 3.52\nInscripciones abiertas\nInformes: mdidier@ucsf.edu.ar
URL:https://www.ucsf.edu.ar/evento/reunion-informativa-doctorado-en-ciencia-juridica-viernes-28-de-febrero-1700-hs-aula-3-52-2/
LOCATION:UCSF Santa Fe\, Echagüe 7151\, Santa Fe\, Santa Fe\, Argentina
CATEGORIES:Carreras de Posgrado,Doctorado en Ciencias Jurídicas
GEO:-31.6069451;-60.6709418
X-APPLE-STRUCTURED-LOCATION;VALUE=URI;X-ADDRESS=UCSF Santa Fe Echagüe 7151 Santa Fe Santa Fe Argentina;X-APPLE-RADIUS=500;X-TITLE=Echagüe 7151:geo:-60.6709418,-31.6069451
END:VEVENT
END:VCALENDAR