BEGIN:VCALENDAR
VERSION:2.0
PRODID:-//UCSF - Universidad Católica de Santa Fe - ECPv5.14.2.1//NONSGML v1.0//EN
CALSCALE:GREGORIAN
METHOD:PUBLISH
X-WR-CALNAME:UCSF - Universidad Católica de Santa Fe
X-ORIGINAL-URL:https://www.ucsf.edu.ar
X-WR-CALDESC:Events for UCSF - Universidad Católica de Santa Fe
REFRESH-INTERVAL;VALUE=DURATION:PT1H
X-Robots-Tag:noindex
X-PUBLISHED-TTL:PT1H
BEGIN:VTIMEZONE
TZID:America/Argentina/Buenos_Aires
BEGIN:STANDARD
TZOFFSETFROM:-0300
TZOFFSETTO:-0300
TZNAME:-03
DTSTART:20200101T000000
END:STANDARD
END:VTIMEZONE
BEGIN:VEVENT
DTSTART;TZID=America/Argentina/Buenos_Aires:20200625T170000
DTEND;TZID=America/Argentina/Buenos_Aires:20200625T170000
DTSTAMP:20260422T065600
CREATED:20200623T130845Z
LAST-MODIFIED:20200623T130845Z
UID:41579-1593104400-1593104400@www.ucsf.edu.ar
SUMMARY:Transición justa: el mundo del trabajo en la transformación socio-ecológica
DESCRIPTION:Transición justa: el mundo del trabajo en la transformación socio-ecológica\, bajo esta consigna tendrá lugar este jueves 25 de junio el 4° encuentro previo al inicio de la Diplomatura Superior en Ecología Integral. La actividad virtual\, libre y gratuita\,  dará inicio a las 5 PM (hora Argentina)\, siendo en esta oportunidad la Universidad Champagnat la anfitriona del encuentro\, en el marco de la Red Universitaria para el Cuidado de la Casa Común (RUC). \nPara participar se requiere completar la inscripción a través del siguiente enlace: https://www.eventbrite.co.uk/e/transicion-justa-tickets-109973277032 \nLas luchas laborales y las luchas ambientales durante décadas se miraron recíprocamente como adversarias: la transformación socio-ecológica necesaria para abordar desafíos como el cambio climático y la pérdida de biodiversidad requieren una profunda reestructuración o incluso la desaparición de amplios sectores de la economía\, que emplean millones de trabajadores a nivel mundial (energía\, industria\, agricultura\, transporte\, etc.). \nAsí presentamos una charla sobre la “transición justa”\, expresando la voluntad y exigiendo involucrarse en el proceso de diseño de una transición económica-societal a la sustentabilidad\, enfocándose en la protección de los derechos y medios de vida de los trabajadores. \nAcompañanos con un panel de especialistas:\nAna Carballo\, Investigadora de Post-Doctorado en la Escuela de Geografía de la Universidad de Melbourne y editora de la revista/blog Alternautas\,\nAldo Carreras\, docente de la Diplomatura y Ex Secretario de Estado del Gobierno de la Provincia de Buenos Aires\, y\nEmilce Cuda\, docente de la Diplomatura y Directora del Grupo de Trabajo “El futuro del trabajo y el cuidado de la Casa Común” \nLuego de inscribirte\, te mandaremos toda la información para acceder a la actividad mediante Youtube o Zoom.
URL:https://www.ucsf.edu.ar/evento/transicion-justa-el-mundo-del-trabajo-en-la-transformacion-socio-ecologica-2/
LOCATION:Santa Fe
CATEGORIES:Home principal
END:VEVENT
BEGIN:VEVENT
DTSTART;TZID=America/Argentina/Buenos_Aires:20200625T170000
DTEND;TZID=America/Argentina/Buenos_Aires:20200625T170000
DTSTAMP:20260422T065600
CREATED:20200623T130845Z
LAST-MODIFIED:20200623T130845Z
UID:36089-1593104400-1593104400@www.ucsf.edu.ar
SUMMARY:Transición justa: el mundo del trabajo en la transformación socio-ecológica
DESCRIPTION:Transición justa: el mundo del trabajo en la transformación socio-ecológica\, bajo esta consigna tendrá lugar este jueves 25 de junio el 4° encuentro previo al inicio de la Diplomatura Superior en Ecología Integral. La actividad virtual\, libre y gratuita\,  dará inicio a las 5 PM (hora Argentina)\, siendo en esta oportunidad la Universidad Champagnat la anfitriona del encuentro\, en el marco de la Red Universitaria para el Cuidado de la Casa Común (RUC). \nPara participar se requiere completar la inscripción a través del siguiente enlace: https://www.eventbrite.co.uk/e/transicion-justa-tickets-109973277032 \nLas luchas laborales y las luchas ambientales durante décadas se miraron recíprocamente como adversarias: la transformación socio-ecológica necesaria para abordar desafíos como el cambio climático y la pérdida de biodiversidad requieren una profunda reestructuración o incluso la desaparición de amplios sectores de la economía\, que emplean millones de trabajadores a nivel mundial (energía\, industria\, agricultura\, transporte\, etc.). \nAsí presentamos una charla sobre la “transición justa”\, expresando la voluntad y exigiendo involucrarse en el proceso de diseño de una transición económica-societal a la sustentabilidad\, enfocándose en la protección de los derechos y medios de vida de los trabajadores. \nAcompañanos con un panel de especialistas:\nAna Carballo\, Investigadora de Post-Doctorado en la Escuela de Geografía de la Universidad de Melbourne y editora de la revista/blog Alternautas\,\nAldo Carreras\, docente de la Diplomatura y Ex Secretario de Estado del Gobierno de la Provincia de Buenos Aires\, y\nEmilce Cuda\, docente de la Diplomatura y Directora del Grupo de Trabajo “El futuro del trabajo y el cuidado de la Casa Común” \nLuego de inscribirte\, te mandaremos toda la información para acceder a la actividad mediante Youtube o Zoom.
URL:https://www.ucsf.edu.ar/evento/transicion-justa-el-mundo-del-trabajo-en-la-transformacion-socio-ecologica/
LOCATION:Santa Fe
CATEGORIES:Home principal
END:VEVENT
END:VCALENDAR