BEGIN:VCALENDAR
VERSION:2.0
PRODID:-//UCSF - Universidad Católica de Santa Fe - ECPv5.14.2.1//NONSGML v1.0//EN
CALSCALE:GREGORIAN
METHOD:PUBLISH
X-WR-CALNAME:UCSF - Universidad Católica de Santa Fe
X-ORIGINAL-URL:https://www.ucsf.edu.ar
X-WR-CALDESC:Events for UCSF - Universidad Católica de Santa Fe
REFRESH-INTERVAL;VALUE=DURATION:PT1H
X-Robots-Tag:noindex
X-PUBLISHED-TTL:PT1H
BEGIN:VTIMEZONE
TZID:America/Argentina/Buenos_Aires
BEGIN:STANDARD
TZOFFSETFROM:-0300
TZOFFSETTO:-0300
TZNAME:-03
DTSTART:20210101T000000
END:STANDARD
END:VTIMEZONE
BEGIN:VEVENT
DTSTART;TZID=America/Argentina/Buenos_Aires:20211202T163000
DTEND;TZID=America/Argentina/Buenos_Aires:20211202T193000
DTSTAMP:20260420T123716
CREATED:20211129T190820Z
LAST-MODIFIED:20211129T192344Z
UID:48808-1638462600-1638473400@www.ucsf.edu.ar
SUMMARY:Defensa de Tesis - Doctorado en Derecho - Universidad Católica de Santa Fe
DESCRIPTION:  \nEl Departamento de Posgrado de la Universidad Católica de Santa Fe invita al acto de Defensa de Tesis que se llevará a cabo el próximo jueves 02 de diciembre del corriente año\, en el marco de la carrera: Doctorado en Derecho. \nCandidata: María Alejandra Peresutti \nDirección de Tesis: Dra. María Marta Didier. \nTítulo de Tesis: \n“LOS DERECHOS A LA IGUALDAD Y A LA VIDA DEL NIÑO POR NACER. CON ESPECIAL REFERENCIA AL ARTÍCULO 86\, INCISO 2) DEL CÓDIGO PENAL Y A LOS SERES HUMANOS EN ESTADO EMBRIONARIO CRIO-CONSERVADOS HASTA SU IMPLANTACIÓN”. \nTribunal Evaluador \n\nDra. Elisabet Agustina Vidal\nDra. Verónica Melo\nDr. Jorge Nicolás Laferriere\n\n  \nHorario de Defensa: 16:30 hs        \nMODO HÍBRIDO – AULA 2.52 \nUnirse a la reunión Zoom  \nhttps://zoom.us/j/94285598447?pwd=dEZjT3F5RkhObHFkaGZpZGd4OTc4UT09  \nID: 942 8559 8447                 Clave:  02122021   \n  \n 
URL:https://www.ucsf.edu.ar/evento/defensa-de-tesis-doctorado-en-derecho-universidad-catolica-de-santa-fe/
LOCATION:UCSF Santa Fe\, Echagüe 7151\, Santa Fe\, Santa Fe\, Argentina
CATEGORIES:Santa Fe,Alumnos,Docentes,Personal UCSF,Carreras de Posgrado,Doctorado en Ciencias Jurídicas,Sedes
ATTACH;FMTTYPE=application/pdf:https://www.ucsf.edu.ar/wp-content/uploads/2021/11/Imagen-Defensa-de-tesis-1.pdf
GEO:-31.6069451;-60.6709418
X-APPLE-STRUCTURED-LOCATION;VALUE=URI;X-ADDRESS=UCSF Santa Fe Echagüe 7151 Santa Fe Santa Fe Argentina;X-APPLE-RADIUS=500;X-TITLE=Echagüe 7151:geo:-60.6709418,-31.6069451
END:VEVENT
BEGIN:VEVENT
DTSTART;TZID=America/Argentina/Buenos_Aires:20211206T170000
DTEND;TZID=America/Argentina/Buenos_Aires:20211206T190000
DTSTAMP:20260420T123716
CREATED:20211201T213324Z
LAST-MODIFIED:20211201T213324Z
UID:48851-1638810000-1638817200@www.ucsf.edu.ar
SUMMARY:Defensa de Tesis - Doctorado en Ciencia Jurídica UCSF
DESCRIPTION:El Departamento de Posgrado de la Universidad Católica de Santa Fe invita al acto de Defensa de Tesis que se llevará a cabo el próximo lunes 06 de diciembre del corriente año\, en el marco de la carrera de Posgrado\, Doctorado en Ciencia Jurídica. \nCandidato: Gabriel Oscar Abad \nDirección de Tesis: Dr. Daniel Marcelo Zoso \nTÍTULO DE TESIS \n“LA VIGENCIA E IMPORTANCIA DE LOS DERECHOS FEDERATIVOS” \n  \nTRIBUNAL EVALUADOR \n\nDr. Gustavo Albano Abreu\nDr. Luis Pedro Niel Puig\nDr. Enrique Máximo Pita\n\n  \nHorario de Defensa: 17:00 hs        \nMODO HÍBRIDO  – Aula 3.51 \nID: 942 8559 8447                 Clave:  02122021    \n  \n 
URL:https://www.ucsf.edu.ar/evento/defensa-de-tesis-doctorado-en-ciencia-juridica-ucsf/
LOCATION:UCSF Santa Fe\, Echagüe 7151\, Santa Fe\, Santa Fe\, Argentina
CATEGORIES:Santa Fe,Alumnos,Docentes,Personal UCSF,Carreras de Posgrado,Doctorado en Ciencias Jurídicas,Sedes
ATTACH;FMTTYPE=application/pdf:https://www.ucsf.edu.ar/wp-content/uploads/2021/12/Defensa-de-Tesis-Doctorado-en-Ciencia-Juridica.pdf
GEO:-31.6069451;-60.6709418
X-APPLE-STRUCTURED-LOCATION;VALUE=URI;X-ADDRESS=UCSF Santa Fe Echagüe 7151 Santa Fe Santa Fe Argentina;X-APPLE-RADIUS=500;X-TITLE=Echagüe 7151:geo:-60.6709418,-31.6069451
END:VEVENT
BEGIN:VEVENT
DTSTART;TZID=America/Argentina/Buenos_Aires:20211209T190000
DTEND;TZID=America/Argentina/Buenos_Aires:20211209T210000
DTSTAMP:20260420T123716
CREATED:20211207T125017Z
LAST-MODIFIED:20211207T125415Z
UID:48928-1639076400-1639083600@www.ucsf.edu.ar
SUMMARY:Segundo Taller sobre Lactancia Materna
DESCRIPTION:El próximo jueves 9/12 a partir de las 19 hs.\, tendrá lugar -en formato virtual y gratuito- el segundo taller de lactancia materna organizado por los integrantes del proyecto de extensión “Lactancia Materna: Aportes desde la Ecología Integral”. \nEl mismo abordará el tema de los sucedáneos de la leche materna y estará a cargo de la nutricionista Sandra Maximino y la abogada Rina Coassin. \nInformes: iehyds@ucsf.edu.ar \n 
URL:https://www.ucsf.edu.ar/evento/segundo-taller-sobre-lactancia-materna/
LOCATION:UCSF Santa Fe\, Echagüe 7151\, Santa Fe\, Santa Fe\, Argentina
CATEGORIES:IEHDS Instituto de Ecología Humana y Desarrollo Sustentable
GEO:-31.6069451;-60.6709418
X-APPLE-STRUCTURED-LOCATION;VALUE=URI;X-ADDRESS=UCSF Santa Fe Echagüe 7151 Santa Fe Santa Fe Argentina;X-APPLE-RADIUS=500;X-TITLE=Echagüe 7151:geo:-60.6709418,-31.6069451
END:VEVENT
BEGIN:VEVENT
DTSTART;TZID=America/Argentina/Buenos_Aires:20211211T090000
DTEND;TZID=America/Argentina/Buenos_Aires:20211211T120000
DTSTAMP:20260420T123716
CREATED:20211210T175800Z
LAST-MODIFIED:20211210T175800Z
UID:48977-1639213200-1639224000@www.ucsf.edu.ar
SUMMARY:Retiro de Adviento
DESCRIPTION:Desde la Pastoral Universitaria queremos invitarlos a compartir un tiempo en comunidad que nos ayude a prepararnos para recibir al Niño Dios en nuestros corazones.\n\nPara ello hemos organizado un “Retiro de Adviento”\, que se llevará a cabo este Sábado 11 de diciembre de 9 a 12 hs.\, en el Jardín Margarita A. de Pautasso (Av. de los 7 Jefes 4469).\n\nSólo se necesita Biblia y equipo de mate.\n\n¡Esperamos contar con la presencia de todos!
URL:https://www.ucsf.edu.ar/evento/retiro-de-adviento/
LOCATION:UCSF Santa Fe\, Echagüe 7151\, Santa Fe\, Santa Fe\, Argentina
ATTACH;FMTTYPE=image/jpeg:https://www.ucsf.edu.ar/wp-content/uploads/2021/12/retiro-adviento-feed-01.jpg
GEO:-31.6069451;-60.6709418
X-APPLE-STRUCTURED-LOCATION;VALUE=URI;X-ADDRESS=UCSF Santa Fe Echagüe 7151 Santa Fe Santa Fe Argentina;X-APPLE-RADIUS=500;X-TITLE=Echagüe 7151:geo:-60.6709418,-31.6069451
END:VEVENT
BEGIN:VEVENT
DTSTART;TZID=America/Argentina/Buenos_Aires:20211213T093000
DTEND;TZID=America/Argentina/Buenos_Aires:20211213T110000
DTSTAMP:20260420T123716
CREATED:20211210T183339Z
LAST-MODIFIED:20211210T183339Z
UID:48979-1639387800-1639393200@www.ucsf.edu.ar
SUMMARY:Festividad de la Virgen de Guadalupe
DESCRIPTION:12 de Diciembre: Nuestra Señora de Guadalupe\n\n\n\nLa Sede Santa Fe de la UCSF lleva su nombre. Por ello el próximo Lunes 13/12 nos reuniremos a las 9.30 hs.\, en la Capilla Universitaria\, para rezar por las intenciones de nuestra Comunidad.\nComenzaremos rezando el Santo Rosario y finalizaremos con la Celebración Eucarística.
URL:https://www.ucsf.edu.ar/evento/festividad-de-la-virgen-de-guadalupe/
LOCATION:UCSF Santa Fe\, Echagüe 7151\, Santa Fe\, Santa Fe\, Argentina
ATTACH;FMTTYPE=image/jpeg:https://www.ucsf.edu.ar/wp-content/uploads/2021/12/festividad-Guadalupe-01.jpg
GEO:-31.6069451;-60.6709418
X-APPLE-STRUCTURED-LOCATION;VALUE=URI;X-ADDRESS=UCSF Santa Fe Echagüe 7151 Santa Fe Santa Fe Argentina;X-APPLE-RADIUS=500;X-TITLE=Echagüe 7151:geo:-60.6709418,-31.6069451
END:VEVENT
BEGIN:VEVENT
DTSTART;TZID=America/Argentina/Buenos_Aires:20211221T180000
DTEND;TZID=America/Argentina/Buenos_Aires:20211221T190000
DTSTAMP:20260420T123716
CREATED:20211210T122629Z
LAST-MODIFIED:20211210T122629Z
UID:48960-1640109600-1640113200@www.ucsf.edu.ar
SUMMARY:Reunión informativa Licenciatura en Administración de Empresas Digitales
DESCRIPTION:  \n \nReunión informativa de la Licenciatura en Administración de Empresas Digitales\, a realizarse vía Zoom el próximo 21 de diciembre de 2021 a las 18:00 hs. \nCompartiremos información sobre la carrera\, mostraremos clases modelo\, aulas virtuales y responderemos consultas.\n\nSi te interesa sumarte\, carga tu inscripción a través de este enlace: https://forms.office.com/r/9JVk26FD8V
URL:https://www.ucsf.edu.ar/evento/reunion-informativa-licenciatura-en-administracion-de-empresas-digitales/
LOCATION:Vía Zoom\, Argentina
CATEGORIES:Graduados,Santa Fe,Rosario,Posadas,Reconquista,Rafaela,Gualeguaychú,Sedes
ORGANIZER;CN="Licenciatura%20en%20Administraci%C3%B3n%20de%20Empresas%20Digitales":MAILTO:laed@ucsf.edu.ar
END:VEVENT
BEGIN:VEVENT
DTSTART;TZID=America/Argentina/Buenos_Aires:20211228T100000
DTEND;TZID=America/Argentina/Buenos_Aires:20211228T110000
DTSTAMP:20260420T123716
CREATED:20211217T170227Z
LAST-MODIFIED:20211217T170227Z
UID:49059-1640685600-1640689200@www.ucsf.edu.ar
SUMMARY:Misa de Navidad
DESCRIPTION:Desde el Departamento de Pastoral te queremos invitar a participar como comunidad en la “Misa de Navidad”\, que se celebrará el 28 de Diciembre\, día de la Fiesta de los Santos Inocentes. \nSe realizará en la Capilla Universitaria de la Sede Santa Fe “Virgen de Guadalupe”\, a las 10 hs. 
URL:https://www.ucsf.edu.ar/evento/misa-de-navidad/
LOCATION:Capilla UCSF Sede Santa Fe\, Echagüe 7151\, Santa Fe\, Santa Fe\, 3.000\, Argentina
ATTACH;FMTTYPE=image/jpeg:https://www.ucsf.edu.ar/wp-content/uploads/2021/12/Navidad-01.jpg
END:VEVENT
END:VCALENDAR