BEGIN:VCALENDAR
VERSION:2.0
PRODID:-//UCSF - Universidad Católica de Santa Fe - ECPv5.14.2.1//NONSGML v1.0//EN
CALSCALE:GREGORIAN
METHOD:PUBLISH
X-WR-CALNAME:UCSF - Universidad Católica de Santa Fe
X-ORIGINAL-URL:https://www.ucsf.edu.ar
X-WR-CALDESC:Events for UCSF - Universidad Católica de Santa Fe
REFRESH-INTERVAL;VALUE=DURATION:PT1H
X-Robots-Tag:noindex
X-PUBLISHED-TTL:PT1H
BEGIN:VTIMEZONE
TZID:America/Sao_Paulo
BEGIN:STANDARD
TZOFFSETFROM:-0200
TZOFFSETTO:-0300
TZNAME:-03
DTSTART:20180218T020000
END:STANDARD
BEGIN:DAYLIGHT
TZOFFSETFROM:-0300
TZOFFSETTO:-0200
TZNAME:-02
DTSTART:20181104T030000
END:DAYLIGHT
END:VTIMEZONE
BEGIN:VEVENT
DTSTART;TZID=America/Sao_Paulo:20180502T140000
DTEND;TZID=America/Sao_Paulo:20180502T160000
DTSTAMP:20260424T023911
CREATED:20180418T113031Z
LAST-MODIFIED:20180418T113031Z
UID:15758-1525269600-1525276800@www.ucsf.edu.ar
SUMMARY:Sede Reconquista-curso taller "Entramando Redes. Social Media Manager"
DESCRIPTION:Se encuentra abierta la inscripción al curso taller “Entramando Redes. Social Media Manager”\, organizado por la Facultad de Ciencias Econòmicas de la Sede Reconquista.  \nDestinatarios:\nEmpresarios\, Community Managers\, profesionales y técnicos con experiencia en el área de las comunicaciones.\nPeriodistas\, publicistas\, relacionistas públicos\, comunicadores multimedia\, ingenieros\, psicólogos\, educadores con experiencia en el área.\nProfesionales\, Asesores del sector privado o público con interés en actualizar sus conocimientos y adquirir las competencias indispensables en las estrategias y uso de redes sociales. \nModalidad de cursado:\n8 clases presenciales\, una vez por semana\, de 14 a 16 hs\, en Ludueña 612\, Reconquista\nInicia: 2 de Mayo de 2018 \nObjetivos:\nBrindar herramientas para que los participantes puedan:\nDesarrollar un plan de marketing digital.\nContar con herramientas para la implementación del plan de marketing.\nConocer las diferentes áreas\, para el armado de un departamento digital.\nReconocer los pasos del Inbound Marketing.\nConocer los objetivos de cada red social.\nImplementar la estrategia de social media\, manteniendo el concepto de omnicanalidad\, “ Para cada Canal un contenido asertivo”\nDiagnosticar el perfil del consumidor digital.\nDesarrollar transformación digital en la empresa para la cual trabajo \nContenidos:\nEconomía Digital:\n❖	 ¿Pensaste ayer como puedes hacer crecer tu negocio hoy?\n❖	Innovación Digital\n❖	Ecosistemas Digitales.\n❖	Design Thinking\n❖	Casos de Éxito en la Implantación de estrategias Digitales.\nPerfil del Consumidor Digital.\n❖	Diagnóstico y puntos claves para la segmentación.\n❖	Person Buyer.\n❖	Viaje del Cliente\, puntos de inflección\, desarrollo\, implementación\, acciones.\n❖	DAFO\n❖	Análisis del entorno digital.\n❖	Momentos del consumidor. – Micromomentos – Micromarketing.\n❖	Neuro Consumidor Digital\nContenido Digital:\n❖	¿Que es un contenido digital?\n❖	¿ Que busco comunicar?\n➢	Principio AIDA.\n➢	PIPELINE DIGITAL\n❖	Análisis de contenido. Tendencias del Mercado.\n➢	Copywriting.\n➢	Postcard\n➢	Videomarketing.\n➢	Blog.\n➢	Webinar.\n➢	Flyers.\n➢	Influenciadores.\n➢	Neurociencias del contenido digital.\n❖	Análisis de redes sociales para su implementación.\n➢	Objetivo de cada red social\n➢	Creación de Contenido Digital.\n➢	Modelo de implementación de contenido. Cronograma.\n➢	Perfil de consumidor.\n➢	Seguimiento.\n➢	KPI de las Social Media\, Interpretación.\n➢	Tendencia 2018-2020\nFactores de la Transformación Digital\n❖	 Gestión Del cambio.\n❖	Comunicación efectiva en lo entornos digitales.\n❖	Los Humanos con recursos que se necesitan para su implementación. \nConsultas e inscripciones:\nCPN Maria Laura Ocampo – e mail mlocampo.ucsf@gmail.com \nCUPOS LIMITADOS
URL:https://www.ucsf.edu.ar/evento/sede-reconquista-curso-taller-entramando-redes-social-media-manager/
LOCATION:Untitled\, Argentina
CATEGORIES:Facultades,Ciencias Económicas,Reconquista,Sedes
END:VEVENT
BEGIN:VEVENT
DTSTART;TZID=America/Sao_Paulo:20180502T140000
DTEND;TZID=America/Sao_Paulo:20180502T160000
DTSTAMP:20260424T023911
CREATED:20180418T113031Z
LAST-MODIFIED:20180418T113031Z
UID:41380-1525269600-1525276800@www.ucsf.edu.ar
SUMMARY:Sede Reconquista-curso taller "Entramando Redes. Social Media Manager"
DESCRIPTION:Se encuentra abierta la inscripción al curso taller “Entramando Redes. Social Media Manager”\, organizado por la Facultad de Ciencias Econòmicas de la Sede Reconquista.  \nDestinatarios:\nEmpresarios\, Community Managers\, profesionales y técnicos con experiencia en el área de las comunicaciones.\nPeriodistas\, publicistas\, relacionistas públicos\, comunicadores multimedia\, ingenieros\, psicólogos\, educadores con experiencia en el área.\nProfesionales\, Asesores del sector privado o público con interés en actualizar sus conocimientos y adquirir las competencias indispensables en las estrategias y uso de redes sociales. \nModalidad de cursado:\n8 clases presenciales\, una vez por semana\, de 14 a 16 hs\, en Ludueña 612\, Reconquista\nInicia: 2 de Mayo de 2018 \nObjetivos:\nBrindar herramientas para que los participantes puedan:\nDesarrollar un plan de marketing digital.\nContar con herramientas para la implementación del plan de marketing.\nConocer las diferentes áreas\, para el armado de un departamento digital.\nReconocer los pasos del Inbound Marketing.\nConocer los objetivos de cada red social.\nImplementar la estrategia de social media\, manteniendo el concepto de omnicanalidad\, “ Para cada Canal un contenido asertivo”\nDiagnosticar el perfil del consumidor digital.\nDesarrollar transformación digital en la empresa para la cual trabajo \nContenidos:\nEconomía Digital:\n❖	 ¿Pensaste ayer como puedes hacer crecer tu negocio hoy?\n❖	Innovación Digital\n❖	Ecosistemas Digitales.\n❖	Design Thinking\n❖	Casos de Éxito en la Implantación de estrategias Digitales.\nPerfil del Consumidor Digital.\n❖	Diagnóstico y puntos claves para la segmentación.\n❖	Person Buyer.\n❖	Viaje del Cliente\, puntos de inflección\, desarrollo\, implementación\, acciones.\n❖	DAFO\n❖	Análisis del entorno digital.\n❖	Momentos del consumidor. – Micromomentos – Micromarketing.\n❖	Neuro Consumidor Digital\nContenido Digital:\n❖	¿Que es un contenido digital?\n❖	¿ Que busco comunicar?\n➢	Principio AIDA.\n➢	PIPELINE DIGITAL\n❖	Análisis de contenido. Tendencias del Mercado.\n➢	Copywriting.\n➢	Postcard\n➢	Videomarketing.\n➢	Blog.\n➢	Webinar.\n➢	Flyers.\n➢	Influenciadores.\n➢	Neurociencias del contenido digital.\n❖	Análisis de redes sociales para su implementación.\n➢	Objetivo de cada red social\n➢	Creación de Contenido Digital.\n➢	Modelo de implementación de contenido. Cronograma.\n➢	Perfil de consumidor.\n➢	Seguimiento.\n➢	KPI de las Social Media\, Interpretación.\n➢	Tendencia 2018-2020\nFactores de la Transformación Digital\n❖	 Gestión Del cambio.\n❖	Comunicación efectiva en lo entornos digitales.\n❖	Los Humanos con recursos que se necesitan para su implementación. \nConsultas e inscripciones:\nCPN Maria Laura Ocampo – e mail mlocampo.ucsf@gmail.com \nCUPOS LIMITADOS
URL:https://www.ucsf.edu.ar/evento/sede-reconquista-curso-taller-entramando-redes-social-media-manager-2/
LOCATION:Untitled\, Argentina
CATEGORIES:Facultades,Ciencias Económicas,Reconquista,Sedes
END:VEVENT
BEGIN:VEVENT
DTSTART;TZID=America/Sao_Paulo:20180503T180000
DTEND;TZID=America/Sao_Paulo:20180503T200000
DTSTAMP:20260424T023911
CREATED:20180417T201205Z
LAST-MODIFIED:20180417T201205Z
UID:15754-1525370400-1525377600@www.ucsf.edu.ar
SUMMARY:Presentación Instituto de Ecología Humana y Desarrollo Sustentable
DESCRIPTION:
URL:https://www.ucsf.edu.ar/evento/presentacion-instituto-de-ecologia-humana-y-desarrollo-sustentable/
LOCATION:UCSF Santa Fe\, Echagüe 7151\, Santa Fe\, Santa Fe\, Argentina
CATEGORIES:Home principal,Santa Fe,Facultades,Licenciatura en Bioimágenes,Licenciatura en Gerontología (CCC),Ciencias de la Salud,Carreras de Grado,Farmacia,Licenciatura en Enfermería,Sedes,Licenciatura en Fonoaudiología,IEHDS Instituto de Ecología Humana y Desarrollo Sustentable,Institutos,Licenciatura en Nutrición,Licenciatura en Obstetricia,Licenciatura en Terapia Ocupacional
GEO:-31.6069451;-60.6709418
X-APPLE-STRUCTURED-LOCATION;VALUE=URI;X-ADDRESS=UCSF Santa Fe Echagüe 7151 Santa Fe Santa Fe Argentina;X-APPLE-RADIUS=500;X-TITLE=Echagüe 7151:geo:-60.6709418,-31.6069451
END:VEVENT
BEGIN:VEVENT
DTSTART;TZID=America/Sao_Paulo:20180503T180000
DTEND;TZID=America/Sao_Paulo:20180503T200000
DTSTAMP:20260424T023911
CREATED:20180417T201205Z
LAST-MODIFIED:20180417T201205Z
UID:41379-1525370400-1525377600@www.ucsf.edu.ar
SUMMARY:Presentación Instituto de Ecología Humana y Desarrollo Sustentable
DESCRIPTION:
URL:https://www.ucsf.edu.ar/evento/presentacion-instituto-de-ecologia-humana-y-desarrollo-sustentable-2/
LOCATION:UCSF Santa Fe\, Echagüe 7151\, Santa Fe\, Santa Fe\, Argentina
CATEGORIES:Home principal,Santa Fe,Facultades,Licenciatura en Bioimágenes,Licenciatura en Gerontología (CCC),Ciencias de la Salud,Carreras de Grado,Farmacia,Licenciatura en Enfermería,Sedes,Licenciatura en Fonoaudiología,IEHDS Instituto de Ecología Humana y Desarrollo Sustentable,Institutos,Licenciatura en Nutrición,Licenciatura en Obstetricia,Licenciatura en Terapia Ocupacional
GEO:-31.6069451;-60.6709418
X-APPLE-STRUCTURED-LOCATION;VALUE=URI;X-ADDRESS=UCSF Santa Fe Echagüe 7151 Santa Fe Santa Fe Argentina;X-APPLE-RADIUS=500;X-TITLE=Echagüe 7151:geo:-60.6709418,-31.6069451
END:VEVENT
BEGIN:VEVENT
DTSTART;TZID=America/Sao_Paulo:20180504T180000
DTEND;TZID=America/Sao_Paulo:20180504T200000
DTSTAMP:20260424T023911
CREATED:20180305T133925Z
LAST-MODIFIED:20180305T133925Z
UID:15183-1525456800-1525464000@www.ucsf.edu.ar
SUMMARY:Acto de Colación Sede Rafaela
DESCRIPTION:
URL:https://www.ucsf.edu.ar/evento/acto-de-colacion-sede-rafaela/
CATEGORIES:Home principal,Arquitectura y Diseño,Facultades,Rafaela,Sedes
END:VEVENT
BEGIN:VEVENT
DTSTART;TZID=America/Sao_Paulo:20180504T180000
DTEND;TZID=America/Sao_Paulo:20180504T200000
DTSTAMP:20260424T023911
CREATED:20180305T133925Z
LAST-MODIFIED:20180305T133925Z
UID:41362-1525456800-1525464000@www.ucsf.edu.ar
SUMMARY:Acto de Colación Sede Rafaela
DESCRIPTION:
URL:https://www.ucsf.edu.ar/evento/acto-de-colacion-sede-rafaela-3/
CATEGORIES:Home principal,Arquitectura y Diseño,Facultades,Rafaela,Sedes
END:VEVENT
END:VCALENDAR