BEGIN:VCALENDAR
VERSION:2.0
PRODID:-//UCSF - Universidad Católica de Santa Fe - ECPv5.14.2.1//NONSGML v1.0//EN
CALSCALE:GREGORIAN
METHOD:PUBLISH
X-WR-CALNAME:UCSF - Universidad Católica de Santa Fe
X-ORIGINAL-URL:https://www.ucsf.edu.ar
X-WR-CALDESC:Events for UCSF - Universidad Católica de Santa Fe
REFRESH-INTERVAL;VALUE=DURATION:PT1H
X-Robots-Tag:noindex
X-PUBLISHED-TTL:PT1H
BEGIN:VTIMEZONE
TZID:America/Sao_Paulo
BEGIN:STANDARD
TZOFFSETFROM:-0200
TZOFFSETTO:-0300
TZNAME:-03
DTSTART:20180218T020000
END:STANDARD
BEGIN:DAYLIGHT
TZOFFSETFROM:-0300
TZOFFSETTO:-0200
TZNAME:-02
DTSTART:20181104T030000
END:DAYLIGHT
END:VTIMEZONE
BEGIN:VEVENT
DTSTART;TZID=America/Sao_Paulo:20180517T160000
DTEND;TZID=America/Sao_Paulo:20180517T180000
DTSTAMP:20260424T064507
CREATED:20180508T174800Z
LAST-MODIFIED:20180508T174955Z
UID:16196-1526572800-1526580000@www.ucsf.edu.ar
SUMMARY:Clase Preuniversitaria de Lic. en Psicología
DESCRIPTION:Si estás pensando en estudiar Psicología\, te invitamos a esta Clase Preuniversitaria.
URL:https://www.ucsf.edu.ar/evento/clase-preuniversitaria-de-lic-en-psicologia/
LOCATION:UCSF Santa Fe\, Echagüe 7151\, Santa Fe\, Santa Fe\, Argentina
CATEGORIES:Santa Fe,Facultades,Carreras de Grado,Psicología,Sedes,Licenciatura en Psicología
GEO:-31.6069451;-60.6709418
X-APPLE-STRUCTURED-LOCATION;VALUE=URI;X-ADDRESS=UCSF Santa Fe Echagüe 7151 Santa Fe Santa Fe Argentina;X-APPLE-RADIUS=500;X-TITLE=Echagüe 7151:geo:-60.6709418,-31.6069451
END:VEVENT
BEGIN:VEVENT
DTSTART;TZID=America/Sao_Paulo:20180517T160000
DTEND;TZID=America/Sao_Paulo:20180517T180000
DTSTAMP:20260424T064507
CREATED:20180508T174800Z
LAST-MODIFIED:20180508T174800Z
UID:41391-1526572800-1526580000@www.ucsf.edu.ar
SUMMARY:Clase Preuniversitaria de Lic. en Psicología
DESCRIPTION:Si estás pensando en estudiar Psicología\, te invitamos a esta Clase Preuniversitaria.
URL:https://www.ucsf.edu.ar/evento/clase-preuniversitaria-de-lic-en-psicologia-2/
LOCATION:UCSF Santa Fe\, Echagüe 7151\, Santa Fe\, Santa Fe\, Argentina
CATEGORIES:Santa Fe,Facultades,Carreras de Grado,Psicología,Sedes,Licenciatura en Psicología
GEO:-31.6069451;-60.6709418
X-APPLE-STRUCTURED-LOCATION;VALUE=URI;X-ADDRESS=UCSF Santa Fe Echagüe 7151 Santa Fe Santa Fe Argentina;X-APPLE-RADIUS=500;X-TITLE=Echagüe 7151:geo:-60.6709418,-31.6069451
END:VEVENT
BEGIN:VEVENT
DTSTART;TZID=America/Sao_Paulo:20180517T180000
DTEND;TZID=America/Sao_Paulo:20180517T200000
DTSTAMP:20260424T064507
CREATED:20180508T183144Z
LAST-MODIFIED:20180508T183849Z
UID:16197-1526580000-1526587200@www.ucsf.edu.ar
SUMMARY:Clase Preuniversitaria de Diseño Industrial "Diseñando el Futuro"
DESCRIPTION:Si estás pensando en estudiar Diseño Industrial\, te invitamos a esta Clase Preuniversitaria
URL:https://www.ucsf.edu.ar/evento/clase-preuniversitaria-de-diseno-industrial-disenando-el-futuroo/
LOCATION:UCSF Santa Fe\, Echagüe 7151\, Santa Fe\, Santa Fe\, Argentina
CATEGORIES:Arquitectura y Diseño,Santa Fe,Facultades,Sedes,Licenciatura en Diseño Industrial
ORGANIZER;CN="Ingreso":MAILTO:promocion@ucsf.edu.ar
GEO:-31.6069451;-60.6709418
X-APPLE-STRUCTURED-LOCATION;VALUE=URI;X-ADDRESS=UCSF Santa Fe Echagüe 7151 Santa Fe Santa Fe Argentina;X-APPLE-RADIUS=500;X-TITLE=Echagüe 7151:geo:-60.6709418,-31.6069451
END:VEVENT
BEGIN:VEVENT
DTSTART;TZID=America/Sao_Paulo:20180517T180000
DTEND;TZID=America/Sao_Paulo:20180517T200000
DTSTAMP:20260424T064507
CREATED:20180508T183144Z
LAST-MODIFIED:20180508T183144Z
UID:41392-1526580000-1526587200@www.ucsf.edu.ar
SUMMARY:Clase Preuniversitaria de Diseño Industrial "Diseñando el Futuro"
DESCRIPTION:Si estás pensando en estudiar Diseño Industrial\, te invitamos a esta Clase Preuniversitaria
URL:https://www.ucsf.edu.ar/evento/clase-preuniversitaria-de-diseno-industrial-disenando-el-futuroo-2/
LOCATION:UCSF Santa Fe\, Echagüe 7151\, Santa Fe\, Santa Fe\, Argentina
CATEGORIES:Arquitectura y Diseño,Santa Fe,Facultades,Sedes,Licenciatura en Diseño Industrial
ORGANIZER;CN="Ingreso":MAILTO:promocion@ucsf.edu.ar
GEO:-31.6069451;-60.6709418
X-APPLE-STRUCTURED-LOCATION;VALUE=URI;X-ADDRESS=UCSF Santa Fe Echagüe 7151 Santa Fe Santa Fe Argentina;X-APPLE-RADIUS=500;X-TITLE=Echagüe 7151:geo:-60.6709418,-31.6069451
END:VEVENT
BEGIN:VEVENT
DTSTART;TZID=America/Sao_Paulo:20180518T140000
DTEND;TZID=America/Sao_Paulo:20180518T190000
DTSTAMP:20260424T064507
CREATED:20180509T153309Z
LAST-MODIFIED:20180509T153309Z
UID:41393-1526652000-1526670000@www.ucsf.edu.ar
SUMMARY:Diplomatura en Abordaje clínico y social de la Discapacidad
DESCRIPTION:La intención de la presente Diplomatura es generar una postura crítica sobre estos saberes\, interrogando y reconstruyendo sus fundamentos para llegar a una verdad: “la que viven de forma cotidiana el colectivo de personas con discapacidad”. De esta manera\, será posible delimitar desde un lugar ético la función y el rol del profesional que actúe en este campo.\nEstamos presentes ante un nuevo contexto de la discapacidad\, el cual nos muestra un cambio en cuanto a las conceptualizaciones y abordajes a realizar\, por lo tanto\, será preciso revisar las prácticas clínicas-terapéuticas y sociales que se desplieguen en este campo. Esta será nuestra apuesta.
URL:https://www.ucsf.edu.ar/evento/diplomatura-discapacidad-6/
LOCATION:UCSF Santa Fe\, Echagüe 7151\, Santa Fe\, Santa Fe\, Argentina
CATEGORIES:Facultades,Licenciatura en Psicopedagogía
GEO:-31.6069451;-60.6709418
X-APPLE-STRUCTURED-LOCATION;VALUE=URI;X-ADDRESS=UCSF Santa Fe Echagüe 7151 Santa Fe Santa Fe Argentina;X-APPLE-RADIUS=500;X-TITLE=Echagüe 7151:geo:-60.6709418,-31.6069451
END:VEVENT
BEGIN:VEVENT
DTSTART;TZID=America/Sao_Paulo:20180518T140000
DTEND;TZID=America/Sao_Paulo:20180518T190000
DTSTAMP:20260424T064507
CREATED:20180509T153309Z
LAST-MODIFIED:20180509T153309Z
UID:16204-1526652000-1526670000@www.ucsf.edu.ar
SUMMARY:Diplomatura en Abordaje clínico y social de la Discapacidad
DESCRIPTION:La intención de la presente Diplomatura es generar una postura crítica sobre estos saberes\, interrogando y reconstruyendo sus fundamentos para llegar a una verdad: “la que viven de forma cotidiana el colectivo de personas con discapacidad”. De esta manera\, será posible delimitar desde un lugar ético la función y el rol del profesional que actúe en este campo.\nEstamos presentes ante un nuevo contexto de la discapacidad\, el cual nos muestra un cambio en cuanto a las conceptualizaciones y abordajes a realizar\, por lo tanto\, será preciso revisar las prácticas clínicas-terapéuticas y sociales que se desplieguen en este campo. Esta será nuestra apuesta.
URL:https://www.ucsf.edu.ar/evento/diplomatura-discapacidad/
LOCATION:UCSF Santa Fe\, Echagüe 7151\, Santa Fe\, Santa Fe\, Argentina
CATEGORIES:Facultades,Licenciatura en Psicopedagogía
GEO:-31.6069451;-60.6709418
X-APPLE-STRUCTURED-LOCATION;VALUE=URI;X-ADDRESS=UCSF Santa Fe Echagüe 7151 Santa Fe Santa Fe Argentina;X-APPLE-RADIUS=500;X-TITLE=Echagüe 7151:geo:-60.6709418,-31.6069451
END:VEVENT
BEGIN:VEVENT
DTSTART;TZID=America/Sao_Paulo:20180519T080000
DTEND;TZID=America/Sao_Paulo:20180519T120000
DTSTAMP:20260424T064507
CREATED:20180504T160302Z
LAST-MODIFIED:20180505T133317Z
UID:16144-1526716800-1526731200@www.ucsf.edu.ar
SUMMARY:Curso de Organización y Gestión del Conocimiento para la Investigación Académica.
DESCRIPTION: 
URL:https://www.ucsf.edu.ar/evento/curso-de-organizacion-y-gestion-del-conocimiento-para-la-investigacion-academica/
LOCATION:UCSF Santa Fe\, Echagüe 7151\, Santa Fe\, Santa Fe\, Argentina
CATEGORIES:Santa Fe,Facultades,PUA, Programa Universidad Abierta,Ciencias de la Salud,Carreras de Grado,Licenciatura en Bioimágenes,Licenciatura en Gerontología (CCC),Rafaela,Licenciatura en Enfermería,Sedes,IEHDS Instituto de Ecología Humana y Desarrollo Sustentable,Licenciatura en Fonoaudiología,Institutos,Licenciatura en Kinesiología y Fisioterapia,Licenciatura en Nutrición,Licenciatura en Obstetricia,Licenciatura en Terapia Ocupacional,IIFCS Instituto de Investigación de la Facultad de Ciencias de la Salud
GEO:-31.6069451;-60.6709418
X-APPLE-STRUCTURED-LOCATION;VALUE=URI;X-ADDRESS=UCSF Santa Fe Echagüe 7151 Santa Fe Santa Fe Argentina;X-APPLE-RADIUS=500;X-TITLE=Echagüe 7151:geo:-60.6709418,-31.6069451
END:VEVENT
BEGIN:VEVENT
DTSTART;TZID=America/Sao_Paulo:20180519T080000
DTEND;TZID=America/Sao_Paulo:20180519T120000
DTSTAMP:20260424T064507
CREATED:20180504T160302Z
LAST-MODIFIED:20180504T160302Z
UID:41384-1526716800-1526731200@www.ucsf.edu.ar
SUMMARY:Curso de Organización y Gestión del Conocimiento para la Investigación Académica.
DESCRIPTION: 
URL:https://www.ucsf.edu.ar/evento/curso-de-organizacion-y-gestion-del-conocimiento-para-la-investigacion-academica-2/
LOCATION:UCSF Santa Fe\, Echagüe 7151\, Santa Fe\, Santa Fe\, Argentina
CATEGORIES:Santa Fe,Facultades,PUA, Programa Universidad Abierta,Ciencias de la Salud,Carreras de Grado,Licenciatura en Bioimágenes,Licenciatura en Gerontología (CCC),Rafaela,Licenciatura en Enfermería,Sedes,IEHDS Instituto de Ecología Humana y Desarrollo Sustentable,Licenciatura en Fonoaudiología,Institutos,Licenciatura en Kinesiología y Fisioterapia,Licenciatura en Nutrición,Licenciatura en Obstetricia,Licenciatura en Terapia Ocupacional,IIFCS Instituto de Investigación de la Facultad de Ciencias de la Salud
GEO:-31.6069451;-60.6709418
X-APPLE-STRUCTURED-LOCATION;VALUE=URI;X-ADDRESS=UCSF Santa Fe Echagüe 7151 Santa Fe Santa Fe Argentina;X-APPLE-RADIUS=500;X-TITLE=Echagüe 7151:geo:-60.6709418,-31.6069451
END:VEVENT
END:VCALENDAR