BEGIN:VCALENDAR
VERSION:2.0
PRODID:-//UCSF - Universidad Católica de Santa Fe - ECPv5.14.2.1//NONSGML v1.0//EN
CALSCALE:GREGORIAN
METHOD:PUBLISH
X-WR-CALNAME:UCSF - Universidad Católica de Santa Fe
X-ORIGINAL-URL:https://www.ucsf.edu.ar
X-WR-CALDESC:Events for UCSF - Universidad Católica de Santa Fe
REFRESH-INTERVAL;VALUE=DURATION:PT1H
X-Robots-Tag:noindex
X-PUBLISHED-TTL:PT1H
BEGIN:VTIMEZONE
TZID:America/Sao_Paulo
BEGIN:STANDARD
TZOFFSETFROM:-0200
TZOFFSETTO:-0300
TZNAME:-03
DTSTART:20180218T020000
END:STANDARD
BEGIN:DAYLIGHT
TZOFFSETFROM:-0300
TZOFFSETTO:-0200
TZNAME:-02
DTSTART:20181104T030000
END:DAYLIGHT
END:VTIMEZONE
BEGIN:VEVENT
DTSTART;TZID=America/Sao_Paulo:20180612T180000
DTEND;TZID=America/Sao_Paulo:20180612T200000
DTSTAMP:20260424T064644
CREATED:20180305T140448Z
LAST-MODIFIED:20180515T151311Z
UID:15189-1528826400-1528833600@www.ucsf.edu.ar
SUMMARY:Acto de Colación Sede Santos Mártires - Posadas
DESCRIPTION:
URL:https://www.ucsf.edu.ar/evento/acto-de-colacion-sede-santos-martires-posadas/
LOCATION:UCSF Sede Santos Mártires – Posadas\, Rademacher 3943\, Posadas\, Misiones\, Argentina
CATEGORIES:Arquitectura y Diseño,Home principal,Facultades,Posadas,Derecho y Ciencia Política,Sedes
GEO:-27.3859693;-55.896416
X-APPLE-STRUCTURED-LOCATION;VALUE=URI;X-ADDRESS=UCSF Sede Santos Mártires – Posadas Rademacher 3943 Posadas Misiones Argentina;X-APPLE-RADIUS=500;X-TITLE=Rademacher 3943:geo:-55.896416,-27.3859693
END:VEVENT
BEGIN:VEVENT
DTSTART;TZID=America/Sao_Paulo:20180612T180000
DTEND;TZID=America/Sao_Paulo:20180612T200000
DTSTAMP:20260424T064644
CREATED:20180305T140448Z
LAST-MODIFIED:20180305T140448Z
UID:41364-1528826400-1528833600@www.ucsf.edu.ar
SUMMARY:Acto de Colación Sede Santos Mártires - Posadas
DESCRIPTION:
URL:https://www.ucsf.edu.ar/evento/acto-de-colacion-sede-santos-martires-posadas-2/
LOCATION:UCSF Sede Santos Mártires – Posadas\, Rademacher 3943\, Posadas\, Misiones\, Argentina
CATEGORIES:Arquitectura y Diseño,Home principal,Facultades,Posadas,Sedes
GEO:-27.3859693;-55.896416
X-APPLE-STRUCTURED-LOCATION;VALUE=URI;X-ADDRESS=UCSF Sede Santos Mártires – Posadas Rademacher 3943 Posadas Misiones Argentina;X-APPLE-RADIUS=500;X-TITLE=Rademacher 3943:geo:-55.896416,-27.3859693
END:VEVENT
BEGIN:VEVENT
DTSTART;TZID=America/Sao_Paulo:20180613T083000
DTEND;TZID=America/Sao_Paulo:20180613T140000
DTSTAMP:20260424T064644
CREATED:20180528T183051Z
LAST-MODIFIED:20180528T183531Z
UID:16424-1528878600-1528898400@www.ucsf.edu.ar
SUMMARY:Certamen literario de narrativa breve Lermo Rafael Balbi
DESCRIPTION:El Taller Literario San Lucas de la UCSF invita a  todos los estudiantes de la UCSF a participar de la XIV edición del Certamen literario de narrativa breve Lermo Rafael Balbi\, a realizarse el miércoles 13 de junio\, de 8:30 a 14 hs. en la Biblioteca de la Universidad. \nEn esta oportunidad se homenajeará al escritor al argentino Manuel Mujica Láinez.
URL:https://www.ucsf.edu.ar/evento/certamen-literario-de-narrativa-breve-lermo-rafael-balbi/
LOCATION:UCSF Santa Fe\, Echagüe 7151\, Santa Fe\, Santa Fe\, Argentina
GEO:-31.6069451;-60.6709418
X-APPLE-STRUCTURED-LOCATION;VALUE=URI;X-ADDRESS=UCSF Santa Fe Echagüe 7151 Santa Fe Santa Fe Argentina;X-APPLE-RADIUS=500;X-TITLE=Echagüe 7151:geo:-60.6709418,-31.6069451
END:VEVENT
BEGIN:VEVENT
DTSTART;TZID=America/Sao_Paulo:20180613T083000
DTEND;TZID=America/Sao_Paulo:20180613T140000
DTSTAMP:20260424T064644
CREATED:20180528T183051Z
LAST-MODIFIED:20180528T183051Z
UID:41407-1528878600-1528898400@www.ucsf.edu.ar
SUMMARY:Certamen literario de narrativa breve Lermo Rafael Balbi
DESCRIPTION:El Taller Literario San Lucas de la UCSF invita a  todos los estudiantes de la UCSF a participar de la XIV edición del Certamen literario de narrativa breve Lermo Rafael Balbi\, a realizarse el miércoles 13 de junio\, de 8:30 a 14 hs. en la Biblioteca de la Universidad. \nEn esta oportunidad se homenajeará al escritor al argentino Manuel Mujica Láinez.
URL:https://www.ucsf.edu.ar/evento/certamen-literario-de-narrativa-breve-lermo-rafael-balbi-2/
LOCATION:UCSF Santa Fe\, Echagüe 7151\, Santa Fe\, Santa Fe\, Argentina
GEO:-31.6069451;-60.6709418
X-APPLE-STRUCTURED-LOCATION;VALUE=URI;X-ADDRESS=UCSF Santa Fe Echagüe 7151 Santa Fe Santa Fe Argentina;X-APPLE-RADIUS=500;X-TITLE=Echagüe 7151:geo:-60.6709418,-31.6069451
END:VEVENT
BEGIN:VEVENT
DTSTART;TZID=America/Sao_Paulo:20180613T160000
DTEND;TZID=America/Sao_Paulo:20180613T170000
DTSTAMP:20260424T064644
CREATED:20180508T132114Z
LAST-MODIFIED:20180608T152352Z
UID:16181-1528905600-1528909200@www.ucsf.edu.ar
SUMMARY:Rafaela Terapia Ocupacional: Clase preuniversitaria. Te esperamos!
DESCRIPTION:  \nOtorga Titulo Universitario intermedio\, con validez nacional\, de \nAcompañante Terapéutico Ocupacional!
URL:https://www.ucsf.edu.ar/evento/rafaela-terapia-ocupacional-clase-preuniversitaria-te-esperamos/
CATEGORIES:Facultades,PUA, Programa Universidad Abierta,Santa Fe,Ciencias de la Salud,Carreras de Grado,Licenciatura en Bioimágenes,Licenciatura en Gerontología (CCC),Licenciatura en Enfermería,Rafaela,Sedes,Licenciatura en Fonoaudiología,IEHDS Instituto de Ecología Humana y Desarrollo Sustentable,Institutos,Licenciatura en Kinesiología y Fisioterapia,Licenciatura en Nutrición,Licenciatura en Obstetricia,Licenciatura en Terapia Ocupacional,IIFCS Instituto de Investigación de la Facultad de Ciencias de la Salud
END:VEVENT
BEGIN:VEVENT
DTSTART;TZID=America/Sao_Paulo:20180613T160000
DTEND;TZID=America/Sao_Paulo:20180613T170000
DTSTAMP:20260424T064644
CREATED:20180508T132114Z
LAST-MODIFIED:20180508T132114Z
UID:41386-1528905600-1528909200@www.ucsf.edu.ar
SUMMARY:Rafaela Terapia Ocupacional: Clase preuniversitaria. Te esperamos!
DESCRIPTION:  \nOtorga Titulo Universitario intermedio\, con validez nacional\, de \nAcompañante Terapéutico Ocupacional!
URL:https://www.ucsf.edu.ar/evento/rafaela-terapia-ocupacional-clase-preuniversitaria-te-esperamos-2/
CATEGORIES:Facultades,PUA, Programa Universidad Abierta,Santa Fe,Ciencias de la Salud,Carreras de Grado,Licenciatura en Bioimágenes,Licenciatura en Gerontología (CCC),Licenciatura en Enfermería,Rafaela,Sedes,Licenciatura en Fonoaudiología,IEHDS Instituto de Ecología Humana y Desarrollo Sustentable,Institutos,Licenciatura en Kinesiología y Fisioterapia,Licenciatura en Nutrición,Licenciatura en Obstetricia,Licenciatura en Terapia Ocupacional,IIFCS Instituto de Investigación de la Facultad de Ciencias de la Salud
END:VEVENT
BEGIN:VEVENT
DTSTART;TZID=America/Sao_Paulo:20180614T180000
DTEND;TZID=America/Sao_Paulo:20180614T200000
DTSTAMP:20260424T064644
CREATED:20180305T140035Z
LAST-MODIFIED:20180515T151207Z
UID:15187-1528999200-1529006400@www.ucsf.edu.ar
SUMMARY:Acto de Colación Sede Gualeguaychú
DESCRIPTION:
URL:https://www.ucsf.edu.ar/evento/acto-de-colacion-sede-gualeguaychu/
LOCATION:UCSF Sede Gualeguaychú\, Primera Junta 75\, Gualeguaychú\, Entre Ríos\, Argentina
CATEGORIES:Home principal,Facultades,Ciencias Económicas,Gualeguaychú,Sedes
END:VEVENT
BEGIN:VEVENT
DTSTART;TZID=America/Sao_Paulo:20180614T180000
DTEND;TZID=America/Sao_Paulo:20180614T200000
DTSTAMP:20260424T064644
CREATED:20180305T140035Z
LAST-MODIFIED:20180305T140035Z
UID:41363-1528999200-1529006400@www.ucsf.edu.ar
SUMMARY:Acto de Colación Sede Gualeguaychú
DESCRIPTION:
URL:https://www.ucsf.edu.ar/evento/acto-de-colacion-sede-gualeguaychu-3/
LOCATION:UCSF Sede Gualeguaychú\, Primera Junta 75\, Gualeguaychú\, Entre Ríos\, Argentina
CATEGORIES:Home principal,Facultades,Ciencias Económicas,Gualeguaychú,Sedes
END:VEVENT
BEGIN:VEVENT
DTSTART;TZID=America/Sao_Paulo:20180615T140000
DTEND;TZID=America/Sao_Paulo:20180615T190000
DTSTAMP:20260424T064644
CREATED:20180509T153626Z
LAST-MODIFIED:20180509T153626Z
UID:16205-1529071200-1529089200@www.ucsf.edu.ar
SUMMARY:Diplomatura en Abordaje clínico y social de la Discapacidad
DESCRIPTION:La intención de la presente Diplomatura es generar una postura crítica sobre estos saberes\, interrogando y reconstruyendo sus fundamentos para llegar a una verdad: “la que viven de forma cotidiana el colectivo de personas con discapacidad”. De esta manera\, será posible delimitar desde un lugar ético la función y el rol del profesional que actúe en este campo.\nEstamos presentes ante un nuevo contexto de la discapacidad\, el cual nos muestra un cambio en cuanto a las conceptualizaciones y abordajes a realizar\, por lo tanto\, será preciso revisar las prácticas clínicas-terapéuticas y sociales que se desplieguen en este campo. Esta será nuestra apuesta.
URL:https://www.ucsf.edu.ar/evento/diplomatura-discapacidad-2/
LOCATION:UCSF Santa Fe\, Echagüe 7151\, Santa Fe\, Santa Fe\, Argentina
CATEGORIES:Facultades,Licenciatura en Psicopedagogía
GEO:-31.6069451;-60.6709418
X-APPLE-STRUCTURED-LOCATION;VALUE=URI;X-ADDRESS=UCSF Santa Fe Echagüe 7151 Santa Fe Santa Fe Argentina;X-APPLE-RADIUS=500;X-TITLE=Echagüe 7151:geo:-60.6709418,-31.6069451
END:VEVENT
BEGIN:VEVENT
DTSTART;TZID=America/Sao_Paulo:20180615T140000
DTEND;TZID=America/Sao_Paulo:20180615T190000
DTSTAMP:20260424T064644
CREATED:20180509T153626Z
LAST-MODIFIED:20180509T153626Z
UID:41394-1529071200-1529089200@www.ucsf.edu.ar
SUMMARY:Diplomatura en Abordaje clínico y social de la Discapacidad
DESCRIPTION:La intención de la presente Diplomatura es generar una postura crítica sobre estos saberes\, interrogando y reconstruyendo sus fundamentos para llegar a una verdad: “la que viven de forma cotidiana el colectivo de personas con discapacidad”. De esta manera\, será posible delimitar desde un lugar ético la función y el rol del profesional que actúe en este campo.\nEstamos presentes ante un nuevo contexto de la discapacidad\, el cual nos muestra un cambio en cuanto a las conceptualizaciones y abordajes a realizar\, por lo tanto\, será preciso revisar las prácticas clínicas-terapéuticas y sociales que se desplieguen en este campo. Esta será nuestra apuesta.
URL:https://www.ucsf.edu.ar/evento/diplomatura-discapacidad-2-2/
LOCATION:UCSF Santa Fe\, Echagüe 7151\, Santa Fe\, Santa Fe\, Argentina
CATEGORIES:Facultades,Licenciatura en Psicopedagogía
GEO:-31.6069451;-60.6709418
X-APPLE-STRUCTURED-LOCATION;VALUE=URI;X-ADDRESS=UCSF Santa Fe Echagüe 7151 Santa Fe Santa Fe Argentina;X-APPLE-RADIUS=500;X-TITLE=Echagüe 7151:geo:-60.6709418,-31.6069451
END:VEVENT
END:VCALENDAR