BEGIN:VCALENDAR
VERSION:2.0
PRODID:-//UCSF - Universidad Católica de Santa Fe - ECPv5.14.2.1//NONSGML v1.0//EN
CALSCALE:GREGORIAN
METHOD:PUBLISH
X-WR-CALNAME:UCSF - Universidad Católica de Santa Fe
X-ORIGINAL-URL:https://www.ucsf.edu.ar
X-WR-CALDESC:Events for UCSF - Universidad Católica de Santa Fe
REFRESH-INTERVAL;VALUE=DURATION:PT1H
X-Robots-Tag:noindex
X-PUBLISHED-TTL:PT1H
BEGIN:VTIMEZONE
TZID:America/Sao_Paulo
BEGIN:STANDARD
TZOFFSETFROM:-0200
TZOFFSETTO:-0300
TZNAME:-03
DTSTART:20180218T020000
END:STANDARD
BEGIN:DAYLIGHT
TZOFFSETFROM:-0300
TZOFFSETTO:-0200
TZNAME:-02
DTSTART:20181104T030000
END:DAYLIGHT
END:VTIMEZONE
BEGIN:VEVENT
DTSTART;TZID=America/Sao_Paulo:20180627T160000
DTEND;TZID=America/Sao_Paulo:20180627T170000
DTSTAMP:20260424T023837
CREATED:20180606T184617Z
LAST-MODIFIED:20180621T124445Z
UID:16549-1530115200-1530118800@www.ucsf.edu.ar
SUMMARY:Rosario: Obstetricia. Clase preuniversitaria ingreso 2019. Vivi la Universidad.
DESCRIPTION:  \n  \nTe invitamos a participar de una actividad especialmente preparada para vos! La idea es que puedas conocer más sobre la carrera de Licenciatura en Obstetricia! \n  \n \n 
URL:https://www.ucsf.edu.ar/evento/rosario-obstetricia-clase-preuniversitaria-ingreso-2019-vivi-la-universidad/
LOCATION:UCSF Sede Rosario\, Moreno 1056\, Rosario\, Santa Fe\, 2000\, Argentina
CATEGORIES:Santa Fe,Facultades,Ciencias de la Salud,Rafaela,Sedes,Licenciatura en Obstetricia
GEO:-32.9491666;-60.6519119
X-APPLE-STRUCTURED-LOCATION;VALUE=URI;X-ADDRESS=UCSF Sede Rosario Moreno 1056 Rosario Santa Fe 2000 Argentina;X-APPLE-RADIUS=500;X-TITLE=Moreno 1056:geo:-60.6519119,-32.9491666
END:VEVENT
BEGIN:VEVENT
DTSTART;TZID=America/Sao_Paulo:20180627T160000
DTEND;TZID=America/Sao_Paulo:20180627T170000
DTSTAMP:20260424T023837
CREATED:20180606T184617Z
LAST-MODIFIED:20180606T184617Z
UID:41410-1530115200-1530118800@www.ucsf.edu.ar
SUMMARY:Rosario: Obstetricia. Clase preuniversitaria ingreso 2019. Vivi la Universidad.
DESCRIPTION:  \n  \nTe invitamos a participar de una actividad especialmente preparada para vos! La idea es que puedas conocer más sobre la carrera de Licenciatura en Obstetricia! \n  \n \n 
URL:https://www.ucsf.edu.ar/evento/rosario-obstetricia-clase-preuniversitaria-ingreso-2019-vivi-la-universidad-2/
LOCATION:UCSF Sede Rosario\, Moreno 1056\, Rosario\, Santa Fe\, 2000\, Argentina
CATEGORIES:Santa Fe,Facultades,Ciencias de la Salud,Rafaela,Sedes,Licenciatura en Obstetricia
GEO:-32.9491666;-60.6519119
X-APPLE-STRUCTURED-LOCATION;VALUE=URI;X-ADDRESS=UCSF Sede Rosario Moreno 1056 Rosario Santa Fe 2000 Argentina;X-APPLE-RADIUS=500;X-TITLE=Moreno 1056:geo:-60.6519119,-32.9491666
END:VEVENT
BEGIN:VEVENT
DTSTART;TZID=America/Sao_Paulo:20180628T110000
DTEND;TZID=America/Sao_Paulo:20180628T153000
DTSTAMP:20260424T023837
CREATED:20180508T145404Z
LAST-MODIFIED:20180508T145404Z
UID:41389-1530183600-1530199800@www.ucsf.edu.ar
SUMMARY:Taller de Figura Humana
DESCRIPTION:
URL:https://www.ucsf.edu.ar/evento/taller-de-figura-humana-2-2/
LOCATION:UCSF Santa Fe\, Echagüe 7151\, Santa Fe\, Santa Fe\, Argentina
CATEGORIES:Facultades,Licenciatura en Arte y Diseño Multimedial,Carreras de Grado
GEO:-31.6069451;-60.6709418
X-APPLE-STRUCTURED-LOCATION;VALUE=URI;X-ADDRESS=UCSF Santa Fe Echagüe 7151 Santa Fe Santa Fe Argentina;X-APPLE-RADIUS=500;X-TITLE=Echagüe 7151:geo:-60.6709418,-31.6069451
END:VEVENT
BEGIN:VEVENT
DTSTART;TZID=America/Sao_Paulo:20180628T110000
DTEND;TZID=America/Sao_Paulo:20180628T153000
DTSTAMP:20260424T023837
CREATED:20180508T145404Z
LAST-MODIFIED:20180508T145404Z
UID:16192-1530183600-1530199800@www.ucsf.edu.ar
SUMMARY:Taller de Figura Humana
DESCRIPTION:
URL:https://www.ucsf.edu.ar/evento/taller-de-figura-humana-2/
LOCATION:UCSF Santa Fe\, Echagüe 7151\, Santa Fe\, Santa Fe\, Argentina
CATEGORIES:Facultades,Licenciatura en Arte y Diseño Multimedial,Carreras de Grado
GEO:-31.6069451;-60.6709418
X-APPLE-STRUCTURED-LOCATION;VALUE=URI;X-ADDRESS=UCSF Santa Fe Echagüe 7151 Santa Fe Santa Fe Argentina;X-APPLE-RADIUS=500;X-TITLE=Echagüe 7151:geo:-60.6709418,-31.6069451
END:VEVENT
END:VCALENDAR