BEGIN:VCALENDAR
VERSION:2.0
PRODID:-//UCSF - Universidad Católica de Santa Fe - ECPv5.14.2.1//NONSGML v1.0//EN
CALSCALE:GREGORIAN
METHOD:PUBLISH
X-WR-CALNAME:UCSF - Universidad Católica de Santa Fe
X-ORIGINAL-URL:https://www.ucsf.edu.ar
X-WR-CALDESC:Events for UCSF - Universidad Católica de Santa Fe
REFRESH-INTERVAL;VALUE=DURATION:PT1H
X-Robots-Tag:noindex
X-PUBLISHED-TTL:PT1H
BEGIN:VTIMEZONE
TZID:America/Sao_Paulo
BEGIN:STANDARD
TZOFFSETFROM:-0200
TZOFFSETTO:-0300
TZNAME:-03
DTSTART:20180218T020000
END:STANDARD
BEGIN:DAYLIGHT
TZOFFSETFROM:-0300
TZOFFSETTO:-0200
TZNAME:-02
DTSTART:20181104T030000
END:DAYLIGHT
END:VTIMEZONE
BEGIN:VEVENT
DTSTART;TZID=America/Sao_Paulo:20180803T150000
DTEND;TZID=America/Sao_Paulo:20180804T120000
DTSTAMP:20260424T011211
CREATED:20180604T110920Z
LAST-MODIFIED:20180604T110920Z
UID:41409-1533308400-1533384000@www.ucsf.edu.ar
SUMMARY:Diagnóstico por Imágenes para Fonoaudiología
DESCRIPTION:El 3 y 4 de agosto se llevará a cabo el curso “Diagnóstico por imagenes para Fonoaudiología”\, organizado por la Licenciatura en Fonoaudiología de la Facultad de Ciencias de la Salud de la UCSF. \nLos disertantes serán: \nPablo Di Filippo\, médico por la UNNER\, especialista en diagnóstico por imágenes por la Sociedad Argentina de Radiología\, especialista en Diagnóstico por Imágenes de la UBA\, Fellowship en Intervencionismo Percutáneo en el Hospital Italiano de Bs. As. \nDerian Enria\, médico por la UNL\, residente de Diagnóstico por imágenes en el Sanatorio San Jerónimo. \nPara ver el programa completo\, accedé al link que se encuentra a la derecha. \nPara consultas escribí a salud@ucsf.edu.ar o llamá al 0342 4603030 interno 185 \nINSCRIBITE HACIENDO CLICK AQUÍ
URL:https://www.ucsf.edu.ar/evento/diagnostico-por-imagenes-para-fonoaudiologia-2/
LOCATION:UCSF Santa Fe\, Echagüe 7151\, Santa Fe\, Santa Fe\, Argentina
CATEGORIES:Facultades,PUA, Programa Universidad Abierta,Santa Fe,Ciencias de la Salud,Carreras de Grado,Licenciatura en Bioimágenes,Licenciatura en Gerontología (CCC),Rafaela,Licenciatura en Enfermería,Sedes,Licenciatura en Fonoaudiología,IEHDS Instituto de Ecología Humana y Desarrollo Sustentable,Institutos,Licenciatura en Kinesiología y Fisioterapia,Licenciatura en Nutrición,Licenciatura en Obstetricia,Licenciatura en Terapia Ocupacional,IIFCS Instituto de Investigación de la Facultad de Ciencias de la Salud
GEO:-31.6069451;-60.6709418
X-APPLE-STRUCTURED-LOCATION;VALUE=URI;X-ADDRESS=UCSF Santa Fe Echagüe 7151 Santa Fe Santa Fe Argentina;X-APPLE-RADIUS=500;X-TITLE=Echagüe 7151:geo:-60.6709418,-31.6069451
END:VEVENT
BEGIN:VEVENT
DTSTART;TZID=America/Sao_Paulo:20180803T150000
DTEND;TZID=America/Sao_Paulo:20180804T120000
DTSTAMP:20260424T011211
CREATED:20180604T110920Z
LAST-MODIFIED:20180705T144427Z
UID:16497-1533308400-1533384000@www.ucsf.edu.ar
SUMMARY:Diagnóstico por Imágenes para Fonoaudiología
DESCRIPTION:El 3 y 4 de agosto se llevará a cabo el curso “Diagnóstico por imagenes para Fonoaudiología”\, organizado por la Licenciatura en Fonoaudiología de la Facultad de Ciencias de la Salud de la UCSF. \nLos disertantes serán: \nPablo Di Filippo\, médico por la UNNER\, especialista en diagnóstico por imágenes por la Sociedad Argentina de Radiología\, especialista en Diagnóstico por Imágenes de la UBA\, Fellowship en Intervencionismo Percutáneo en el Hospital Italiano de Bs. As. \nDerian Enria\, médico por la UNL\, residente de Diagnóstico por imágenes en el Sanatorio San Jerónimo. \nPara ver el programa completo\, accedé al link que se encuentra a la derecha. \nPara consultas escribí a salud@ucsf.edu.ar o llamá al 0342 4603030 interno 185 \nINSCRIBITE HACIENDO CLICK AQUÍ
URL:https://www.ucsf.edu.ar/evento/diagnostico-por-imagenes-para-fonoaudiologia/
LOCATION:UCSF Santa Fe\, Echagüe 7151\, Santa Fe\, Santa Fe\, Argentina
CATEGORIES:Facultades,PUA, Programa Universidad Abierta,Santa Fe,Ciencias de la Salud,Carreras de Grado,Licenciatura en Bioimágenes,Licenciatura en Gerontología (CCC),Rafaela,Licenciatura en Enfermería,Sedes,Licenciatura en Fonoaudiología,IEHDS Instituto de Ecología Humana y Desarrollo Sustentable,Institutos,Licenciatura en Kinesiología y Fisioterapia,Licenciatura en Nutrición,Licenciatura en Obstetricia,Licenciatura en Terapia Ocupacional,IIFCS Instituto de Investigación de la Facultad de Ciencias de la Salud
GEO:-31.6069451;-60.6709418
X-APPLE-STRUCTURED-LOCATION;VALUE=URI;X-ADDRESS=UCSF Santa Fe Echagüe 7151 Santa Fe Santa Fe Argentina;X-APPLE-RADIUS=500;X-TITLE=Echagüe 7151:geo:-60.6709418,-31.6069451
END:VEVENT
BEGIN:VEVENT
DTSTART;TZID=America/Sao_Paulo:20180804T083000
DTEND;TZID=America/Sao_Paulo:20180804T123000
DTSTAMP:20260424T011211
CREATED:20180618T112022Z
LAST-MODIFIED:20180727T120540Z
UID:16761-1533371400-1533385800@www.ucsf.edu.ar
SUMMARY:Terapia Ocupacional: Ecos del Congreso Mundial en Sudáfrica 2018.
DESCRIPTION:ECOS DEL CONGRESO MUNDIAL EN SUDAFRICA DE TERAPIA OCUPACIONAL \nLas T.O Marta Suter y Natalia Lindel\, asistentes al Congreso Mundial de Terapia Ocupacional  llevado a cabo en Sudáfrica en mayo pasado\, compartirán los ECOS de su participación y los nuevos desafíos en terapia ocupacional. \nInscribite aquí – Se otorgarán certificados
URL:https://www.ucsf.edu.ar/evento/terapia-ocupacional-ecos-del-congreso-mundial-en-sudafrica-2018/
LOCATION:UCSF Santa Fe\, Echagüe 7151\, Santa Fe\, Santa Fe\, Argentina
CATEGORIES:Facultades,Santa Fe,Ciencias de la Salud,Rafaela,Sedes,Licenciatura en Kinesiología y Fisioterapia,Licenciatura en Terapia Ocupacional
GEO:-31.6069451;-60.6709418
X-APPLE-STRUCTURED-LOCATION;VALUE=URI;X-ADDRESS=UCSF Santa Fe Echagüe 7151 Santa Fe Santa Fe Argentina;X-APPLE-RADIUS=500;X-TITLE=Echagüe 7151:geo:-60.6709418,-31.6069451
END:VEVENT
BEGIN:VEVENT
DTSTART;TZID=America/Sao_Paulo:20180804T083000
DTEND;TZID=America/Sao_Paulo:20180804T123000
DTSTAMP:20260424T011211
CREATED:20180618T112022Z
LAST-MODIFIED:20180618T112022Z
UID:41414-1533371400-1533385800@www.ucsf.edu.ar
SUMMARY:Terapia Ocupacional: Ecos del Congreso Mundial en Sudáfrica 2018.
DESCRIPTION:ECOS DEL CONGRESO MUNDIAL EN SUDAFRICA DE TERAPIA OCUPACIONAL \nLas T.O Marta Suter y Natalia Lindel\, asistentes al Congreso Mundial de Terapia Ocupacional  llevado a cabo en Sudáfrica en mayo pasado\, compartirán los ECOS de su participación y los nuevos desafíos en terapia ocupacional. \nInscribite aquí – Se otorgarán certificados
URL:https://www.ucsf.edu.ar/evento/terapia-ocupacional-ecos-del-congreso-mundial-en-sudafrica-2018-2/
LOCATION:UCSF Santa Fe\, Echagüe 7151\, Santa Fe\, Santa Fe\, Argentina
CATEGORIES:Facultades,Santa Fe,Ciencias de la Salud,Rafaela,Sedes,Licenciatura en Kinesiología y Fisioterapia,Licenciatura en Terapia Ocupacional
GEO:-31.6069451;-60.6709418
X-APPLE-STRUCTURED-LOCATION;VALUE=URI;X-ADDRESS=UCSF Santa Fe Echagüe 7151 Santa Fe Santa Fe Argentina;X-APPLE-RADIUS=500;X-TITLE=Echagüe 7151:geo:-60.6709418,-31.6069451
END:VEVENT
END:VCALENDAR