BEGIN:VCALENDAR
VERSION:2.0
PRODID:-//UCSF - Universidad Católica de Santa Fe - ECPv5.14.2.1//NONSGML v1.0//EN
CALSCALE:GREGORIAN
METHOD:PUBLISH
X-WR-CALNAME:UCSF - Universidad Católica de Santa Fe
X-ORIGINAL-URL:https://www.ucsf.edu.ar
X-WR-CALDESC:Events for UCSF - Universidad Católica de Santa Fe
REFRESH-INTERVAL;VALUE=DURATION:PT1H
X-Robots-Tag:noindex
X-PUBLISHED-TTL:PT1H
BEGIN:VTIMEZONE
TZID:America/Sao_Paulo
BEGIN:STANDARD
TZOFFSETFROM:-0200
TZOFFSETTO:-0300
TZNAME:-03
DTSTART:20180218T020000
END:STANDARD
BEGIN:DAYLIGHT
TZOFFSETFROM:-0300
TZOFFSETTO:-0200
TZNAME:-02
DTSTART:20181104T030000
END:DAYLIGHT
END:VTIMEZONE
BEGIN:VEVENT
DTSTART;VALUE=DATE:20180806
DTEND;VALUE=DATE:20180807
DTSTAMP:20260424T011140
CREATED:20180614T221625Z
LAST-MODIFIED:20180614T222237Z
UID:16705-1533513600-1533599999@www.ucsf.edu.ar
SUMMARY:Curso Virtual de Postgrado “Gestión del talento en las organizaciones”
DESCRIPTION:Está destinado a profesionales con título de grado y/o estudiantes avanzados de las carreras de Contador Público\, Licenciado en Administración\, Licenciado en Administración de Recursos Humanos\, y carreras afines; así como a personas que demuestren más de 1 año de experiencia en Áreas de Recursos Humanos. \nEl curso estará dirigido por el Licenciado Álvaro Irigoitia Romero y los acompañarán los tutores Magíster María Laura Ocampo y el Licenciado Federico Fernández.
URL:https://www.ucsf.edu.ar/evento/curso-virtual-de-postgrado-gestion-del-talento-en-las-organizaciones/
CATEGORIES:UVT, Unidad de Vincullación Tecnológica
END:VEVENT
BEGIN:VEVENT
DTSTART;VALUE=DATE:20180806
DTEND;VALUE=DATE:20180807
DTSTAMP:20260424T011140
CREATED:20180614T221625Z
LAST-MODIFIED:20180614T221625Z
UID:41413-1533513600-1533599999@www.ucsf.edu.ar
SUMMARY:Curso Virtual de Postgrado “Gestión del talento en las organizaciones”
DESCRIPTION:Está destinado a profesionales con título de grado y/o estudiantes avanzados de las carreras de Contador Público\, Licenciado en Administración\, Licenciado en Administración de Recursos Humanos\, y carreras afines; así como a personas que demuestren más de 1 año de experiencia en Áreas de Recursos Humanos. \nEl curso estará dirigido por el Licenciado Álvaro Irigoitia Romero y los acompañarán los tutores Magíster María Laura Ocampo y el Licenciado Federico Fernández.
URL:https://www.ucsf.edu.ar/evento/curso-virtual-de-postgrado-gestion-del-talento-en-las-organizaciones-2/
CATEGORIES:UVT, Unidad de Vincullación Tecnológica
END:VEVENT
BEGIN:VEVENT
DTSTART;TZID=America/Sao_Paulo:20180806T130000
DTEND;TZID=America/Sao_Paulo:20180806T200000
DTSTAMP:20260424T011140
CREATED:20180803T181931Z
LAST-MODIFIED:20180803T182319Z
UID:17194-1533560400-1533585600@www.ucsf.edu.ar
SUMMARY:Jornada de oración por la vida
DESCRIPTION:Uno de los objetivos de la Pastoral Universitaria es encarnar la fe en sus actividades diarias\, con momentos significativos para la reflexión y la oración. En estos momentos donde nuestra sociedad se encuentra debatiendo sobre el valor de la vida desde la concepción en el seno materno\, la Pastoral propone espacios para acompañar y defender este valor. En esta ocasión\, se trata de una tarde de Adoración Eucarística.
URL:https://www.ucsf.edu.ar/evento/jornada-de-oracion-por-la-vida/
CATEGORIES:Home principal,Santa Fe,Sedes
ORGANIZER;CN="Vicerrectorado%20de%20Formaci%C3%B3n":MAILTO:vrecform@ucsf.edu.ar
END:VEVENT
BEGIN:VEVENT
DTSTART;TZID=America/Sao_Paulo:20180806T130000
DTEND;TZID=America/Sao_Paulo:20180806T200000
DTSTAMP:20260424T011140
CREATED:20180803T181931Z
LAST-MODIFIED:20180803T181931Z
UID:41416-1533560400-1533585600@www.ucsf.edu.ar
SUMMARY:Jornada de oración por la vida
DESCRIPTION:Uno de los objetivos de la Pastoral Universitaria es encarnar la fe en sus actividades diarias\, con momentos significativos para la reflexión y la oración. En estos momentos donde nuestra sociedad se encuentra debatiendo sobre el valor de la vida desde la concepción en el seno materno\, la Pastoral propone espacios para acompañar y defender este valor. En esta ocasión\, se trata de una tarde de Adoración Eucarística.
URL:https://www.ucsf.edu.ar/evento/jornada-de-oracion-por-la-vida-2/
CATEGORIES:Home principal,Santa Fe,Sedes
ORGANIZER;CN="Vicerrectorado%20de%20Formaci%C3%B3n":MAILTO:vrecform@ucsf.edu.ar
END:VEVENT
BEGIN:VEVENT
DTSTART;TZID=America/Sao_Paulo:20180810T090000
DTEND;TZID=America/Sao_Paulo:20180811T120000
DTSTAMP:20260424T011140
CREATED:20180613T092155Z
LAST-MODIFIED:20180723T162706Z
UID:16599-1533891600-1533988800@www.ucsf.edu.ar
SUMMARY:Ecologia del parto. Curso Universitario de Capacitación.
DESCRIPTION:Resolucion Rectorado Nro 10355 \n“Para cambiar el mundo hay que cambiar primero la forma en que nacemos”\, dice Michel Odent\, uno de los principales escritores sobre la ecología del nacimiento. Y es que frente a la necesidad de revisar en forma profunda los cambios culturales que necesitamos para seguir viviendo en nuestro planeta\, de la misma manera\, se ha demostrado que no es indiferente para la madre y el recién nacido\, la forma de nacer. \n Leer más arriba a la derecha: Url del evento. \n  \nOtorga certificado con 18 hs. Cátedra. \n 
URL:https://www.ucsf.edu.ar/evento/ecologia-del-parto-curso-universitario-de-capacitacion/
LOCATION:UCSF Santa Fe\, Echagüe 7151\, Santa Fe\, Santa Fe\, Argentina
CATEGORIES:Santa Fe,Facultades,Ciencias de la Salud,Licenciatura en Gerontología (CCC),Rafaela,Sedes,IEHDS Instituto de Ecología Humana y Desarrollo Sustentable,Licenciatura en Nutrición,Licenciatura en Obstetricia,Licenciatura en Terapia Ocupacional,IIFCS Instituto de Investigación de la Facultad de Ciencias de la Salud
GEO:-31.6069451;-60.6709418
X-APPLE-STRUCTURED-LOCATION;VALUE=URI;X-ADDRESS=UCSF Santa Fe Echagüe 7151 Santa Fe Santa Fe Argentina;X-APPLE-RADIUS=500;X-TITLE=Echagüe 7151:geo:-60.6709418,-31.6069451
END:VEVENT
BEGIN:VEVENT
DTSTART;TZID=America/Sao_Paulo:20180810T090000
DTEND;TZID=America/Sao_Paulo:20180811T120000
DTSTAMP:20260424T011140
CREATED:20180613T092155Z
LAST-MODIFIED:20180613T092155Z
UID:41411-1533891600-1533988800@www.ucsf.edu.ar
SUMMARY:Ecologia del parto. Curso Universitario de Capacitación.
DESCRIPTION:Resolucion Rectorado Nro 10355 \n“Para cambiar el mundo hay que cambiar primero la forma en que nacemos”\, dice Michel Odent\, uno de los principales escritores sobre la ecología del nacimiento. Y es que frente a la necesidad de revisar en forma profunda los cambios culturales que necesitamos para seguir viviendo en nuestro planeta\, de la misma manera\, se ha demostrado que no es indiferente para la madre y el recién nacido\, la forma de nacer. \n Leer más arriba a la derecha: Url del evento. \n  \nOtorga certificado con 18 hs. Cátedra. \n 
URL:https://www.ucsf.edu.ar/evento/ecologia-del-parto-curso-universitario-de-capacitacion-2/
LOCATION:UCSF Santa Fe\, Echagüe 7151\, Santa Fe\, Santa Fe\, Argentina
CATEGORIES:Santa Fe,Facultades,Ciencias de la Salud,Licenciatura en Gerontología (CCC),Rafaela,Sedes,IEHDS Instituto de Ecología Humana y Desarrollo Sustentable,Licenciatura en Nutrición,Licenciatura en Obstetricia,Licenciatura en Terapia Ocupacional,IIFCS Instituto de Investigación de la Facultad de Ciencias de la Salud
GEO:-31.6069451;-60.6709418
X-APPLE-STRUCTURED-LOCATION;VALUE=URI;X-ADDRESS=UCSF Santa Fe Echagüe 7151 Santa Fe Santa Fe Argentina;X-APPLE-RADIUS=500;X-TITLE=Echagüe 7151:geo:-60.6709418,-31.6069451
END:VEVENT
BEGIN:VEVENT
DTSTART;TZID=America/Sao_Paulo:20180811T080000
DTEND;TZID=America/Sao_Paulo:20180811T120000
DTSTAMP:20260424T011141
CREATED:20180731T212726Z
LAST-MODIFIED:20180731T212726Z
UID:17154-1533974400-1533988800@www.ucsf.edu.ar
SUMMARY:Curso “El sujeto alucinado de Luigi Pirandello”
DESCRIPTION:Disertante: Dr. Daniel Del Percio\, miembro de ADILLI (Asociación de Docentes en Lengua y Literatura italianas). \nEstá destinado a docentes del área académica de Lengua y Literatura en actividad o jubilados que ven el cursado de los Seminarios como una posibilidad de continuar con la capacitación y actualización permanentes; a alumnos y egresados de los profesorados de Lengua y Literatura y Filosofía y a profesionales o interesados de otros ámbitos no relacionados con la docencia que desean profundizar y sistematizar lecturas y estudios literarios no formales.
URL:https://www.ucsf.edu.ar/evento/curso-el-sujeto-alucinado-de-luigi-pirandello/
LOCATION:UCSF Santa Fe\, Echagüe 7151\, Santa Fe\, Santa Fe\, Argentina
CATEGORIES:Santa Fe,Facultades,Sedes
GEO:-31.6069451;-60.6709418
X-APPLE-STRUCTURED-LOCATION;VALUE=URI;X-ADDRESS=UCSF Santa Fe Echagüe 7151 Santa Fe Santa Fe Argentina;X-APPLE-RADIUS=500;X-TITLE=Echagüe 7151:geo:-60.6709418,-31.6069451
END:VEVENT
BEGIN:VEVENT
DTSTART;TZID=America/Sao_Paulo:20180811T080000
DTEND;TZID=America/Sao_Paulo:20180811T120000
DTSTAMP:20260424T011141
CREATED:20180731T212726Z
LAST-MODIFIED:20180731T212726Z
UID:41415-1533974400-1533988800@www.ucsf.edu.ar
SUMMARY:Curso “El sujeto alucinado de Luigi Pirandello”
DESCRIPTION:Disertante: Dr. Daniel Del Percio\, miembro de ADILLI (Asociación de Docentes en Lengua y Literatura italianas). \nEstá destinado a docentes del área académica de Lengua y Literatura en actividad o jubilados que ven el cursado de los Seminarios como una posibilidad de continuar con la capacitación y actualización permanentes; a alumnos y egresados de los profesorados de Lengua y Literatura y Filosofía y a profesionales o interesados de otros ámbitos no relacionados con la docencia que desean profundizar y sistematizar lecturas y estudios literarios no formales.
URL:https://www.ucsf.edu.ar/evento/curso-el-sujeto-alucinado-de-luigi-pirandello-2/
LOCATION:UCSF Santa Fe\, Echagüe 7151\, Santa Fe\, Santa Fe\, Argentina
CATEGORIES:Santa Fe,Facultades,Sedes
GEO:-31.6069451;-60.6709418
X-APPLE-STRUCTURED-LOCATION;VALUE=URI;X-ADDRESS=UCSF Santa Fe Echagüe 7151 Santa Fe Santa Fe Argentina;X-APPLE-RADIUS=500;X-TITLE=Echagüe 7151:geo:-60.6709418,-31.6069451
END:VEVENT
END:VCALENDAR