BEGIN:VCALENDAR
VERSION:2.0
PRODID:-//UCSF - Universidad Católica de Santa Fe - ECPv5.14.2.1//NONSGML v1.0//EN
CALSCALE:GREGORIAN
METHOD:PUBLISH
X-WR-CALNAME:UCSF - Universidad Católica de Santa Fe
X-ORIGINAL-URL:https://www.ucsf.edu.ar
X-WR-CALDESC:Events for UCSF - Universidad Católica de Santa Fe
REFRESH-INTERVAL;VALUE=DURATION:PT1H
X-Robots-Tag:noindex
X-PUBLISHED-TTL:PT1H
BEGIN:VTIMEZONE
TZID:America/Sao_Paulo
BEGIN:STANDARD
TZOFFSETFROM:-0200
TZOFFSETTO:-0300
TZNAME:-03
DTSTART:20180218T020000
END:STANDARD
BEGIN:DAYLIGHT
TZOFFSETFROM:-0300
TZOFFSETTO:-0200
TZNAME:-02
DTSTART:20181104T030000
END:DAYLIGHT
END:VTIMEZONE
BEGIN:VEVENT
DTSTART;TZID=America/Sao_Paulo:20180831T170000
DTEND;TZID=America/Sao_Paulo:20180831T200000
DTSTAMP:20260424T000147
CREATED:20180808T235311Z
LAST-MODIFIED:20180809T170317Z
UID:17245-1535734800-1535745600@www.ucsf.edu.ar
SUMMARY:CURSO EXCEL PARA LOS NEGOCIOS
DESCRIPTION:
URL:https://www.ucsf.edu.ar/evento/curso-excel-para-los-negocios-2/
LOCATION:UCSF Santa Fe\, Echagüe 7151\, Santa Fe\, Santa Fe\, Argentina
CATEGORIES:Licenciatura en Administración de Cooperativas y Mutuales ,Santa Fe,Facultades,Contador Público,Carreras de Grado,Ciencias Económicas,Licenciatura en Administración ,Licenciatura en Economía,Reconquista,Licenciatura en Sistemas de Información,Gualeguaychú,Técnico Universitario en Cooperativas y Mutuales,Sedes,Técnico Universitario Administrativo-Contable
GEO:-31.6069451;-60.6709418
X-APPLE-STRUCTURED-LOCATION;VALUE=URI;X-ADDRESS=UCSF Santa Fe Echagüe 7151 Santa Fe Santa Fe Argentina;X-APPLE-RADIUS=500;X-TITLE=Echagüe 7151:geo:-60.6709418,-31.6069451
END:VEVENT
BEGIN:VEVENT
DTSTART;TZID=America/Sao_Paulo:20180831T170000
DTEND;TZID=America/Sao_Paulo:20180831T200000
DTSTAMP:20260424T000147
CREATED:20180808T235311Z
LAST-MODIFIED:20180808T235311Z
UID:41418-1535734800-1535745600@www.ucsf.edu.ar
SUMMARY:CURSO EXCEL PARA LOS NEGOCIOS
DESCRIPTION:
URL:https://www.ucsf.edu.ar/evento/curso-excel-para-los-negocios-2-2/
LOCATION:UCSF Santa Fe\, Echagüe 7151\, Santa Fe\, Santa Fe\, Argentina
CATEGORIES:Licenciatura en Administración de Cooperativas y Mutuales ,Santa Fe,Facultades,Contador Público,Carreras de Grado,Ciencias Económicas,Licenciatura en Administración ,Licenciatura en Economía,Reconquista,Licenciatura en Sistemas de Información,Gualeguaychú,Técnico Universitario en Cooperativas y Mutuales,Sedes,Técnico Universitario Administrativo-Contable
GEO:-31.6069451;-60.6709418
X-APPLE-STRUCTURED-LOCATION;VALUE=URI;X-ADDRESS=UCSF Santa Fe Echagüe 7151 Santa Fe Santa Fe Argentina;X-APPLE-RADIUS=500;X-TITLE=Echagüe 7151:geo:-60.6709418,-31.6069451
END:VEVENT
END:VCALENDAR